{"text_format":"1","workbook":"xlsx","n_sheets":7,"sheets":["Poule A","Poule B","Gele-Rode kaart","BEGELEIDERS","Begeleiders kaartjes","Topscoorder","Topscoorder totaal"],"not_rendered":{"charts":0,"images":1,"macros":0,"external_links":0,"defined_names":0,"comments":0,"pivot_tables":0},"unopened":[],"bounds":{"document_bytes":16777216,"sheet_cells":100000,"rows_first":2000,"rows_last":500,"rows_between":2000,"halvings":0,"cell_chars":16384,"cell_head_chars":4096},"cells_cut":0,"cells_raw":0,"read":"whole","date_system":"1900"}

{"sheet":"Poule A","index":0,"n_rows":27,"n_cols":10,"rows_kept":27,"cut":false,"hidden":false,"merged":[[15,2,15,4],[3,9,3,10],[4,9,4,10],[9,9,9,10],[5,9,5,10],[6,9,6,10],[7,9,7,10],[8,9,8,10],[2,7,2,8],[19,2,19,4],[20,2,20,4],[21,2,21,4],[22,2,22,4],[18,2,18,4],[16,2,16,4],[11,8,11,10],[12,5,12,7],[13,5,13,7],[14,5,14,7],[15,5,15,7],[16,5,16,7],[12,2,12,4],[13,2,13,4],[14,2,14,4],[23,2,23,4],[0,3,0,10],[24,5,24,7],[25,5,25,7],[26,5,26,7],[17,5,17,7],[18,5,18,7],[19,5,19,7],[20,5,20,7],[21,5,21,7],[22,5,22,7],[23,5,23,7],[24,2,24,4],[25,2,25,4],[26,2,26,4],[17,2,17,4]]}
["JO 12/13                 ",null,null,"Poule A"]
[null," "]
[null,null,null,null,null,null,null,"DOELSALDO"]
["VERENIGING",null,"GESP","GEW","GEL","VERL","PNT","VOOR","TEGEN","PLAATS"]
["FC Volendam",null,null,null,null,null,null,{"$f":" SUM(I13,K17,K21,I22,K26)","v":0},{"$f":"SUM(K13,I17,I21,I26,K22)","v":0}]
["FC Den Bosch",null,null,null,null,null,null,{"$f":"SUM(I14,I18,K19,K24,I26)","v":0},{"$f":"SUM(K14,K18,I19,I24,K26)","v":0}]
["Fortuna Köln",null,null,null,null,null,null,{"$f":"SUM(I15,K18,I20,I27,K22)","v":0},{"$f":"SUM(K15,I18,K20,I22,K27)","v":0}]
["NAC Breda",null,null,null,null,null,null,{"$f":"SUM(K14,K16,I21,K27,I23)","v":0},{"$f":"SUM(I14,I16,K21,K23,I27)","v":0}]
["Allemania Aachen",null,null,null,null,null,null,{"$f":"SUM(K15,I17,I19,K23,I25)","v":0},{"$f":"SUM(I15,K17,K19,I23,K25)","v":0}]
["CVV Vriendenschaar",null,null,null,null,null,null,{"$f":"SUM(K13,I16,K20,I24,K25)","v":0},{"$f":"SUM(I13,K16,I20,K24,I25)","v":0}]
[]
["TIJD","VELD","VERENIGING",null,null,"VERENIGING",null,null,"UITSLAG"]
["10.00",1,{"$f":"A5","v":"FC Volendam"},null,null,{"$f":"A10","v":"CVV Vriendenschaar"},null,null,null,"-"]
["10.00",2,{"$f":"A6","v":"FC Den Bosch"},null,null,{"$f":"A8","v":"NAC Breda"},null,null,null,"-"]
["10.00",3,{"$f":"A7","v":"Fortuna Köln"},null,null,{"$f":"A9","v":"Allemania Aachen"},null,null,null,"-"]
["10.50",1,{"$f":"A10","v":"CVV Vriendenschaar"},null,null,{"$f":"A8","v":"NAC Breda"},null,null,null,"-"]
["10.50",2,{"$f":"A9","v":"Allemania Aachen"},null,null,{"$f":"A5","v":"FC Volendam"},null,null,null,"-"]
["10.50",3,{"$f":"A6","v":"FC Den Bosch"},null,null,{"$f":"A7","v":"Fortuna Köln"},null,null,null,"-"]
["11.40",1,{"$f":"A9","v":"Allemania Aachen"},null,null,{"$f":"A6","v":"FC Den Bosch"},null,null,null,"-"]
["11.40",2,{"$f":"A7","v":"Fortuna Köln"},null,null,{"$f":"A10","v":"CVV Vriendenschaar"},null,null,null,"-"]
["11.40",3,{"$f":"A8","v":"NAC Breda"},null,null,{"$f":"A5","v":"FC Volendam"},null,null,null,"-"]
["13.00",1,{"$f":"A5","v":"FC Volendam"},null,null,{"$f":"A7","v":"Fortuna Köln"},null,null,null,"-"]
["13.00",2,{"$f":"A8","v":"NAC Breda"},null,null,{"$f":"A9","v":"Allemania Aachen"},null,null,null,"-"]
["13.00",3,{"$f":"A10","v":"CVV Vriendenschaar"},null,null,{"$f":"A6","v":"FC Den Bosch"},null,null,null,"-"]
["13.50",1,{"$f":"A9","v":"Allemania Aachen"},null,null,{"$f":"A10","v":"CVV Vriendenschaar"},null,null,null,"-"]
["13.50",2,{"$f":"A6","v":"FC Den Bosch"},null,null,{"$f":"A5","v":"FC Volendam"},null,null,null,"-"]
["13.50",3,{"$f":"A7","v":"Fortuna Köln"},null,null,{"$f":"A8","v":"NAC Breda"},null,null,null,"-"]

{"sheet":"Poule B","index":1,"n_rows":27,"n_cols":10,"rows_kept":27,"cut":false,"hidden":false,"merged":[[9,0,9,1],[2,7,2,8],[3,9,3,10],[4,9,4,10],[5,9,5,10],[9,9,9,10],[8,9,8,10],[7,9,7,10],[7,0,7,1],[8,0,8,1],[4,0,4,1],[5,0,5,1],[6,0,6,1],[6,9,6,10],[17,2,17,4],[18,2,18,4],[11,8,11,10],[26,5,26,7],[18,5,18,7],[19,2,19,4],[16,5,16,7],[12,2,12,4],[13,2,13,4],[14,2,14,4],[15,2,15,4],[12,5,12,7],[13,5,13,7],[14,5,14,7],[15,5,15,7],[0,2,0,10],[20,2,20,4],[26,2,26,4],[17,5,17,7],[20,5,20,7],[21,5,21,7],[22,5,22,7],[21,2,21,4],[22,2,22,4],[23,2,23,4],[24,2,24,4],[25,2,25,4],[23,5,23,7],[24,5,24,7],[25,5,25,7],[16,2,16,4]]}
["JO 12/13                  ",null,"Poule B"]
[null," "]
[null,null,null,null,null,null,null,"DOELSALDO"]
["VERENIGING",null,"GESP","GEW","GEL","VERL","PNT","VOOR","TEGEN","PLAATS"]
["NEC Nijmegen",null,null,null,null,null,null,{"$f":" SUM(I13,K17,K21,I22,K26)","v":0},{"$f":"SUM(K13,I17,K22,I26,I21)","v":0}]
["Wuppertaler SV",null,null,null,null,null,null,{"$f":"SUM(I14,I18,K19,K24,I26)","v":0},{"$f":"SUM(K14,K18,I19,I24,K26)","v":0}]
["S.B.V. Excelsior",null,null,null,null,null,null,{"$f":"SUM(I15,K18,I20,K22,I27,I27)","v":0},{"$f":"SUM(K15,I18,K20,I22,K27)","v":0}]
["Roda JC",null,null,null,null,null,null,{"$f":"SUM(K14,I21,K16,I23,K27)","v":0},{"$f":"SUM(I14,I16,K21,I27,K23)","v":0}]
["FC Eindhoven",null,null,null,null,null,null,{"$f":"SUM(K15,I17,I19,I25,K23)","v":0},{"$f":"SUM(I15,K17,K19,K25,I23)","v":0}]
["Bermuda eilanden",null,null,null,null,null,null,{"$f":"SUM(K13,I16,K20,K25,I24)","v":0},{"$f":"SUM(I13,I20,K16,I25,K24)","v":0}]
[]
["TIJD","VELD","VERENIGING",null,null,"VERENIGING",null,null,"UITSLAG"]
["10.25",1,{"$f":"A5","v":"NEC Nijmegen"},null,null,{"$f":"A10","v":"Bermuda eilanden"},null,null,null,"-"]
["10.25",2,{"$f":"A6","v":"Wuppertaler SV"},null,null,{"$f":"A8","v":"Roda JC"},null,null,null,"-"]
["10.25",3,{"$f":"A7","v":"S.B.V. Excelsior"},null,null,{"$f":"A9","v":"FC Eindhoven"},null,null,null,"-"]
["11.15",1,{"$f":"A10","v":"Bermuda eilanden"},null,null,{"$f":"A8","v":"Roda JC"},null,null,null,"-"]
["11.15",2,{"$f":"A9","v":"FC Eindhoven"},null,null,{"$f":"A5","v":"NEC Nijmegen"},null,null,null,"-"]
["11.15",3,{"$f":"A6","v":"Wuppertaler SV"},null,null,{"$f":"A7","v":"S.B.V. Excelsior"},null,null,null,"-"]
["12.05",1,{"$f":"A9","v":"FC Eindhoven"},null,null,{"$f":"A6","v":"Wuppertaler SV"},null,null,null,"-"]
["12.05",2,{"$f":"A7","v":"S.B.V. Excelsior"},null,null,{"$f":"A10","v":"Bermuda eilanden"},null,null,null,"-"]
["12.05",3,{"$f":"A8","v":"Roda JC"},null,null,{"$f":"A5","v":"NEC Nijmegen"},null,null,null,"-"]
["13.25",1,{"$f":"A5","v":"NEC Nijmegen"},null,null,{"$f":"A7","v":"S.B.V. Excelsior"},null,null,null,"-"]
["13.25",2,{"$f":"A8","v":"Roda JC"},null,null,{"$f":"A9","v":"FC Eindhoven"},null,null,null,"-"]
["13.25",3,{"$f":"A10","v":"Bermuda eilanden"},null,null,{"$f":"A6","v":"Wuppertaler SV"},null,null,null,"-"]
["14.15",1,{"$f":"A9","v":"FC Eindhoven"},null,null,{"$f":"A10","v":"Bermuda eilanden"},null,null,null,"-"]
["14.15",2,{"$f":"A6","v":"Wuppertaler SV"},null,null,{"$f":"A5","v":"NEC Nijmegen"},null,null,null,"-"]
["14.15",3,{"$f":"A7","v":"S.B.V. Excelsior"},null,null,{"$f":"A8","v":"Roda JC"},null,null,null,"-"]

{"sheet":"Gele-Rode kaart","index":2,"n_rows":32,"n_cols":24,"rows_kept":32,"cut":false,"hidden":true,"merged":[[0,12,0,15],[0,16,0,19],[0,20,0,23],[23,0,23,3],[23,4,23,7],[23,8,23,11],[23,16,23,19],[23,20,23,23],[23,12,23,15],[0,0,0,3],[0,5,0,7],[0,8,0,11]]}
[{"$f":"'Poule A'!A5:B5","v":"FC Volendam"},null,null,null,null,{"$f":"'Poule A'!A6","v":"FC Den Bosch"},null,null,{"$f":"'Poule A'!A7","v":"Fortuna Köln"},null,null,null,{"$f":"'Poule A'!A8","v":"NAC Breda"},null,null,null,{"$f":"'Poule A'!A9","v":"Allemania Aachen"},null,null,null,{"$f":"'Poule A'!A10","v":"CVV Vriendenschaar"}]
[]
["Nr","SPELER","GEEL","ROOD","Nr","SPELER","GEEL","ROOD","Nr","SPELER","GEEL","ROOD","Nr","SPELER","GEEL","ROOD","Nr","SPELER","GEEL","ROOD","Nr","SPELER","GEEL","ROOD"]
[null,null,1,null,7,null,null,1,8,null,1,null,null,null,1,1,null,null,1,null,15,null,1]
[null,null,null,1,null,null,1,null,null,null,1,null,null,null,1,null,null,null,null,null,17,null,1]
[null,null,1,null,null,null,null,null,null,null,null,null,null,null,null,null,null,null,null,null,6,null,1]
[null,null,1]
[null,null,1]
[]
[]
[]
[]
[]
[]
[]
[]
[]
[]
[]
[]
[]
[]
[]
[{"$f":"'Poule B'!A5","v":"NEC Nijmegen"},null,null,null,{"$f":"'Poule B'!A6","v":"Wuppertaler SV"},null,null,null,{"$f":"'Poule B'!A7","v":"S.B.V. Excelsior"},null,null,null,{"$f":"'Poule B'!A8","v":"Roda JC"},null,null,null,{"$f":"'Poule B'!A9","v":"FC Eindhoven"},null,null,null,{"$f":"'Poule B'!A10","v":"Bermuda eilanden"}]
[]
["Nr","SPELER","GEEL","ROOD","Nr","SPELER","GEEL","ROOD","Nr","SPELER","GEEL","ROOD","Nr","SPELER","GEEL","ROOD","Nr","SPELER","GEEL","ROOD","Nr","SPELER","GEEL","ROOD"]
[23,null,1,null,8,null,1,null,18,null,1,null,8,null,1,null,2,null,1,null,10,null,1]
[9,null,1,null,15,null,2,null,10,null,1,1,3,null,1,null,3,null,1]
[21,null,1,null,7,null,1,null,11,null,1,null,null,null,null,null,11,null,1]
[23,null,1,null,5,null,1,null,null,null,null,null,null,null,null,null,9,null,1]
[null,null,null,null,9,null,1]
[null,null,null,null,18,null,1]

{"sheet":"BEGELEIDERS","index":3,"n_rows":15,"n_cols":5,"rows_kept":15,"cut":false,"hidden":true,"merged":[]}
["Teambegeleiders 2012"]
[]
["Ploegen","Teambegeleiders","Kleedkamer","AANTAL","tijd"]
["K.A.A.Gent","Edwin v. Dijk",5,16,"13.00"]
["Zenit St.Petersburg","Fred Hovestad",6,23,"13.00"]
["H.V.& C.V.Quick","Bram v/d Velden",3,17,"13.00"]
["Sparta Rotterdam","Thewie Staal",4,20,"13.00"]
["FC Den Bosch","Ferry Kragten",7,17,"13.00"]
["VVV-Helmondsport","Ama Kora Souhuwat",8,17,"13.00"]
["Lierse SK","Gert Jan Moraal",11,18,"12.15"]
["SK Rapid Wien","Cees v. Kranenburg",10,17,"12.15"]
["FC Groningen","Wilco v. Dijk",13,21,"12.15"]
["Roda JC","Gerrit v/d Mijl",12,18,"12.15"]
["SV Argon","Tjard/Mark",9,16,"12.15"]
["C.V.V. Vriendenschaar","Ron de Jager",14,18,"12.15"]

{"sheet":"Begeleiders kaartjes","index":4,"n_rows":80,"n_cols":180,"rows_kept":80,"cut":false,"hidden":true,"merged":[[74,165,75,167],[74,168,75,168],[74,169,75,171],[74,173,75,175],[74,176,75,176],[74,177,75,179],[76,177,77,177],[76,165,77,166],[76,167,77,167],[76,168,77,168],[76,169,77,169],[76,170,77,170],[76,178,77,178],[76,179,77,179],[78,165,79,165],[78,166,79,168],[78,173,79,173],[78,174,79,176],[76,171,77,171],[76,173,77,174],[76,175,77,175],[76,176,77,176],[53,165,54,166],[53,167,54,167],[53,168,54,168],[53,169,54,169],[53,171,54,171],[53,173,54,174],[68,165,69,167],[68,168,69,171],[68,173,69,175],[68,176,69,179],[70,165,71,167],[70,168,71,171],[70,173,71,175],[70,176,71,179],[53,175,54,175],[53,176,54,176],[53,170,54,170],[0,165,1,167],[0,168,1,171],[0,173,1,175],[0,176,1,179],[2,165,3,167],[2,168,3,171],[2,173,3,175],[2,176,3,179],[31,175,32,175],[31,176,32,176],[31,177,32,177],[31,165,32,166],[31,167,32,167],[31,168,32,168],[31,169,32,169],[31,170,32,170],[47,173,48,175],[47,176,48,179],[31,178,32,178],[31,179,32,179],[33,165,34,165],[33,166,34,168],[33,173,34,173],[33,174,34,176],[31,171,32,171],[31,173,32,174],[8,167,9,167],[8,168,9,168],[8,169,9,169],[8,170,9,170],[45,173,46,175],[47,165,48,167],[10,165,11,165],[10,166,11,168],[10,173,11,173],[10,174,11,176],[8,171,9,171],[8,173,9,174],[29,169,30,171],[29,173,30,175],[29,176,30,176],[29,177,30,179],[23,165,24,167],[23,168,24,171],[23,173,24,175],[23,176,24,179],[25,165,26,167],[25,168,26,171],[76,163,77,163],[76,164,77,164],[29,165,30,167],[29,168,30,168],[31,163,32,163],[31,164,32,164],[49,165,50,168],[45,165,46,167],[45,168,46,171],[51,165,52,167],[51,168,52,168],[51,169,52,171],[51,173,52,175],[47,168,48,171],[55,165,56,165],[55,166,56,168],[74,158,75,160],[74,161,75,161],[74,162,75,164],[31,156,32,156],[31,158,32,159],[31,160,32,160],[31,161,32,161],[31,162,32,162],[68,161,69,164],[70,153,71,156],[76,162,77,162],[76,150,77,151],[76,152,77,152],[76,153,77,153],[76,154,77,154],[76,155,77,155],[78,158,79,158],[78,159,79,161],[76,156,77,156],[76,158,77,159],[76,160,77,160],[76,161,77,161],[78,150,79,150],[78,151,79,153],[74,150,75,152],[74,153,75,153],[74,154,75,156],[70,150,71,152],[72,154,73,156],[55,159,56,161],[53,158,54,159],[53,160,54,160],[53,161,54,161],[53,162,54,162],[68,158,69,160],[55,150,56,150],[55,151,56,153],[53,156,54,156],[53,150,54,151],[53,152,54,152],[53,153,54,153],[31,152,32,152],[31,153,32,153],[31,154,32,154],[31,155,32,155],[68,150,69,152],[68,153,69,156],[53,154,54,154],[53,155,54,155],[33,151,34,153],[6,162,7,164],[0,150,1,152],[0,153,1,156],[0,158,1,160],[0,161,1,164],[2,150,3,152],[2,153,3,156],[2,158,3,160],[2,161,3,164],[4,162,5,164],[33,158,34,158],[6,153,7,153],[6,154,7,156],[6,158,7,160],[29,154,30,156],[29,158,30,160],[33,159,34,161],[10,151,11,153],[6,161,7,161],[29,161,30,161],[8,150,9,151],[8,152,9,152],[8,153,9,153],[8,154,9,154],[8,155,9,155],[27,154,28,156],[31,150,32,151],[10,159,11,161],[8,156,9,156],[8,158,9,159],[8,160,9,160],[8,161,9,161],[78,135,79,135],[78,136,79,138],[78,143,79,143],[78,144,79,146],[76,141,77,141],[76,143,77,144],[76,145,77,145],[29,162,30,164],[23,150,24,152],[23,153,24,156],[23,158,24,160],[23,161,24,164],[25,150,26,152],[25,153,26,156],[25,158,26,160],[25,161,26,164],[76,148,77,148],[76,149,77,149],[29,150,30,152],[29,153,30,153],[53,148,54,148],[53,149,54,149],[31,148,32,148],[31,149,32,149],[72,150,73,153],[33,150,34,150],[51,161,52,161],[51,162,52,164],[45,150,46,152],[45,153,46,156],[45,158,46,160],[45,161,46,164],[72,147,73,149],[68,138,69,141],[74,135,75,137],[74,138,75,138],[74,139,75,141],[74,143,75,145],[74,146,75,146],[74,147,75,149],[76,146,77,146],[76,147,77,147],[76,135,77,136],[76,137,77,137],[76,138,77,138],[76,139,77,139],[76,140,77,140],[8,163,9,163],[8,164,9,164],[10,150,11,150],[47,150,48,152],[47,153,48,156],[47,158,48,160],[47,161,48,164],[51,150,52,152],[51,153,52,153],[51,154,52,156],[8,162,9,162],[10,158,11,158],[70,158,71,160],[70,161,71,164],[53,163,54,163],[53,164,54,164],[55,158,56,158],[45,135,46,137],[45,138,46,141],[45,143,46,145],[45,146,46,149],[47,135,48,137],[47,138,48,141],[55,135,56,135],[55,136,56,138],[55,143,56,143],[55,144,56,146],[53,147,54,147],[53,135,54,136],[53,137,54,137],[53,138,54,138],[53,139,54,139],[53,140,54,140],[68,146,69,149],[49,135,50,138],[49,139,50,141],[49,143,50,146],[49,147,50,149],[51,139,52,141],[51,143,52,145],[68,143,69,145],[29,135,30,137],[29,138,30,138],[53,134,54,134],[31,133,32,133],[31,134,32,134],[51,135,52,137],[51,138,52,138],[68,135,69,137],[0,135,1,137],[0,138,1,141],[0,143,1,145],[0,146,1,149],[2,135,3,137],[2,138,3,141],[2,143,3,145],[2,146,3,149],[31,147,32,147],[31,135,32,136],[31,137,32,137],[31,138,32,138],[31,139,32,139],[31,140,32,140],[31,141,32,141],[31,143,32,144],[31,145,32,145],[31,146,32,146],[47,143,48,145],[47,146,48,149],[33,135,34,135],[33,136,34,138],[33,143,34,143],[33,144,34,146],[78,120,79,120],[78,121,79,123],[78,128,79,128],[78,129,79,131],[76,132,77,132],[76,120,77,121],[76,122,77,122],[76,123,77,123],[76,124,77,124],[76,125,77,125],[25,143,26,145],[25,146,26,149],[8,148,9,148],[8,149,9,149],[10,135,11,135],[10,136,11,138],[10,143,11,143],[10,144,11,146],[8,141,9,141],[8,143,9,144],[29,139,30,141],[29,143,30,145],[29,146,30,146],[29,147,30,149],[23,135,24,137],[23,138,24,141],[23,143,24,145],[23,146,24,149],[25,135,26,137],[25,138,26,141],[76,133,77,133],[76,134,77,134],[31,126,32,126],[51,120,52,122],[74,120,75,122],[74,123,75,123],[74,124,75,126],[74,128,75,130],[74,131,75,131],[74,132,75,134],[76,126,77,126],[76,128,77,129],[76,130,77,130],[76,131,77,131],[31,131,32,131],[31,132,32,132],[68,131,69,134],[53,133,54,133],[53,132,54,132],[70,128,71,130],[72,128,73,131],[72,132,73,134],[49,124,50,126],[49,128,50,131],[49,132,50,134],[53,123,54,123],[53,124,54,124],[53,125,54,125],[70,120,71,122],[70,123,71,126],[51,132,52,134],[53,122,54,122],[53,126,54,126],[53,130,54,130],[0,120,1,122],[0,123,1,126],[0,128,1,130],[0,131,1,134],[2,120,3,122],[2,123,3,126],[2,128,3,130],[2,131,3,134],[6,128,7,130],[29,124,30,126],[29,128,30,130],[10,121,11,123],[10,128,11,128],[10,129,11,131],[29,131,30,131],[27,124,28,126],[8,128,9,129],[8,130,9,130],[8,132,9,132],[8,120,9,121],[8,122,9,122],[8,123,9,123],[8,124,9,124],[8,125,9,125],[8,126,9,126],[8,131,9,131],[78,105,79,105],[78,106,79,108],[78,113,79,113],[78,114,79,116],[76,111,77,111],[76,113,77,114],[76,115,77,115],[29,132,30,134],[23,120,24,122],[23,123,24,126],[23,128,24,130],[23,131,24,134],[25,120,26,122],[25,123,26,126],[25,128,26,130],[25,131,26,134],[27,120,28,123],[76,118,77,118],[76,119,77,119],[29,120,30,122],[29,123,30,123],[53,118,54,118],[53,119,54,119],[31,118,32,118],[31,119,32,119],[49,120,50,123],[33,120,34,120],[31,128,32,129],[31,130,32,130],[45,120,46,122],[45,123,46,126],[45,128,46,130],[76,116,77,116],[76,117,77,117],[76,105,77,106],[76,107,77,107],[76,108,77,108],[76,109,77,109],[76,110,77,110],[74,116,75,116],[74,117,75,119],[8,133,9,133],[8,134,9,134],[10,120,11,120],[45,131,46,134],[51,123,52,123],[51,124,52,126],[51,128,52,130],[51,131,52,131],[33,121,34,123],[33,128,34,128],[47,120,48,122],[47,123,48,126],[47,128,48,130],[47,131,48,134],[70,131,71,134],[31,125,32,125],[68,120,69,122],[68,123,69,126],[31,120,32,121],[31,122,32,122],[31,123,32,123],[31,124,32,124],[33,129,34,131],[74,108,75,108],[74,109,75,111],[72,105,73,108],[72,109,73,111],[51,105,52,107],[55,105,56,105],[0,105,1,107],[0,108,1,111],[0,113,1,115],[0,116,1,119],[2,105,3,107],[2,108,3,111],[33,105,34,105],[33,106,34,108],[33,113,34,113],[33,114,34,116],[31,117,32,117],[31,105,32,106],[31,107,32,107],[31,108,32,108],[31,109,32,109],[31,110,32,110],[45,105,46,107],[45,108,46,111],[45,113,46,115],[45,116,46,119],[29,117,30,119],[2,113,3,115],[2,116,3,119],[74,113,75,115],[29,105,30,107],[29,108,30,108],[49,105,50,108],[31,111,32,111],[31,113,32,114],[31,115,32,115],[31,116,32,116],[47,105,48,107],[47,108,48,111],[47,113,48,115],[47,116,48,119],[55,106,56,108],[55,113,56,113],[55,114,56,116],[53,117,54,117],[53,105,54,106],[53,107,54,107],[53,108,54,108],[53,109,54,109],[53,110,54,110],[49,109,50,111],[53,111,54,111],[49,113,50,116],[49,117,50,119],[51,108,52,108],[51,109,52,111],[78,90,79,90],[78,91,79,93],[78,98,79,98],[78,99,79,101],[76,102,77,102],[76,90,77,91],[76,92,77,92],[76,93,77,93],[76,94,77,94],[76,95,77,95],[8,111,9,111],[8,113,9,114],[10,113,11,113],[10,114,11,116],[25,105,26,107],[25,108,26,111],[25,113,26,115],[23,105,24,107],[23,108,24,111],[23,113,24,115],[68,105,69,107],[68,108,69,111],[29,109,30,111],[29,113,30,115],[29,116,30,116],[53,116,54,116],[68,116,69,119],[70,105,71,107],[70,108,71,111],[70,113,71,115],[70,116,71,119],[74,105,75,107],[76,96,77,96],[76,98,77,99],[76,100,77,100],[76,101,77,101],[74,90,75,92],[74,93,75,93],[74,94,75,96],[74,98,75,100],[74,101,75,101],[45,98,46,100],[45,101,46,104],[33,91,34,93],[33,98,34,98],[47,90,48,92],[47,93,48,96],[47,98,48,100],[49,98,50,101],[70,90,71,92],[70,93,71,96],[53,96,54,96],[53,92,54,92],[53,93,54,93],[53,94,54,94],[51,90,52,92],[55,90,56,90],[55,91,56,93],[55,98,56,98],[55,99,56,101],[53,90,54,91],[76,103,77,103],[76,104,77,104],[74,102,75,104],[31,90,32,91],[31,92,32,92],[31,93,32,93],[31,94,32,94],[70,98,71,100],[70,101,71,104],[31,95,32,95],[68,90,69,92],[33,99,34,101],[31,96,32,96],[31,98,32,99],[31,100,32,100],[31,101,32,101],[31,102,32,102],[68,101,69,104],[53,103,54,103],[47,101,48,104],[51,93,52,93],[51,94,52,96],[53,95,54,95],[51,101,52,101],[68,93,69,96],[51,102,52,104],[53,100,54,100],[51,98,52,100],[53,101,54,101],[49,94,50,96],[49,102,50,104],[53,104,54,104],[31,103,32,103],[31,104,32,104],[2,90,3,92],[2,93,3,96],[2,98,3,100],[2,101,3,104],[0,90,1,92],[0,93,1,96],[0,98,1,100],[0,101,1,104],[6,93,7,93],[6,94,7,96],[6,98,7,100],[29,94,30,96],[29,98,30,100],[8,90,9,91],[8,92,9,92],[8,93,9,93],[10,98,11,98],[10,99,11,101],[8,96,9,96],[8,98,9,99],[8,100,9,100],[8,101,9,101],[78,75,79,75],[78,76,79,78],[78,83,79,83],[78,84,79,86],[76,86,77,86],[76,87,77,87],[76,75,77,76],[76,77,77,77],[76,78,77,78],[76,79,77,79],[29,101,30,101],[29,102,30,104],[23,90,24,92],[23,93,24,96],[23,98,24,100],[23,101,24,104],[25,90,26,92],[25,93,26,96],[25,98,26,100],[25,101,26,104],[76,88,77,88],[76,89,77,89],[29,90,30,92],[29,93,30,93],[53,88,54,88],[53,89,54,89],[31,88,32,88],[31,89,32,89],[49,90,50,93],[33,90,34,90],[45,90,46,92],[45,93,46,96],[74,86,75,86],[74,87,75,89],[68,75,69,77],[68,78,69,81],[68,83,69,85],[68,86,69,89],[70,75,71,77],[70,78,71,81],[70,83,71,85],[70,86,71,89],[76,80,77,80],[76,81,77,81],[76,83,77,84],[76,85,77,85],[74,75,75,77],[74,78,75,78],[74,79,75,81],[74,83,75,85],[72,75,73,78],[72,79,73,81],[45,78,46,81],[45,83,46,85],[45,86,46,89],[47,75,48,77],[47,78,48,81],[47,83,48,85],[47,86,48,89],[53,81,54,81],[53,83,54,84],[53,85,54,85],[53,86,54,86],[51,75,52,77],[51,78,52,78],[51,79,52,81],[51,83,52,85],[55,75,56,75],[55,76,56,78],[55,83,56,83],[55,84,56,86],[53,87,54,87],[53,75,54,76],[53,77,54,77],[53,78,54,78],[53,79,54,79],[53,80,54,80],[49,83,50,86],[49,87,50,89],[49,75,50,78],[49,79,50,81],[31,81,32,81],[31,83,32,84],[31,85,32,85],[31,86,32,86],[76,73,77,73],[76,74,77,74],[29,75,30,77],[29,78,30,78],[45,71,46,74],[31,73,32,73],[31,74,32,74],[33,75,34,75],[33,76,34,78],[45,75,46,77],[0,75,1,77],[0,78,1,81],[0,83,1,85],[0,86,1,89],[2,75,3,77],[2,78,3,81],[2,83,3,85],[2,86,3,89],[33,83,34,83],[33,84,34,86],[51,86,52,86],[51,87,52,89],[31,87,32,87],[31,75,32,76],[31,77,32,77],[31,78,32,78],[31,79,32,79],[31,80,32,80],[78,60,79,60],[78,61,79,63],[78,68,79,68],[78,69,79,71],[76,72,77,72],[76,60,77,61],[76,62,77,62],[76,63,77,63],[76,64,77,64],[76,65,77,65],[10,75,11,75],[10,76,11,78],[10,83,11,83],[10,84,11,86],[8,81,9,81],[8,83,9,84],[8,85,9,85],[8,86,9,86],[8,79,9,79],[8,80,9,80],[23,75,24,77],[23,78,24,81],[23,83,24,85],[23,86,24,89],[25,75,26,77],[25,78,26,81],[25,83,26,85],[25,86,26,89],[29,79,30,81],[29,83,30,85],[29,86,30,86],[29,87,30,89],[76,66,77,66],[76,68,77,69],[76,70,77,70],[76,71,77,71],[74,60,75,62],[74,63,75,63],[74,64,75,66],[74,68,75,70],[74,71,75,71],[45,60,46,62],[45,63,46,66],[47,68,48,70],[47,71,48,74],[53,70,54,70],[51,60,52,62],[51,63,52,63],[51,64,52,66],[51,68,52,70],[70,63,71,66],[70,68,71,70],[70,71,71,74],[49,68,50,71],[49,72,50,74],[72,68,73,71],[49,64,50,66],[31,65,32,65],[31,66,32,66],[31,68,32,69],[31,70,32,70],[31,71,32,71],[47,60,48,62],[47,63,48,66],[74,72,75,74],[33,68,34,68],[33,69,34,71],[53,73,54,73],[53,74,54,74],[53,72,54,72],[51,71,52,71],[51,72,52,74],[45,68,46,70],[53,68,54,69],[53,71,54,71],[55,60,56,60],[55,61,56,63],[55,68,56,68],[55,69,56,71],[53,62,54,62],[53,63,54,63],[53,64,54,64],[53,65,54,65],[53,60,54,61],[68,60,69,62],[68,63,69,66],[68,68,69,70],[68,71,69,74],[70,60,71,62],[0,60,1,62],[0,63,1,66],[0,68,1,70],[0,71,1,74],[2,60,3,62],[2,63,3,66],[2,68,3,70],[2,71,3,74],[8,73,9,73],[8,66,9,66],[6,68,7,70],[6,71,7,71],[6,72,7,74],[33,60,34,60],[33,61,34,63],[6,60,7,62],[6,63,7,63],[23,60,24,62],[23,63,24,66],[8,72,9,72],[8,60,9,61],[8,62,9,62],[8,63,9,63],[8,64,9,64],[8,65,9,65],[29,64,30,66],[29,68,30,70],[31,72,32,72],[31,60,32,61],[31,62,32,62],[31,63,32,63],[31,64,32,64],[78,45,79,45],[78,46,79,48],[78,53,79,53],[78,54,79,56],[74,45,75,47],[74,48,75,48],[74,49,75,51],[8,74,9,74],[8,70,9,70],[8,71,9,71],[53,48,54,48],[53,49,54,49],[53,50,54,50],[31,50,32,50],[53,51,54,51],[53,53,54,54],[51,53,52,55],[29,71,30,71],[29,72,30,74],[23,68,24,70],[23,71,24,74],[25,60,26,62],[25,63,26,66],[25,68,26,70],[25,71,26,74],[27,60,28,63],[27,64,28,66],[76,58,77,58],[76,59,77,59],[29,60,30,62],[29,63,30,63],[31,58,32,58],[76,56,77,56],[74,56,75,56],[74,57,75,59],[33,54,34,56],[31,51,32,51],[31,53,32,54],[31,55,32,55],[31,56,32,56],[31,57,32,57],[53,58,54,58],[74,53,75,55],[76,57,77,57],[76,45,77,46],[76,47,77,47],[76,48,77,48],[76,49,77,49],[76,50,77,50],[76,51,77,51],[76,53,77,54],[76,55,77,55],[51,48,52,48],[53,55,54,55],[53,56,54,56],[31,59,32,59],[45,45,46,47],[45,48,46,51],[45,53,46,55],[45,56,46,59],[70,45,71,47],[70,48,71,51],[70,53,71,55],[70,56,71,59],[47,45,48,47],[47,48,48,51],[51,45,52,47],[68,53,69,55],[68,56,69,59],[55,53,56,53],[55,54,56,56],[53,59,54,59],[31,45,32,46],[31,47,32,47],[31,48,32,48],[31,49,32,49],[68,45,69,47],[68,48,69,51],[51,49,52,51],[55,45,56,45],[55,46,56,48],[49,53,50,56],[49,57,50,59],[2,45,3,47],[2,48,3,51],[2,53,3,55],[2,56,3,59],[0,45,1,47],[0,48,1,51],[0,53,1,55],[0,56,1,59],[33,45,34,45],[33,46,34,48],[33,53,34,53],[6,48,7,48],[6,49,7,51],[6,53,7,55],[29,49,30,51],[29,53,30,55],[8,45,9,46],[8,47,9,47],[8,55,9,55],[8,56,9,56],[10,46,11,48],[10,53,11,53],[10,54,11,56],[78,30,79,30],[78,31,79,33],[78,38,79,38],[78,39,79,41],[76,41,77,41],[76,42,77,42],[76,30,77,31],[76,32,77,32],[76,33,77,33],[76,34,77,34],[29,56,30,56],[29,57,30,59],[23,45,24,47],[23,48,24,51],[23,53,24,55],[23,56,24,59],[25,45,26,47],[25,48,26,51],[25,53,26,55],[25,56,26,59],[76,43,77,43],[76,44,77,44],[29,45,30,47],[29,48,30,48],[53,43,54,43],[53,44,54,44],[31,43,32,43],[31,44,32,44]],"merged_total":1632,"flags":["merged_cut"]}
["BEGELEIDER :",null,null,{"$f":"#REF!","v":{"$error":"#REF!"}},null,null,null,null,"BEGELEIDER :",null,null,{"$f":"D1","v":{"$error":"#REF!"}},null,null,null,"BEGELEIDER :",null,null,{"$f":"#REF!","v":{"$error":"#REF!"}},null,null,null,null,"BEGELEIDER :",null,null,{"$f":"S1","v":{"$error":"#REF!"}},null,null,null,"BEGELEIDER :",null,null,{"$f":"#REF!","v":{"$error":"#REF!"}},null,null,null,null,"BEGELEIDER :",null,null,{"$f":"AH1","v":{"$error":"#REF!"}},null,null,null,"BEGELEIDER :",null,null,{"$f":"#REF!","v":{"$error":"#REF!"}},null,null,null,null,"BEGELEIDER :",null,null,{"$f":"AW1","v":{"$error":"#REF!"}},null,null,null,"BEGELEIDER :",null,null,{"$f":"#REF!","v":{"$error":"#REF!"}},null,null,null,null,"BEGELEIDER :",null,null,{"$f":"BL1","v":{"$error":"#REF!"}},null,null,null,"BEGELEIDER :",null,null,{"$f":"#REF!","v":{"$error":"#REF!"}},null,null,null,null,"BEGELEIDER :",null,null,{"$f":"CA1","v":{"$error":"#REF!"}},null,null,null,"BEGELEIDER :",null,null,{"$f":"#REF!","v":{"$error":"#REF!"}},null,null,null,null,"BEGELEIDER :",null,null,{"$f":"CP1","v":{"$error":"#REF!"}},null,null,null,"BEGELEIDER :",null,null,{"$f":"#REF!","v":{"$error":"#REF!"}},null,null,null,null,"BEGELEIDER :",null,null,{"$f":"DE1","v":{"$error":"#REF!"}},null,null,null,"BEGELEIDER :",null,null,{"$f":"#REF!","v":{"$error":"#REF!"}},null,null,null,null,"BEGELEIDER :",null,null,{"$f":"DT1","v":{"$error":"#REF!"}},null,null,null,"BEGELEIDER :",null,null,{"$f":"#REF!","v":{"$error":"#REF!"}},null,null,null,null,"BEGELEIDER :",null,null,{"$f":"EI1","v":{"$error":"#REF!"}},null,null,null,"BEGELEIDER :",null,null,{"$f":"#REF!","v":{"$error":"#REF!"}},null,null,null,null,"BEGELEIDER :",null,null,{"$f":"EX1","v":{"$error":"#REF!"}},null,null,null,"BEGELEIDER :",null,null,{"$f":"#REF!","v":{"$error":"#REF!"}},null,null,null,null,"BEGELEIDER :",null,null,{"$f":"FM1","v":{"$error":"#REF!"}}]
[]
["TEAM :",null,null,{"$f":"#REF!","v":{"$error":"#REF!"}},null,null,null,null,"TEAM :",null,null,{"$f":"D3","v":{"$error":"#REF!"}},null,null,null,"TEAM :",null,null,{"$f":"#REF!","v":{"$error":"#REF!"}},null,null,null,null,"TEAM :",null,null,{"$f":"S3","v":{"$error":"#REF!"}},null,null,null,"TEAM :",null,null,{"$f":"#REF!","v":{"$error":"#REF!"}},null,null,null,null,"TEAM :",null,null,{"$f":"AH3","v":{"$error":"#REF!"}},null,null,null,"TEAM :",null,null,{"$f":"#REF!","v":{"$error":"#REF!"}},null,null,null,null,"TEAM :",null,null,{"$f":"AW3","v":{"$error":"#REF!"}},null,null,null,"TEAM :",null,null,{"$f":"#REF!","v":{"$error":"#REF!"}},null,null,null,null,"TEAM :",null,null,{"$f":"BL3","v":{"$error":"#REF!"}},null,null,null,"TEAM :",null,null,{"$f":"#REF!","v":{"$error":"#REF!"}},null,null,null,null,"TEAM :",null,null,{"$f":"CA3","v":{"$error":"#REF!"}},null,null,null,"TEAM :",null,null,{"$f":"#REF!","v":{"$error":"#REF!"}},null,null,null,null,"TEAM :",null,null,{"$f":"CP3","v":{"$error":"#REF!"}},null,null,null,"TEAM :",null,null,{"$f":"#REF!","v":{"$error":"#REF!"}},null,null,null,null,"TEAM :",null,null,{"$f":"DE3","v":{"$error":"#REF!"}},null,null,null,"TEAM :",null,null,{"$f":"#REF!","v":{"$error":"#REF!"}},null,null,null,null,"TEAM :",null,null,{"$f":"DT3","v":{"$error":"#REF!"}},null,null,null,"TEAM :",null,null,{"$f":"#REF!","v":{"$error":"#REF!"}},null,null,null,null,"TEAM :",null,null,{"$f":"EI3","v":{"$error":"#REF!"}},null,null,null,"TEAM :",null,null,{"$f":"#REF!","v":{"$error":"#REF!"}},null,null,null,null,"TEAM :",null,null,{"$f":"EX3","v":{"$error":"#REF!"}},null,null,null,"TEAM :",null,null,{"$f":"#REF!","v":{"$error":"#REF!"}},null,null,null,null,"TEAM :",null,null,{"$f":"FM3","v":{"$error":"#REF!"}}]
[]
["WEDSTRIJD :",null,null,null,{"$f":"#REF!","v":{"$error":"#REF!"}},null,null,null,"WEDSTRIJD :",null,null,null,{"$f":"#REF!","v":{"$error":"#REF!"}},null,null,"WEDSTRIJD :",null,null,null,{"$f":"#REF!","v":{"$error":"#REF!"}},null,null,null,"WEDSTRIJD :",null,null,null,{"$f":"#REF!","v":{"$error":"#REF!"}},null,null,"WEDSTRIJD :",null,null,null,{"$f":"#REF!","v":{"$error":"#REF!"}},null,null,null,"WEDSTRIJD :",null,null,null,{"$f":"#REF!","v":{"$error":"#REF!"}},null,null,"WEDSTRIJD :",null,null,null,{"$f":"#REF!","v":{"$error":"#REF!"}},null,null,null,"WEDSTRIJD :",null,null,null,{"$f":"#REF!","v":{"$error":"#REF!"}},null,null,"WEDSTRIJD :",null,null,null,{"$f":"#REF!","v":{"$error":"#REF!"}},null,null,null,"WEDSTRIJD :",null,null,null,{"$f":"#REF!","v":{"$error":"#REF!"}},null,null,"WEDSTRIJD :",null,null,null,{"$f":"#REF!","v":{"$error":"#REF!"}},null,null,null,"WEDSTRIJD :",null,null,null,{"$f":"#REF!","v":{"$error":"#REF!"}},null,null,"WEDSTRIJD :",null,null,null,{"$f":"#REF!","v":{"$error":"#REF!"}},null,null,null,"WEDSTRIJD :",null,null,null,{"$f":"#REF!","v":{"$error":"#REF!"}},null,null,"WEDSTRIJD :",null,null,null,{"$f":"#REF!","v":{"$error":"#REF!"}},null,null,null,"WEDSTRIJD :",null,null,null,{"$f":"#REF!","v":{"$error":"#REF!"}},null,null,"WEDSTRIJD :",null,null,null,{"$f":"#REF!","v":{"$error":"#REF!"}},null,null,null,"WEDSTRIJD :",null,null,null,{"$f":"#REF!","v":{"$error":"#REF!"}},null,null,"WEDSTRIJD :",null,null,null,{"$f":"#REF!","v":{"$error":"#REF!"}},null,null,null,"WEDSTRIJD :",null,null,null,{"$f":"#REF!","v":{"$error":"#REF!"}},null,null,"WEDSTRIJD :",null,null,null,{"$f":"#REF!","v":{"$error":"#REF!"}},null,null,null,"WEDSTRIJD :",null,null,null,{"$f":"#REF!","v":{"$error":"#REF!"}},null,null,"WEDSTRIJD :",null,null,null,{"$f":"#REF!","v":{"$error":"#REF!"}},null,null,null,"WEDSTRIJD :",null,null,null,{"$f":"#REF!","v":{"$error":"#REF!"}}]
[]
[{"$f":"#REF!","v":{"$error":"#REF!"}},null,null,"_",{"$f":"#REF!","v":{"$error":"#REF!"}},null,null,null,{"$f":"#REF!","v":{"$error":"#REF!"}},null,null,"_",{"$f":"#REF!","v":{"$error":"#REF!"}},null,null,{"$f":"#REF!","v":{"$error":"#REF!"}},null,null,"_",{"$f":"#REF!","v":{"$error":"#REF!"}},null,null,null,{"$f":"#REF!","v":{"$error":"#REF!"}},null,null,"_",{"$f":"#REF!","v":{"$error":"#REF!"}},null,null,{"$f":"#REF!","v":{"$error":"#REF!"}},null,null,"_",{"$f":"#REF!","v":{"$error":"#REF!"}},null,null,null,{"$f":"#REF!","v":{"$error":"#REF!"}},null,null,"_",{"$f":"#REF!","v":{"$error":"#REF!"}},null,null,{"$f":"#REF!","v":{"$error":"#REF!"}},null,null,"_",{"$f":"#REF!","v":{"$error":"#REF!"}},null,null,null,{"$f":"#REF!","v":{"$error":"#REF!"}},null,null,"_",{"$f":"#REF!","v":{"$error":"#REF!"}},null,null,{"$f":"#REF!","v":{"$error":"#REF!"}},null,null,"_",{"$f":"#REF!","v":{"$error":"#REF!"}},null,null,null,{"$f":"#REF!","v":{"$error":"#REF!"}},null,null,"_",{"$f":"#REF!","v":{"$error":"#REF!"}},null,null,{"$f":"#REF!","v":{"$error":"#REF!"}},null,null,"_",{"$f":"#REF!","v":{"$error":"#REF!"}},null,null,null,{"$f":"#REF!","v":{"$error":"#REF!"}},null,null,"_",{"$f":"#REF!","v":{"$error":"#REF!"}},null,null,{"$f":"#REF!","v":{"$error":"#REF!"}},null,null,"_",{"$f":"#REF!","v":{"$error":"#REF!"}},null,null,null,{"$f":"#REF!","v":{"$error":"#REF!"}},null,null,"_",{"$f":"#REF!","v":{"$error":"#REF!"}},null,null,{"$f":"#REF!","v":{"$error":"#REF!"}},null,null,"_",{"$f":"#REF!","v":{"$error":"#REF!"}},null,null,null,{"$f":"#REF!","v":{"$error":"#REF!"}},null,null,"_",{"$f":"#REF!","v":{"$error":"#REF!"}},null,null,{"$f":"#REF!","v":{"$error":"#REF!"}},null,null,"_",{"$f":"#REF!","v":{"$error":"#REF!"}},null,null,null,{"$f":"#REF!","v":{"$error":"#REF!"}},null,null,"_",{"$f":"#REF!","v":{"$error":"#REF!"}},null,null,{"$f":"#REF!","v":{"$error":"#REF!"}},null,null,"_",{"$f":"#REF!","v":{"$error":"#REF!"}},null,null,null,{"$f":"#REF!","v":{"$error":"#REF!"}},null,null,"_",{"$f":"#REF!","v":{"$error":"#REF!"}},null,null,{"$f":"#REF!","v":{"$error":"#REF!"}},null,null,"_",{"$f":"#REF!","v":{"$error":"#REF!"}},null,null,null,{"$f":"#REF!","v":{"$error":"#REF!"}},null,null,"_",{"$f":"#REF!","v":{"$error":"#REF!"}},null,null,{"$f":"#REF!","v":{"$error":"#REF!"}},null,null,"_",{"$f":"#REF!","v":{"$error":"#REF!"}},null,null,null,{"$f":"#REF!","v":{"$error":"#REF!"}},null,null,"_",{"$f":"#REF!","v":{"$error":"#REF!"}}]
[]
["UITSLAG >>>>>",null,null,"_",null,"Veld :",{"$f":"#REF!","v":{"$error":"#REF!"}},null,"UITSLAG >>>>>",null,null,"_",null,"Veld :",{"$f":"#REF!","v":{"$error":"#REF!"}},"UITSLAG >>>>>",null,null,"_",null,"Veld :",{"$f":"#REF!","v":{"$error":"#REF!"}},null,"UITSLAG >>>>>",null,null,"_",null,"Veld :",{"$f":"#REF!","v":{"$error":"#REF!"}},"UITSLAG >>>>>",null,null,"_",null,"Veld :",{"$f":"#REF!","v":{"$error":"#REF!"}},null,"UITSLAG >>>>>",null,null,"_",null,"Veld :",{"$f":"#REF!","v":{"$error":"#REF!"}},"UITSLAG >>>>>",null,null,"_",null,"Veld :",{"$f":"#REF!","v":{"$error":"#REF!"}},null,"UITSLAG >>>>>",null,null,"_",null,"Veld :",{"$f":"#REF!","v":{"$error":"#REF!"}},"UITSLAG >>>>>",null,null,"_",null,"Veld :",{"$f":"#REF!","v":{"$error":"#REF!"}},null,"UITSLAG >>>>>",null,null,"_",null,"Veld :",{"$f":"#REF!","v":{"$error":"#REF!"}},"UITSLAG >>>>>",null,null,"_",null,"Veld :",{"$f":"#REF!","v":{"$error":"#REF!"}},null,"UITSLAG >>>>>",null,null,"_",null,"Veld :",{"$f":"#REF!","v":{"$error":"#REF!"}},"UITSLAG >>>>>",null,null,"_",null,"Veld :",{"$f":"#REF!","v":{"$error":"#REF!"}},null,"UITSLAG >>>>>",null,null,"_",null,"Veld :",{"$f":"#REF!","v":{"$error":"#REF!"}},"UITSLAG >>>>>",null,null,"_",null,"Veld :",{"$f":"#REF!","v":{"$error":"#REF!"}},null,"UITSLAG >>>>>",null,null,"_",null,"Veld :",{"$f":"#REF!","v":{"$error":"#REF!"}},"UITSLAG >>>>>",null,null,"_",null,"Veld :",{"$f":"#REF!","v":{"$error":"#REF!"}},null,"UITSLAG >>>>>",null,null,"_",null,"Veld :",{"$f":"#REF!","v":{"$error":"#REF!"}},"UITSLAG >>>>>",null,null,"_",null,"Veld :",{"$f":"#REF!","v":{"$error":"#REF!"}},null,"UITSLAG >>>>>",null,null,"_",null,"Veld :",{"$f":"#REF!","v":{"$error":"#REF!"}},"UITSLAG >>>>>",null,null,"_",null,"Veld :",{"$f":"#REF!","v":{"$error":"#REF!"}},null,"UITSLAG >>>>>",null,null,"_",null,"Veld :",{"$f":"#REF!","v":{"$error":"#REF!"}},"UITSLAG >>>>>",null,null,"_",null,"Veld :",{"$f":"#REF!","v":{"$error":"#REF!"}},null,"UITSLAG >>>>>",null,null,"_",null,"Veld :",{"$f":"#REF!","v":{"$error":"#REF!"}}]
[]
["NR.","NAAM SPELER",null,null,"AANTAL","GELE","RODE ",null,"NR.","NAAM SPELER",null,null,"AANTAL","GELE","RODE ","NR.","NAAM SPELER",null,null,"AANTAL","GELE","RODE ",null,"NR.","NAAM SPELER",null,null,"AANTAL","GELE","RODE ","NR.","NAAM SPELER",null,null,"AANTAL","GELE","RODE ",null,"NR.","NAAM SPELER",null,null,"AANTAL","GELE","RODE ","NR.","NAAM SPELER",null,null,"AANTAL","GELE","RODE ",null,"NR.","NAAM SPELER",null,null,"AANTAL","GELE","RODE ","NR.","NAAM SPELER",null,null,"AANTAL","GELE","RODE ",null,"NR.","NAAM SPELER",null,null,"AANTAL","GELE","RODE ","NR.","NAAM SPELER",null,null,"AANTAL","GELE","RODE ",null,"NR.","NAAM SPELER",null,null,"AANTAL","GELE","RODE ","NR.","NAAM SPELER",null,null,"AANTAL","GELE","RODE ",null,"NR.","NAAM SPELER",null,null,"AANTAL","GELE","RODE ","NR.","NAAM SPELER",null,null,"AANTAL","GELE","RODE ",null,"NR.","NAAM SPELER",null,null,"AANTAL","GELE","RODE ","NR.","NAAM SPELER",null,null,"AANTAL","GELE","RODE ",null,"NR.","NAAM SPELER",null,null,"AANTAL","GELE","RODE ","NR.","NAAM SPELER",null,null,"AANTAL","GELE","RODE ",null,"NR.","NAAM SPELER",null,null,"AANTAL","GELE","RODE ","NR.","NAAM SPELER",null,null,"AANTAL","GELE","RODE ",null,"NR.","NAAM SPELER",null,null,"AANTAL","GELE","RODE ","NR.","NAAM SPELER",null,null,"AANTAL","GELE","RODE ",null,"NR.","NAAM SPELER",null,null,"AANTAL","GELE","RODE "]
[null,null,null,null,"GOALS","KAART","KAART",null,null,null,null,null,"GOALS","KAART","KAART",null,null,null,null,"GOALS","KAART","KAART",null,null,null,null,null,"GOALS","KAART","KAART",null,null,null,null,"GOALS","KAART","KAART",null,null,null,null,null,"GOALS","KAART","KAART",null,null,null,null,"GOALS","KAART","KAART",null,null,null,null,null,"GOALS","KAART","KAART",null,null,null,null,"GOALS","KAART","KAART",null,null,null,null,null,"GOALS","KAART","KAART",null,null,null,null,"GOALS","KAART","KAART",null,null,null,null,null,"GOALS","KAART","KAART",null,null,null,null,"GOALS","KAART","KAART",null,null,null,null,null,"GOALS","KAART","KAART",null,null,null,null,"GOALS","KAART","KAART",null,null,null,null,null,"GOALS","KAART","KAART",null,null,null,null,"GOALS","KAART","KAART",null,null,null,null,null,"GOALS","KAART","KAART",null,null,null,null,"GOALS","KAART","KAART",null,null,null,null,null,"GOALS","KAART","KAART",null,null,null,null,"GOALS","KAART","KAART",null,null,null,null,null,"GOALS","KAART","KAART",null,null,null,null,"GOALS","KAART","KAART",null,null,null,null,null,"GOALS","KAART","KAART"]
[]
[]
[]
[]
[]
[]
[]
[]
[]
[]
[]
["BEGELEIDER :",null,null,{"$f":"D1","v":{"$error":"#REF!"}},null,null,null,null,"BEGELEIDER :",null,null,{"$f":"D1","v":{"$error":"#REF!"}},null,null,null,"BEGELEIDER :",null,null,{"$f":"S1","v":{"$error":"#REF!"}},null,null,null,null,"BEGELEIDER :",null,null,{"$f":"S1","v":{"$error":"#REF!"}},null,null,null,"BEGELEIDER :",null,null,{"$f":"AH1","v":{"$error":"#REF!"}},null,null,null,null,"BEGELEIDER :",null,null,{"$f":"AH1","v":{"$error":"#REF!"}},null,null,null,"BEGELEIDER :",null,null,{"$f":"AW1","v":{"$error":"#REF!"}},null,null,null,null,"BEGELEIDER :",null,null,{"$f":"AW1","v":{"$error":"#REF!"}},null,null,null,"BEGELEIDER :",null,null,{"$f":"BL1","v":{"$error":"#REF!"}},null,null,null,null,"BEGELEIDER :",null,null,{"$f":"BL1","v":{"$error":"#REF!"}},null,null,null,"BEGELEIDER :",null,null,{"$f":"CA1","v":{"$error":"#REF!"}},null,null,null,null,"BEGELEIDER :",null,null,{"$f":"CA1","v":{"$error":"#REF!"}},null,null,null,"BEGELEIDER :",null,null,{"$f":"CP1","v":{"$error":"#REF!"}},null,null,null,null,"BEGELEIDER :",null,null,{"$f":"CP1","v":{"$error":"#REF!"}},null,null,null,"BEGELEIDER :",null,null,{"$f":"DE1","v":{"$error":"#REF!"}},null,null,null,null,"BEGELEIDER :",null,null,{"$f":"DE1","v":{"$error":"#REF!"}},null,null,null,"BEGELEIDER :",null,null,{"$f":"DT1","v":{"$error":"#REF!"}},null,null,null,null,"BEGELEIDER :",null,null,{"$f":"DT1","v":{"$error":"#REF!"}},null,null,null,"BEGELEIDER :",null,null,{"$f":"EI1","v":{"$error":"#REF!"}},null,null,null,null,"BEGELEIDER :",null,null,{"$f":"EI1","v":{"$error":"#REF!"}},null,null,null,"BEGELEIDER :",null,null,{"$f":"EX1","v":{"$error":"#REF!"}},null,null,null,null,"BEGELEIDER :",null,null,{"$f":"EX1","v":{"$error":"#REF!"}},null,null,null,"BEGELEIDER :",null,null,{"$f":"FM1","v":{"$error":"#REF!"}},null,null,null,null,"BEGELEIDER :",null,null,{"$f":"FM1","v":{"$error":"#REF!"}}]
[]
["TEAM :",null,null,{"$f":"D3","v":{"$error":"#REF!"}},null,null,null,null,"TEAM :",null,null,{"$f":"D3","v":{"$error":"#REF!"}},null,null,null,"TEAM :",null,null,{"$f":"S3","v":{"$error":"#REF!"}},null,null,null,null,"TEAM :",null,null,{"$f":"S3","v":{"$error":"#REF!"}},null,null,null,"TEAM :",null,null,{"$f":"AH3","v":{"$error":"#REF!"}},null,null,null,null,"TEAM :",null,null,{"$f":"AH3","v":{"$error":"#REF!"}},null,null,null,"TEAM :",null,null,{"$f":"AW3","v":{"$error":"#REF!"}},null,null,null,null,"TEAM :",null,null,{"$f":"AW3","v":{"$error":"#REF!"}},null,null,null,"TEAM :",null,null,{"$f":"BL3","v":{"$error":"#REF!"}},null,null,null,null,"TEAM :",null,null,{"$f":"BL3","v":{"$error":"#REF!"}},null,null,null,"TEAM :",null,null,{"$f":"CA3","v":{"$error":"#REF!"}},null,null,null,null,"TEAM :",null,null,{"$f":"CA3","v":{"$error":"#REF!"}},null,null,null,"TEAM :",null,null,{"$f":"CP3","v":{"$error":"#REF!"}},null,null,null,null,"TEAM :",null,null,{"$f":"CP3","v":{"$error":"#REF!"}},null,null,null,"TEAM :",null,null,{"$f":"DE3","v":{"$error":"#REF!"}},null,null,null,null,"TEAM :",null,null,{"$f":"DE3","v":{"$error":"#REF!"}},null,null,null,"TEAM :",null,null,{"$f":"DT3","v":{"$error":"#REF!"}},null,null,null,null,"TEAM :",null,null,{"$f":"DT3","v":{"$error":"#REF!"}},null,null,null,"TEAM :",null,null,{"$f":"EI3","v":{"$error":"#REF!"}},null,null,null,null,"TEAM :",null,null,{"$f":"EI3","v":{"$error":"#REF!"}},null,null,null,"TEAM :",null,null,{"$f":"EX3","v":{"$error":"#REF!"}},null,null,null,null,"TEAM :",null,null,{"$f":"EX3","v":{"$error":"#REF!"}},null,null,null,"TEAM :",null,null,{"$f":"FM3","v":{"$error":"#REF!"}},null,null,null,null,"TEAM :",null,null,{"$f":"FM3","v":{"$error":"#REF!"}}]
[]
["WEDSTRIJD :",null,null,null,{"$f":"#REF!","v":{"$error":"#REF!"}},null,null,null,"WEDSTRIJD :",null,null,null,{"$f":"#REF!","v":{"$error":"#REF!"}},null,null,"WEDSTRIJD :",null,null,null,{"$f":"#REF!","v":{"$error":"#REF!"}},null,null,null,"WEDSTRIJD :",null,null,null,{"$f":"#REF!","v":{"$error":"#REF!"}},null,null,"WEDSTRIJD :",null,null,null,{"$f":"#REF!","v":{"$error":"#REF!"}},null,null,null,"WEDSTRIJD :",null,null,null,{"$f":"#REF!","v":{"$error":"#REF!"}},null,null,"WEDSTRIJD :",null,null,null,{"$f":"#REF!","v":{"$error":"#REF!"}},null,null,null,"WEDSTRIJD :",null,null,null,{"$f":"#REF!","v":{"$error":"#REF!"}},null,null,"WEDSTRIJD :",null,null,null,{"$f":"#REF!","v":{"$error":"#REF!"}},null,null,null,"WEDSTRIJD :",null,null,null,{"$f":"#REF!","v":{"$error":"#REF!"}},null,null,"WEDSTRIJD :",null,null,null,{"$f":"#REF!","v":{"$error":"#REF!"}},null,null,null,"WEDSTRIJD :",null,null,null,{"$f":"#REF!","v":{"$error":"#REF!"}},null,null,"WEDSTRIJD :",null,null,null,{"$f":"#REF!","v":{"$error":"#REF!"}},null,null,null,"WEDSTRIJD :",null,null,null,{"$f":"#REF!","v":{"$error":"#REF!"}},null,null,"WEDSTRIJD :",null,null,null,{"$f":"#REF!","v":{"$error":"#REF!"}},null,null,null,"WEDSTRIJD :",null,null,null,{"$f":"#REF!","v":{"$error":"#REF!"}},null,null,"WEDSTRIJD :",null,null,null,{"$f":"#REF!","v":{"$error":"#REF!"}},null,null,null,"WEDSTRIJD :",null,null,null,{"$f":"#REF!","v":{"$error":"#REF!"}},null,null,"WEDSTRIJD :",null,null,null,{"$f":"#REF!","v":{"$error":"#REF!"}},null,null,null,"WEDSTRIJD :",null,null,null,{"$f":"#REF!","v":{"$error":"#REF!"}},null,null,"WEDSTRIJD :",null,null,null,{"$f":"#REF!","v":{"$error":"#REF!"}},null,null,null,"WEDSTRIJD :",null,null,null,{"$f":"#REF!","v":{"$error":"#REF!"}},null,null,"WEDSTRIJD :",null,null,null,{"$f":"#REF!","v":{"$error":"#REF!"}},null,null,null,"WEDSTRIJD :",null,null,null,{"$f":"#REF!","v":{"$error":"#REF!"}}]
[]
[{"$f":"#REF!","v":{"$error":"#REF!"}},null,null,"_",{"$f":"#REF!","v":{"$error":"#REF!"}},null,null,null,{"$f":"#REF!","v":{"$error":"#REF!"}},null,null,"_",{"$f":"#REF!","v":{"$error":"#REF!"}},null,null,{"$f":"#REF!","v":{"$error":"#REF!"}},null,null,"_",{"$f":"#REF!","v":{"$error":"#REF!"}},null,null,null,{"$f":"#REF!","v":{"$error":"#REF!"}},null,null,"_",{"$f":"#REF!","v":{"$error":"#REF!"}},null,null,{"$f":"#REF!","v":{"$error":"#REF!"}},null,null,"_",{"$f":"#REF!","v":{"$error":"#REF!"}},null,null,null,{"$f":"#REF!","v":{"$error":"#REF!"}},null,null,"_",{"$f":"#REF!","v":{"$error":"#REF!"}},null,null,{"$f":"#REF!","v":{"$error":"#REF!"}},null,null,"_",{"$f":"#REF!","v":{"$error":"#REF!"}},null,null,null,{"$f":"#REF!","v":{"$error":"#REF!"}},null,null,"_",{"$f":"#REF!","v":{"$error":"#REF!"}},null,null,{"$f":"#REF!","v":{"$error":"#REF!"}},null,null,"_",{"$f":"#REF!","v":{"$error":"#REF!"}},null,null,null,{"$f":"#REF!","v":{"$error":"#REF!"}},null,null,"_",{"$f":"#REF!","v":{"$error":"#REF!"}},null,null,{"$f":"#REF!","v":{"$error":"#REF!"}},null,null,"_",{"$f":"#REF!","v":{"$error":"#REF!"}},null,null,null,{"$f":"#REF!","v":{"$error":"#REF!"}},null,null,"_",{"$f":"#REF!","v":{"$error":"#REF!"}},null,null,{"$f":"#REF!","v":{"$error":"#REF!"}},null,null,"_",{"$f":"#REF!","v":{"$error":"#REF!"}},null,null,null,{"$f":"#REF!","v":{"$error":"#REF!"}},null,null,"_",{"$f":"#REF!","v":{"$error":"#REF!"}},null,null,{"$f":"#REF!","v":{"$error":"#REF!"}},null,null,"_",{"$f":"#REF!","v":{"$error":"#REF!"}},null,null,null,{"$f":"#REF!","v":{"$error":"#REF!"}},null,null,"_",{"$f":"#REF!","v":{"$error":"#REF!"}},null,null,{"$f":"#REF!","v":{"$error":"#REF!"}},null,null,"_",{"$f":"#REF!","v":{"$error":"#REF!"}},null,null,null,{"$f":"#REF!","v":{"$error":"#REF!"}},null,null,"_",{"$f":"#REF!","v":{"$error":"#REF!"}},null,null,{"$f":"#REF!","v":{"$error":"#REF!"}},null,null,"_",{"$f":"#REF!","v":{"$error":"#REF!"}},null,null,null,{"$f":"#REF!","v":{"$error":"#REF!"}},null,null,"_",{"$f":"#REF!","v":{"$error":"#REF!"}},null,null,{"$f":"#REF!","v":{"$error":"#REF!"}},null,null,"_",{"$f":"#REF!","v":{"$error":"#REF!"}},null,null,null,{"$f":"#REF!","v":{"$error":"#REF!"}},null,null,"_",{"$f":"#REF!","v":{"$error":"#REF!"}},null,null,{"$f":"#REF!","v":{"$error":"#REF!"}},null,null,"_",{"$f":"#REF!","v":{"$error":"#REF!"}},null,null,null,{"$f":"#REF!","v":{"$error":"#REF!"}},null,null,"_",{"$f":"#REF!","v":{"$error":"#REF!"}}]
[]
["UITSLAG >>>>>",null,null,"_",null,"Veld :",{"$f":"#REF!","v":{"$error":"#REF!"}},null,"UITSLAG >>>>>",null,null,"_",null,"Veld :",{"$f":"#REF!","v":{"$error":"#REF!"}},"UITSLAG >>>>>",null,null,"_",null,"Veld :",{"$f":"#REF!","v":{"$error":"#REF!"}},null,"UITSLAG >>>>>",null,null,"_",null,"Veld :",{"$f":"#REF!","v":{"$error":"#REF!"}},"UITSLAG >>>>>",null,null,"_",null,"Veld :",{"$f":"#REF!","v":{"$error":"#REF!"}},null,"UITSLAG >>>>>",null,null,"_",null,"Veld :",{"$f":"#REF!","v":{"$error":"#REF!"}},"UITSLAG >>>>>",null,null,"_",null,"Veld :",{"$f":"#REF!","v":{"$error":"#REF!"}},null,"UITSLAG >>>>>",null,null,"_",null,"Veld :",{"$f":"#REF!","v":{"$error":"#REF!"}},"UITSLAG >>>>>",null,null,"_",null,"Veld :",{"$f":"#REF!","v":{"$error":"#REF!"}},null,"UITSLAG >>>>>",null,null,"_",null,"Veld :",{"$f":"#REF!","v":{"$error":"#REF!"}},"UITSLAG >>>>>",null,null,"_",null,"Veld :",{"$f":"#REF!","v":{"$error":"#REF!"}},null,"UITSLAG >>>>>",null,null,"_",null,"Veld :",{"$f":"#REF!","v":{"$error":"#REF!"}},"UITSLAG >>>>>",null,null,"_",null,"Veld :",{"$f":"#REF!","v":{"$error":"#REF!"}},null,"UITSLAG >>>>>",null,null,"_",null,"Veld :",{"$f":"#REF!","v":{"$error":"#REF!"}},"UITSLAG >>>>>",null,null,"_",null,"Veld :",{"$f":"#REF!","v":{"$error":"#REF!"}},null,"UITSLAG >>>>>",null,null,"_",null,"Veld :",{"$f":"#REF!","v":{"$error":"#REF!"}},"UITSLAG >>>>>",null,null,"_",null,"Veld :",{"$f":"#REF!","v":{"$error":"#REF!"}},null,"UITSLAG >>>>>",null,null,"_",null,"Veld :",{"$f":"#REF!","v":{"$error":"#REF!"}},"UITSLAG >>>>>",null,null,"_",null,"Veld :",{"$f":"#REF!","v":{"$error":"#REF!"}},null,"UITSLAG >>>>>",null,null,"_",null,"Veld :",{"$f":"#REF!","v":{"$error":"#REF!"}},"UITSLAG >>>>>",null,null,"_",null,"Veld :",{"$f":"#REF!","v":{"$error":"#REF!"}},null,"UITSLAG >>>>>",null,null,"_",null,"Veld :",{"$f":"#REF!","v":{"$error":"#REF!"}},"UITSLAG >>>>>",null,null,"_",null,"Veld :",{"$f":"#REF!","v":{"$error":"#REF!"}},null,"UITSLAG >>>>>",null,null,"_",null,"Veld :",{"$f":"#REF!","v":{"$error":"#REF!"}}]
[]
["NR.","NAAM SPELER",null,null,"AANTAL","GELE","RODE ",null,"NR.","NAAM SPELER",null,null,"AANTAL","GELE","RODE ","NR.","NAAM SPELER",null,null,"AANTAL","GELE","RODE ",null,"NR.","NAAM SPELER",null,null,"AANTAL","GELE","RODE ","NR.","NAAM SPELER",null,null,"AANTAL","GELE","RODE ",null,"NR.","NAAM SPELER",null,null,"AANTAL","GELE","RODE ","NR.","NAAM SPELER",null,null,"AANTAL","GELE","RODE ",null,"NR.","NAAM SPELER",null,null,"AANTAL","GELE","RODE ","NR.","NAAM SPELER",null,null,"AANTAL","GELE","RODE ",null,"NR.","NAAM SPELER",null,null,"AANTAL","GELE","RODE ","NR.","NAAM SPELER",null,null,"AANTAL","GELE","RODE ",null,"NR.","NAAM SPELER",null,null,"AANTAL","GELE","RODE ","NR.","NAAM SPELER",null,null,"AANTAL","GELE","RODE ",null,"NR.","NAAM SPELER",null,null,"AANTAL","GELE","RODE ","NR.","NAAM SPELER",null,null,"AANTAL","GELE","RODE ",null,"NR.","NAAM SPELER",null,null,"AANTAL","GELE","RODE ","NR.","NAAM SPELER",null,null,"AANTAL","GELE","RODE ",null,"NR.","NAAM SPELER",null,null,"AANTAL","GELE","RODE ","NR.","NAAM SPELER",null,null,"AANTAL","GELE","RODE ",null,"NR.","NAAM SPELER",null,null,"AANTAL","GELE","RODE ","NR.","NAAM SPELER",null,null,"AANTAL","GELE","RODE ",null,"NR.","NAAM SPELER",null,null,"AANTAL","GELE","RODE ","NR.","NAAM SPELER",null,null,"AANTAL","GELE","RODE ",null,"NR.","NAAM SPELER",null,null,"AANTAL","GELE","RODE "]
[null,null,null,null,"GOALS","KAART","KAART",null,null,null,null,null,"GOALS","KAART","KAART",null,null,null,null,"GOALS","KAART","KAART",null,null,null,null,null,"GOALS","KAART","KAART",null,null,null,null,"GOALS","KAART","KAART",null,null,null,null,null,"GOALS","KAART","KAART",null,null,null,null,"GOALS","KAART","KAART",null,null,null,null,null,"GOALS","KAART","KAART",null,null,null,null,"GOALS","KAART","KAART",null,null,null,null,null,"GOALS","KAART","KAART",null,null,null,null,"GOALS","KAART","KAART",null,null,null,null,null,"GOALS","KAART","KAART",null,null,null,null,"GOALS","KAART","KAART",null,null,null,null,null,"GOALS","KAART","KAART",null,null,null,null,"GOALS","KAART","KAART",null,null,null,null,null,"GOALS","KAART","KAART",null,null,null,null,"GOALS","KAART","KAART",null,null,null,null,null,"GOALS","KAART","KAART",null,null,null,null,"GOALS","KAART","KAART",null,null,null,null,null,"GOALS","KAART","KAART",null,null,null,null,"GOALS","KAART","KAART",null,null,null,null,null,"GOALS","KAART","KAART",null,null,null,null,"GOALS","KAART","KAART",null,null,null,null,null,"GOALS","KAART","KAART"]
[]
[]
[]
[]
[]
[]
[]
[]
[]
[]
["BEGELEIDER :",null,null,{"$f":"D1","v":{"$error":"#REF!"}},null,null,null,null,"BEGELEIDER :",null,null,{"$f":"D1","v":{"$error":"#REF!"}},null,null,null,"BEGELEIDER :",null,null,{"$f":"S1","v":{"$error":"#REF!"}},null,null,null,null,"BEGELEIDER :",null,null,{"$f":"S1","v":{"$error":"#REF!"}},null,null,null,"BEGELEIDER :",null,null,{"$f":"AH1","v":{"$error":"#REF!"}},null,null,null,null,"BEGELEIDER :",null,null,{"$f":"AH1","v":{"$error":"#REF!"}},null,null,null,"BEGELEIDER :",null,null,{"$f":"AW1","v":{"$error":"#REF!"}},null,null,null,null,"BEGELEIDER :",null,null,{"$f":"AW1","v":{"$error":"#REF!"}},null,null,null,"BEGELEIDER :",null,null,{"$f":"BL1","v":{"$error":"#REF!"}},null,null,null,null,"BEGELEIDER :",null,null,{"$f":"BL1","v":{"$error":"#REF!"}},null,null,null,"BEGELEIDER :",null,null,{"$f":"CA1","v":{"$error":"#REF!"}},null,null,null,null,"BEGELEIDER :",null,null,{"$f":"CA1","v":{"$error":"#REF!"}},null,null,null,"BEGELEIDER :",null,null,{"$f":"CP1","v":{"$error":"#REF!"}},null,null,null,null,"BEGELEIDER :",null,null,{"$f":"CP1","v":{"$error":"#REF!"}},null,null,null,"BEGELEIDER :",null,null,{"$f":"DE1","v":{"$error":"#REF!"}},null,null,null,null,"BEGELEIDER :",null,null,{"$f":"DE1","v":{"$error":"#REF!"}},null,null,null,"BEGELEIDER :",null,null,{"$f":"DT1","v":{"$error":"#REF!"}},null,null,null,null,"BEGELEIDER :",null,null,{"$f":"DT1","v":{"$error":"#REF!"}},null,null,null,"BEGELEIDER :",null,null,{"$f":"EI1","v":{"$error":"#REF!"}},null,null,null,null,"BEGELEIDER :",null,null,{"$f":"EI1","v":{"$error":"#REF!"}},null,null,null,"BEGELEIDER :",null,null,{"$f":"EX1","v":{"$error":"#REF!"}},null,null,null,null,"BEGELEIDER :",null,null,{"$f":"EX1","v":{"$error":"#REF!"}},null,null,null,"BEGELEIDER :",null,null,{"$f":"FM1","v":{"$error":"#REF!"}},null,null,null,null,"BEGELEIDER :",null,null,{"$f":"FM1","v":{"$error":"#REF!"}}]
[]
["TEAM :",null,null,{"$f":"'Poule A'!A5","v":"FC Volendam"},null,null,null,null,"TEAM :",null,null,{"$f":"D3","v":{"$error":"#REF!"}},null,null,null,"TEAM :",null,null,{"$f":"S3","v":{"$error":"#REF!"}},null,null,null,null,"TEAM :",null,null,{"$f":"S3","v":{"$error":"#REF!"}},null,null,null,"TEAM :",null,null,{"$f":"AH3","v":{"$error":"#REF!"}},null,null,null,null,"TEAM :",null,null,{"$f":"AH3","v":{"$error":"#REF!"}},null,null,null,"TEAM :",null,null,{"$f":"AW3","v":{"$error":"#REF!"}},null,null,null,null,"TEAM :",null,null,{"$f":"AW3","v":{"$error":"#REF!"}},null,null,null,"TEAM :",null,null,{"$f":"BL3","v":{"$error":"#REF!"}},null,null,null,null,"TEAM :",null,null,{"$f":"BL3","v":{"$error":"#REF!"}},null,null,null,"TEAM :",null,null,{"$f":"CA3","v":{"$error":"#REF!"}},null,null,null,null,"TEAM :",null,null,{"$f":"CA3","v":{"$error":"#REF!"}},null,null,null,"TEAM :",null,null,{"$f":"CP3","v":{"$error":"#REF!"}},null,null,null,null,"TEAM :",null,null,{"$f":"CP3","v":{"$error":"#REF!"}},null,null,null,"TEAM :",null,null,{"$f":"DE3","v":{"$error":"#REF!"}},null,null,null,null,"TEAM :",null,null,{"$f":"DE3","v":{"$error":"#REF!"}},null,null,null,"TEAM :",null,null,{"$f":"DT3","v":{"$error":"#REF!"}},null,null,null,null,"TEAM :",null,null,{"$f":"DT3","v":{"$error":"#REF!"}},null,null,null,"TEAM :",null,null,{"$f":"EI3","v":{"$error":"#REF!"}},null,null,null,null,"TEAM :",null,null,{"$f":"EI3","v":{"$error":"#REF!"}},null,null,null,"TEAM :",null,null,{"$f":"EX3","v":{"$error":"#REF!"}},null,null,null,null,"TEAM :",null,null,{"$f":"EX3","v":{"$error":"#REF!"}},null,null,null,"TEAM :",null,null,{"$f":"FM3","v":{"$error":"#REF!"}},null,null,null,null,"TEAM :",null,null,{"$f":"FM3","v":{"$error":"#REF!"}}]
[]
["WEDSTRIJD :",null,null,null,{"$f":"#REF!","v":{"$error":"#REF!"}},null,null,null,"WEDSTRIJD :",null,null,null,null,null,null,"WEDSTRIJD :",null,null,null,{"$f":"#REF!","v":{"$error":"#REF!"}},null,null,null,"WEDSTRIJD :",null,null,null,null,null,null,"WEDSTRIJD :",null,null,null,{"$f":"#REF!","v":{"$error":"#REF!"}},null,null,null,"WEDSTRIJD :",null,null,null,null,null,null,"WEDSTRIJD :",null,null,null,{"$f":"#REF!","v":{"$error":"#REF!"}},null,null,null,"WEDSTRIJD :",null,null,null,null,null,null,"WEDSTRIJD :",null,null,null,{"$f":"#REF!","v":{"$error":"#REF!"}},null,null,null,"WEDSTRIJD :",null,null,null,null,null,null,"WEDSTRIJD :",null,null,null,{"$f":"#REF!","v":{"$error":"#REF!"}},null,null,null,"WEDSTRIJD :",null,null,null,null,null,null,"WEDSTRIJD :",null,null,null,{"$f":"#REF!","v":{"$error":"#REF!"}},null,null,null,"WEDSTRIJD :",null,null,null,null,null,null,"WEDSTRIJD :",null,null,null,{"$f":"#REF!","v":{"$error":"#REF!"}},null,null,null,"WEDSTRIJD :",null,null,null,null,null,null,"WEDSTRIJD :",null,null,null,{"$f":"#REF!","v":{"$error":"#REF!"}},null,null,null,"WEDSTRIJD :",null,null,null,null,null,null,"WEDSTRIJD :",null,null,null,{"$f":"#REF!","v":{"$error":"#REF!"}},null,null,null,"WEDSTRIJD :",null,null,null,null,null,null,"WEDSTRIJD :",null,null,null,{"$f":"#REF!","v":{"$error":"#REF!"}},null,null,null,"WEDSTRIJD :",null,null,null,null,null,null,"WEDSTRIJD :",null,null,null,{"$f":"#REF!","v":{"$error":"#REF!"}},null,null,null,"WEDSTRIJD :"]
[]
[{"$f":"#REF!","v":{"$error":"#REF!"}},null,null,"_",{"$f":"#REF!","v":{"$error":"#REF!"}},null,null,null,null,null,null,"_",null,null,null,{"$f":"#REF!","v":{"$error":"#REF!"}},null,null,"_",{"$f":"#REF!","v":{"$error":"#REF!"}},null,null,null,null,null,null,"_",null,null,null,{"$f":"#REF!","v":{"$error":"#REF!"}},null,null,"_",{"$f":"#REF!","v":{"$error":"#REF!"}},null,null,null,null,null,null,"_",null,null,null,{"$f":"#REF!","v":{"$error":"#REF!"}},null,null,"_",{"$f":"#REF!","v":{"$error":"#REF!"}},null,null,null,null,null,null,"_",null,null,null,{"$f":"#REF!","v":{"$error":"#REF!"}},null,null,"_",{"$f":"#REF!","v":{"$error":"#REF!"}},null,null,null,null,null,null,"_",null,null,null,{"$f":"#REF!","v":{"$error":"#REF!"}},null,null,"_",{"$f":"#REF!","v":{"$error":"#REF!"}},null,null,null,null,null,null,"_",null,null,null,{"$f":"#REF!","v":{"$error":"#REF!"}},null,null,"_",{"$f":"#REF!","v":{"$error":"#REF!"}},null,null,null,null,null,null,"_",null,null,null,{"$f":"#REF!","v":{"$error":"#REF!"}},null,null,"_",{"$f":"#REF!","v":{"$error":"#REF!"}},null,null,null,null,null,null,"_",null,null,null,{"$f":"#REF!","v":{"$error":"#REF!"}},null,null,"_",{"$f":"#REF!","v":{"$error":"#REF!"}},null,null,null,null,null,null,"_",null,null,null,{"$f":"#REF!","v":{"$error":"#REF!"}},null,null,"_",{"$f":"#REF!","v":{"$error":"#REF!"}},null,null,null,null,null,null,"_",null,null,null,{"$f":"#REF!","v":{"$error":"#REF!"}},null,null,"_",{"$f":"#REF!","v":{"$error":"#REF!"}},null,null,null,null,null,null,"_",null,null,null,{"$f":"#REF!","v":{"$error":"#REF!"}},null,null,"_",{"$f":"#REF!","v":{"$error":"#REF!"}},null,null,null,null,null,null,"_"]
[]
["UITSLAG >>>>>",null,null,"_",null,"Veld :",{"$f":"#REF!","v":{"$error":"#REF!"}},null,"UITSLAG >>>>>",null,null,"_",null,"Veld :",null,"UITSLAG >>>>>",null,null,"_",null,"Veld :",{"$f":"#REF!","v":{"$error":"#REF!"}},null,"UITSLAG >>>>>",null,null,"_",null,"Veld :",null,"UITSLAG >>>>>",null,null,"_",null,"Veld :",{"$f":"#REF!","v":{"$error":"#REF!"}},null,"UITSLAG >>>>>",null,null,"_",null,"Veld :",null,"UITSLAG >>>>>",null,null,"_",null,"Veld :",{"$f":"#REF!","v":{"$error":"#REF!"}},null,"UITSLAG >>>>>",null,null,"_",null,"Veld :",null,"UITSLAG >>>>>",null,null,"_",null,"Veld :",{"$f":"#REF!","v":{"$error":"#REF!"}},null,"UITSLAG >>>>>",null,null,"_",null,"Veld :",null,"UITSLAG >>>>>",null,null,"_",null,"Veld :",{"$f":"#REF!","v":{"$error":"#REF!"}},null,"UITSLAG >>>>>",null,null,"_",null,"Veld :",null,"UITSLAG >>>>>",null,null,"_",null,"Veld :",{"$f":"#REF!","v":{"$error":"#REF!"}},null,"UITSLAG >>>>>",null,null,"_",null,"Veld :",null,"UITSLAG >>>>>",null,null,"_",null,"Veld :",{"$f":"#REF!","v":{"$error":"#REF!"}},null,"UITSLAG >>>>>",null,null,"_",null,"Veld :",null,"UITSLAG >>>>>",null,null,"_",null,"Veld :",{"$f":"#REF!","v":{"$error":"#REF!"}},null,"UITSLAG >>>>>",null,null,"_",null,"Veld :",null,"UITSLAG >>>>>",null,null,"_",null,"Veld :",{"$f":"#REF!","v":{"$error":"#REF!"}},null,"UITSLAG >>>>>",null,null,"_",null,"Veld :",null,"UITSLAG >>>>>",null,null,"_",null,"Veld :",{"$f":"#REF!","v":{"$error":"#REF!"}},null,"UITSLAG >>>>>",null,null,"_",null,"Veld :",null,"UITSLAG >>>>>",null,null,"_",null,"Veld :",{"$f":"#REF!","v":{"$error":"#REF!"}},null,"UITSLAG >>>>>",null,null,"_",null,"Veld :"]
[]
["NR.","NAAM SPELER",null,null,"AANTAL","GELE","RODE ",null,"NR.","NAAM SPELER",null,null,"AANTAL","GELE","RODE ","NR.","NAAM SPELER",null,null,"AANTAL","GELE","RODE ",null,"NR.","NAAM SPELER",null,null,"AANTAL","GELE","RODE ","NR.","NAAM SPELER",null,null,"AANTAL","GELE","RODE ",null,"NR.","NAAM SPELER",null,null,"AANTAL","GELE","RODE ","NR.","NAAM SPELER",null,null,"AANTAL","GELE","RODE ",null,"NR.","NAAM SPELER",null,null,"AANTAL","GELE","RODE ","NR.","NAAM SPELER",null,null,"AANTAL","GELE","RODE ",null,"NR.","NAAM SPELER",null,null,"AANTAL","GELE","RODE ","NR.","NAAM SPELER",null,null,"AANTAL","GELE","RODE ",null,"NR.","NAAM SPELER",null,null,"AANTAL","GELE","RODE ","NR.","NAAM SPELER",null,null,"AANTAL","GELE","RODE ",null,"NR.","NAAM SPELER",null,null,"AANTAL","GELE","RODE ","NR.","NAAM SPELER",null,null,"AANTAL","GELE","RODE ",null,"NR.","NAAM SPELER",null,null,"AANTAL","GELE","RODE ","NR.","NAAM SPELER",null,null,"AANTAL","GELE","RODE ",null,"NR.","NAAM SPELER",null,null,"AANTAL","GELE","RODE ","NR.","NAAM SPELER",null,null,"AANTAL","GELE","RODE ",null,"NR.","NAAM SPELER",null,null,"AANTAL","GELE","RODE ","NR.","NAAM SPELER",null,null,"AANTAL","GELE","RODE ",null,"NR.","NAAM SPELER",null,null,"AANTAL","GELE","RODE ","NR.","NAAM SPELER",null,null,"AANTAL","GELE","RODE ",null,"NR.","NAAM SPELER",null,null,"AANTAL","GELE","RODE "]
[null,null,null,null,"GOALS","KAART","KAART",null,null,null,null,null,"GOALS","KAART","KAART",null,null,null,null,"GOALS","KAART","KAART",null,null,null,null,null,"GOALS","KAART","KAART",null,null,null,null,"GOALS","KAART","KAART",null,null,null,null,null,"GOALS","KAART","KAART",null,null,null,null,"GOALS","KAART","KAART",null,null,null,null,null,"GOALS","KAART","KAART",null,null,null,null,"GOALS","KAART","KAART",null,null,null,null,null,"GOALS","KAART","KAART",null,null,null,null,"GOALS","KAART","KAART",null,null,null,null,null,"GOALS","KAART","KAART",null,null,null,null,"GOALS","KAART","KAART",null,null,null,null,null,"GOALS","KAART","KAART",null,null,null,null,"GOALS","KAART","KAART",null,null,null,null,null,"GOALS","KAART","KAART",null,null,null,null,"GOALS","KAART","KAART",null,null,null,null,null,"GOALS","KAART","KAART",null,null,null,null,"GOALS","KAART","KAART",null,null,null,null,null,"GOALS","KAART","KAART",null,null,null,null,"GOALS","KAART","KAART",null,null,null,null,null,"GOALS","KAART","KAART",null,null,null,null,"GOALS","KAART","KAART",null,null,null,null,null,"GOALS","KAART","KAART"]
[]
[]
[]
[]
[]
[]
[]
[]
[]
[]
[]
["BEGELEIDER :",null,null,{"$f":"D1","v":{"$error":"#REF!"}},null,null,null,null,"BEGELEIDER :",null,null,{"$f":"D1","v":{"$error":"#REF!"}},null,null,null,"BEGELEIDER :",null,null,{"$f":"S1","v":{"$error":"#REF!"}},null,null,null,null,"BEGELEIDER :",null,null,{"$f":"S1","v":{"$error":"#REF!"}},null,null,null,"BEGELEIDER :",null,null,{"$f":"AH1","v":{"$error":"#REF!"}},null,null,null,null,"BEGELEIDER :",null,null,{"$f":"AH1","v":{"$error":"#REF!"}},null,null,null,"BEGELEIDER :",null,null,{"$f":"AW1","v":{"$error":"#REF!"}},null,null,null,null,"BEGELEIDER :",null,null,{"$f":"AW1","v":{"$error":"#REF!"}},null,null,null,"BEGELEIDER :",null,null,{"$f":"BL1","v":{"$error":"#REF!"}},null,null,null,null,"BEGELEIDER :",null,null,{"$f":"BL1","v":{"$error":"#REF!"}},null,null,null,"BEGELEIDER :",null,null,{"$f":"CA1","v":{"$error":"#REF!"}},null,null,null,null,"BEGELEIDER :",null,null,{"$f":"CA1","v":{"$error":"#REF!"}},null,null,null,"BEGELEIDER :",null,null,{"$f":"CP1","v":{"$error":"#REF!"}},null,null,null,null,"BEGELEIDER :",null,null,{"$f":"CP1","v":{"$error":"#REF!"}},null,null,null,"BEGELEIDER :",null,null,{"$f":"DE1","v":{"$error":"#REF!"}},null,null,null,null,"BEGELEIDER :",null,null,{"$f":"DE1","v":{"$error":"#REF!"}},null,null,null,"BEGELEIDER :",null,null,{"$f":"DT1","v":{"$error":"#REF!"}},null,null,null,null,"BEGELEIDER :",null,null,{"$f":"DT1","v":{"$error":"#REF!"}},null,null,null,"BEGELEIDER :",null,null,{"$f":"EI1","v":{"$error":"#REF!"}},null,null,null,null,"BEGELEIDER :",null,null,{"$f":"EI1","v":{"$error":"#REF!"}},null,null,null,"BEGELEIDER :",null,null,{"$f":"EX1","v":{"$error":"#REF!"}},null,null,null,null,"BEGELEIDER :",null,null,{"$f":"EX1","v":{"$error":"#REF!"}},null,null,null,"BEGELEIDER :",null,null,{"$f":"FM1","v":{"$error":"#REF!"}},null,null,null,null,"BEGELEIDER :",null,null,{"$f":"FM1","v":{"$error":"#REF!"}}]
[]
["TEAM :",null,null,{"$f":"D3","v":{"$error":"#REF!"}},null,null,null,null,"TEAM :",null,null,{"$f":"D3","v":{"$error":"#REF!"}},null,null,null,"TEAM :",null,null,{"$f":"S3","v":{"$error":"#REF!"}},null,null,null,null,"TEAM :",null,null,{"$f":"S3","v":{"$error":"#REF!"}},null,null,null,"TEAM :",null,null,{"$f":"AH3","v":{"$error":"#REF!"}},null,null,null,null,"TEAM :",null,null,{"$f":"AH3","v":{"$error":"#REF!"}},null,null,null,"TEAM :",null,null,{"$f":"AW3","v":{"$error":"#REF!"}},null,null,null,null,"TEAM :",null,null,{"$f":"AW3","v":{"$error":"#REF!"}},null,null,null,"TEAM :",null,null,{"$f":"BL3","v":{"$error":"#REF!"}},null,null,null,null,"TEAM :",null,null,{"$f":"BL3","v":{"$error":"#REF!"}},null,null,null,"TEAM :",null,null,{"$f":"CA3","v":{"$error":"#REF!"}},null,null,null,null,"TEAM :",null,null,{"$f":"CA3","v":{"$error":"#REF!"}},null,null,null,"TEAM :",null,null,{"$f":"CP3","v":{"$error":"#REF!"}},null,null,null,null,"TEAM :",null,null,{"$f":"CP3","v":{"$error":"#REF!"}},null,null,null,"TEAM :",null,null,{"$f":"DE3","v":{"$error":"#REF!"}},null,null,null,null,"TEAM :",null,null,{"$f":"DE3","v":{"$error":"#REF!"}},null,null,null,"TEAM :",null,null,{"$f":"DT3","v":{"$error":"#REF!"}},null,null,null,null,"TEAM :",null,null,{"$f":"DT3","v":{"$error":"#REF!"}},null,null,null,"TEAM :",null,null,{"$f":"EI3","v":{"$error":"#REF!"}},null,null,null,null,"TEAM :",null,null,{"$f":"EI3","v":{"$error":"#REF!"}},null,null,null,"TEAM :",null,null,{"$f":"EX3","v":{"$error":"#REF!"}},null,null,null,null,"TEAM :",null,null,{"$f":"EX3","v":{"$error":"#REF!"}},null,null,null,"TEAM :",null,null,{"$f":"FM3","v":{"$error":"#REF!"}},null,null,null,null,"TEAM :",null,null,{"$f":"FM3","v":{"$error":"#REF!"}}]
[]
["WEDSTRIJD :",null,null,null,null,null,null,null,"WEDSTRIJD :",null,null,null,null,null,null,"WEDSTRIJD :",null,null,null,null,null,null,null,"WEDSTRIJD :",null,null,null,null,null,null,"WEDSTRIJD :",null,null,null,null,null,null,null,"WEDSTRIJD :",null,null,null,null,null,null,"WEDSTRIJD :",null,null,null,null,null,null,null,"WEDSTRIJD :",null,null,null,null,null,null,"WEDSTRIJD :",null,null,null,null,null,null,null,"WEDSTRIJD :",null,null,null,null,null,null,"WEDSTRIJD :",null,null,null,null,null,null,null,"WEDSTRIJD :",null,null,null,null,null,null,"WEDSTRIJD :",null,null,null,null,null,null,null,"WEDSTRIJD :",null,null,null,null,null,null,"WEDSTRIJD :",null,null,null,null,null,null,null,"WEDSTRIJD :",null,null,null,null,null,null,"WEDSTRIJD :",null,null,null,null,null,null,null,"WEDSTRIJD :",null,null,null,null,null,null,"WEDSTRIJD :",null,null,null,null,null,null,null,"WEDSTRIJD :",null,null,null,null,null,null,"WEDSTRIJD :",null,null,null,null,null,null,null,"WEDSTRIJD :",null,null,null,null,null,null,"WEDSTRIJD :",null,null,null,null,null,null,null,"WEDSTRIJD :"]
[]
[null,null,null,"_",null,null,null,null,null,null,null,"_",null,null,null,null,null,null,"_",null,null,null,null,null,null,null,"_",null,null,null,null,null,null,"_",null,null,null,null,null,null,null,"_",null,null,null,null,null,null,"_",null,null,null,null,null,null,null,"_",null,null,null,null,null,null,"_",null,null,null,null,null,null,null,"_",null,null,null,null,null,null,"_",null,null,null,null,null,null,null,"_",null,null,null,null,null,null,"_",null,null,null,null,null,null,null,"_",null,null,null,null,null,null,"_",null,null,null,null,null,null,null,"_",null,null,null,null,null,null,"_",null,null,null,null,null,null,null,"_",null,null,null,null,null,null,"_",null,null,null,null,null,null,null,"_",null,null,null,null,null,null,"_",null,null,null,null,null,null,null,"_",null,null,null,null,null,null,"_",null,null,null,null,null,null,null,"_"]
[]
[null,null,null,"_",null,"Veld :",null,null,null,null,null,"_",null,"Veld :",null,"UITSLAG >>>>>",null,null,"_",null,"Veld :",null,null,"UITSLAG >>>>>",null,null,"_",null,"Veld :",null,"UITSLAG >>>>>",null,null,"_",null,"Veld :",null,null,"UITSLAG >>>>>",null,null,"_",null,"Veld :",null,"UITSLAG >>>>>",null,null,"_",null,"Veld :",null,null,"UITSLAG >>>>>",null,null,"_",null,"Veld :",null,"UITSLAG >>>>>",null,null,"_",null,"Veld :",null,null,"UITSLAG >>>>>",null,null,"_",null,"Veld :",null,"UITSLAG >>>>>",null,null,"_",null,"Veld :",null,null,"UITSLAG >>>>>",null,null,"_",null,"Veld :",null,"UITSLAG >>>>>",null,null,"_",null,"Veld :",null,null,"UITSLAG >>>>>",null,null,"_",null,"Veld :",null,"UITSLAG >>>>>",null,null,"_",null,"Veld :",null,null,"UITSLAG >>>>>",null,null,"_",null,"Veld :",null,"UITSLAG >>>>>",null,null,"_",null,"Veld :",null,null,"UITSLAG >>>>>",null,null,"_",null,"Veld :",null,"UITSLAG >>>>>",null,null,"_",null,"Veld :",null,null,"UITSLAG >>>>>",null,null,"_",null,"Veld :",null,"UITSLAG >>>>>",null,null,"_",null,"Veld :",null,null,"UITSLAG >>>>>",null,null,"_",null,"Veld :",null,"UITSLAG >>>>>",null,null,"_",null,"Veld :",null,null,"UITSLAG >>>>>",null,null,"_",null,"Veld :"]
[]
["NR.","NAAM SPELER",null,null,"AANTAL","GELE",null,null,"NR.","NAAM SPELER",null,null,"AANTAL","GELE",null,"NR.","NAAM SPELER",null,null,"AANTAL","GELE","RODE ",null,"NR.","NAAM SPELER",null,null,"AANTAL","GELE","RODE ","NR.","NAAM SPELER",null,null,"AANTAL","GELE","RODE ",null,"NR.","NAAM SPELER",null,null,"AANTAL","GELE","RODE ","NR.","NAAM SPELER",null,null,"AANTAL","GELE","RODE ",null,"NR.","NAAM SPELER",null,null,"AANTAL","GELE","RODE ","NR.","NAAM SPELER",null,null,"AANTAL","GELE","RODE ",null,"NR.","NAAM SPELER",null,null,"AANTAL","GELE","RODE ","NR.","NAAM SPELER",null,null,"AANTAL","GELE","RODE ",null,"NR.","NAAM SPELER",null,null,"AANTAL","GELE","RODE ","NR.","NAAM SPELER",null,null,"AANTAL","GELE","RODE ",null,"NR.","NAAM SPELER",null,null,"AANTAL","GELE","RODE ","NR.","NAAM SPELER",null,null,"AANTAL","GELE","RODE ",null,"NR.","NAAM SPELER",null,null,"AANTAL","GELE","RODE ","NR.","NAAM SPELER",null,null,"AANTAL","GELE","RODE ",null,"NR.","NAAM SPELER",null,null,"AANTAL","GELE","RODE ","NR.","NAAM SPELER",null,null,"AANTAL","GELE","RODE ",null,"NR.","NAAM SPELER",null,null,"AANTAL","GELE","RODE ","NR.","NAAM SPELER",null,null,"AANTAL","GELE","RODE ",null,"NR.","NAAM SPELER",null,null,"AANTAL","GELE","RODE ","NR.","NAAM SPELER",null,null,"AANTAL","GELE","RODE ",null,"NR.","NAAM SPELER",null,null,"AANTAL","GELE","RODE "]
[null,null,null,null,"GOALS","KAART","KAART",null,null,null,null,null,"GOALS","KAART","KAART",null,null,null,null,"GOALS","KAART","KAART",null,null,null,null,null,"GOALS","KAART","KAART",null,null,null,null,"GOALS","KAART","KAART",null,null,null,null,null,"GOALS","KAART","KAART",null,null,null,null,"GOALS","KAART","KAART",null,null,null,null,null,"GOALS","KAART","KAART",null,null,null,null,"GOALS","KAART","KAART",null,null,null,null,null,"GOALS","KAART","KAART",null,null,null,null,"GOALS","KAART","KAART",null,null,null,null,null,"GOALS","KAART","KAART",null,null,null,null,"GOALS","KAART","KAART",null,null,null,null,null,"GOALS","KAART","KAART",null,null,null,null,"GOALS","KAART","KAART",null,null,null,null,null,"GOALS","KAART","KAART",null,null,null,null,"GOALS","KAART","KAART",null,null,null,null,null,"GOALS","KAART","KAART",null,null,null,null,"GOALS","KAART","KAART",null,null,null,null,null,"GOALS","KAART","KAART",null,null,null,null,"GOALS","KAART","KAART",null,null,null,null,null,"GOALS","KAART","KAART",null,null,null,null,"GOALS","KAART","KAART",null,null,null,null,null,"GOALS","KAART","KAART"]

{"sheet":"Topscoorder","index":5,"n_rows":48,"n_cols":25,"rows_kept":48,"cut":false,"hidden":true,"merged":[[0,0,0,3],[0,4,0,7],[23,0,23,3],[23,4,23,7],[23,8,23,11],[0,8,0,11],[0,12,0,15],[23,12,23,15],[0,16,0,19],[0,20,0,23],[23,16,23,19],[23,20,23,23]]}
[{"$f":"'Poule A'!A5","v":"FC Volendam"},null,null,null,{"$f":"'Poule A'!A6","v":"FC Den Bosch"},null,null,null,{"$f":"'Poule A'!A7","v":"Fortuna Köln"},null,null,null,{"$f":"'Poule A'!A8","v":"NAC Breda"},null,null,null,{"$f":"'Poule A'!A9","v":"Allemania Aachen"},null,null,null,{"$f":"'Poule A'!A10","v":"CVV Vriendenschaar"}]
[]
["Nr","SPELER","DOELPUNT",null,"Nr","SPELER","DOELPUNT",null,"Nr","SPELER","DOELPUNT",null,"Nr","SPELER","DOELPUNT",null,"Nr","SPELER","DOELPUNT",null,"Nr","SPELER","DOELPUNT"]
[null,null,null,null,17,null,1,null,16,null,1,null,10,null,1,null,2,null,1,"ed",18,"nargeseke",3]
[13,null,1,null,11,null,2,null,null,null,null,null,6,null,1,null,9,null,1,null,15,"fecunda",1]
[19,null,1,null,4,null,2,null,null,null,null,null,7,null,1,null,8,null,3,null,11,null,1]
[11,null,1,null,9,null,2,null,null,null,null,null,9,null,1,null,10,null,1,null,9,null,1]
[null,null,null,null,7,null,1,null,null,null,null,null,16,null,1,null,null,null,null,null,12,null,1]
[null,null,null,null,null,null,1,"ed"]
[]
[]
[]
[]
[]
[]
[]
[]
[]
[]
[]
[]
[]
[null,null,{"$f":"SUM(C4:C22)","v":3},null,null,null,{"$f":"SUM(G4:G22)","v":9},null,null,null,{"$f":"SUM(K4:K22)","v":1},null,null,null,{"$f":"SUM(O4:O22)","v":5},null,null,null,{"$f":"SUM(S4:S22)","v":6},null,null,null,{"$f":"SUM(W4:W22)","v":7},null,{"$f":"SUM(B23:X23)","v":31}]
[{"$f":"'Poule B'!A5","v":"NEC Nijmegen"},null,null,null,{"$f":"'Poule B'!A6","v":"Wuppertaler SV"},null,null,null,{"$f":"'Poule B'!A7","v":"S.B.V. Excelsior"},null,null,null,{"$f":"'Poule B'!A8","v":"Roda JC"},null,null,null,{"$f":"'Poule B'!A9","v":"FC Eindhoven"},null,null,null,{"$f":"'Poule B'!A10","v":"Bermuda eilanden"}]
[]
["Nr","SPELER","DOELPUNT",null,"Nr","SPELER","DOELPUNT",null,"Nr","SPELER","DOELPUNT",null,"Nr","SPELER","DOELPUNT",null,"Nr","SPELER","DOELPUNT",null,"Nr","SPELER","DOELPUNT"]
[7,null,2,null,9,null,3,null,19,null,1,null,14,null,1,null,10,null,3,null,10,null,2]
[29,null,1,null,11,null,6,null,9,null,1,null,16,null,1,null,11,null,1,null,17,null,1]
[17,null,1,null,7,null,2,null,2,null,1,null,18,null,1,null,9,null,1]
[19,null,1,null,6,null,1,null,20,null,1,null,9,null,1,null,8,null,1]
[22,null,1,null,13,null,2,null,11,null,2,null,8,null,3,null,17,null,2]
[20,null,2,null,10,null,1,null,14,null,1,null,15,null,1]
[null,null,null,null,null,null,null,null,null,null,1]
[]
[]
[]
[]
[]
[]
[]
[]
[]
[]
[]
[]
[null,null,{"$f":"SUM(C27:C45)","v":8},null,null,null,{"$f":"SUM(G27:G45)","v":15},null,null,null,{"$f":"SUM(K27:K45)","v":8},null,null,null,{"$f":"SUM(O27:O45)","v":8},null,null,null,{"$f":"SUM(S27:S45)","v":8},null,null,null,{"$f":"SUM(W27:W45)","v":3},null,{"$f":"SUM(B46:X46)","v":50}]
[]
[null,null,null,null,null,null,null,null,null,null,null,null,null,null,null,null,null,null,null,null,null,null,null,null,{"$f":"SUM(Y20:Y47)","v":81}]

{"sheet":"Topscoorder totaal","index":6,"n_rows":21,"n_cols":4,"rows_kept":21,"cut":false,"hidden":true,"merged":[]}
[null,"Naam","Vereninging","Doelpunten"]
[1]
[2]
[3]
[4]
[5]
[6]
[7]
[8]
[9]
[10]
[11]
[12]
[13]
[14]
[15]
[16]
[17]
[18]
[19]
[20]