Workbook

Sheet Trainingsschema 20262027
T1: Versie 6 - 30.9.2026
B3: Maandag | G3: =B3 -> Maandag | L3: =G3 -> Maandag | Q3: =L3 -> Maandag
B4: Veld 1A | D4: Veld 1B | G4: Veld 2A | I4: Veld 2B | L4: Veld 3A | N4: Veld 3B | Q4: Veld 4A | S4: Veld 4B
B5: links | C5: rechts | D5: links | E5: rechts | G5: links | H5: rechts | I5: links | J5: rechts | L5: links | M5: rechts | N5: links | O5: rechts | Q5: links | R5: rechts | S5: links | T5: rechts | U5: Kleedkamer | V5: Teams
A6: 16:30-16:45 | F6: 16:30-16:45 | K6: 16:30-16:45 | P6: 16:30-16:45 | U6: kk1 | V6: O9-1, O11-1
A7: 16:45-17:00 | F7: 16:45-17:00 | K7: 16:45-17:00 | P7: 16:45-17:00 | U7: kk2 | V7: O13-3, O16-2
A8: 17:00-17:15 | F8: 17:00-17:15 | K8: 17:00-17:15 | P8: 17:00-17:15 | U8: kk3 | V8: O17-2
A9: 17:15-17:30 | F9: 17:15-17:30 | K9: 17:15-17:30 | P9: 17:15-17:30 | U9: kk4 | V9: O16-1
A10: 17:30-17:45 | B10: O9-1 | C10: O10-1 | D10: O13-3 | E10: O13-3 | F10: 17:30-17:45 | G10: O11-1 | H10: O8-2 | I10: O8-3 | J10: O8-1 | K10: 17:30-17:45 | L10: O13-4 | M10: O13-4 | P10: 17:30-17:45 | U10: kk5 | V10: O8-1, O8-2, O8-3
A11: 17:45-18:00 | B11: O9-1 | C11: O10-1 | D11: O13-3 | E11: O13-3 | F11: 17:45-18:00 | G11: O11-1 | H11: O8-2 | I11: O8-3 | J11: O8-1 | K11: 17:45-18:00 | L11: O13-4 | M11: O13-4 | P11: 17:45-18:00 | U11: kk6 | V11: O13-2
A12: 18:00-18:15 | B12: O9-1 | C12: O10-1 | D12: O13-3 | E12: O13-3 | F12: 18:00-18:15 | G12: O11-1 | H12: O8-2 | I12: O8-3 | J12: O8-1 | K12: 18:00-18:15 | L12: O13-4 | M12: O13-4 | O12: Keepers, klein doel | P12: 18:00-18:15 | U12: kk7 | V12: O13-1
A13: 18:15-18:30 | B13: O9-1 | C13: O10-1 | D13: O13-3 | E13: O13-3 | F13: 18:15-18:30 | G13: O11-1 | H13: O8-2 | I13: O8-3 | J13: O8-1 | K13: 18:15-18:30 | L13: O13-4 | M13: O13-4 | O13: Keepers, klein doel | P13: 18:15-18:30 | U13: kk8 | V13: O15-1, O19-3
A14: 18:30-18:45 | B14: O9-1 | C14: O10-1 | D14: O13-3 | E14: O13-3 | F14: 18:30-18:45 | G14: O11-1 | H14: O8-2 | I14: O8-3 | J14: O8-1 | K14: 18:30-18:45 | L14: O13-4 | M14: O13-4 | O14: Keepers, klein doel | P14: 18:30-18:45 | U14: kk9 | V14: O10-1, O13-4
A15: 18:45-19:00 | B15: O17-1 | C15: O17-1 | D15: O16-1 | E15: O16-1 | F15: 18:45-19:00 | G15: O13-2 | H15: O13-2 | I15: O13-1 | J15: O13-1 | K15: 18:45-19:00 | L15: O14-1 | M15: O14-1 | N15: Keepers, groot doel | O15: Keepers, groot doel | P15: 18:45-19:00 | Q15: O15-1 | R15: O15-1 | S15: O16-2 | T15: O16-2 | U15: kk10 | V15: O14-1
A16: 19:00-19:15 | B16: O17-1 | C16: O17-1 | D16: O16-1 | E16: O16-1 | F16: 19:00-19:15 | G16: O13-2 | H16: O13-2 | I16: O13-1 | J16: O13-1 | K16: 19:00-19:15 | L16: O14-1 | M16: O14-1 | N16: Keepers, groot doel | O16: Keepers, groot doel | P16: 19:00-19:15 | Q16: O15-1 | R16: O15-1 | S16: O16-2 | T16: O16-2 | U16: kk11 | V16: FYSIO, S1
A17: 19:15-19:30 | B17: O17-1 | C17: O17-1 | D17: O16-1 | E17: O16-1 | F17: 19:15-19:30 | G17: O13-2 | H17: O13-2 | I17: O13-1 | J17: O13-1 | K17: 19:15-19:30 | L17: O14-1 | M17: O14-1 | N17: Keepers, groot doel | O17: Keepers, groot doel | P17: 19:15-19:30 | Q17: O15-1 | R17: O15-1 | S17: O16-2 | T17: O16-2 | U17: kk12
A18: 19:30-19:45 | B18: O17-1 | C18: O17-1 | D18: O16-1 | E18: O16-1 | F18: 19:30-19:45 | G18: O13-2 | H18: O13-2 | I18: O13-1 | J18: O13-1 | K18: 19:30-19:45 | L18: O14-1 | M18: O14-1 | N18: Keepers, groot doel | O18: Keepers, groot doel | P18: 19:30-19:45 | Q18: O15-1 | R18: O15-1 | S18: O16-2 | T18: O16-2 | U18: kk13 | V18: O19-1
A19: 19:45-20:00 | B19: O17-1 | C19: O17-1 | D19: O16-1 | E19: O16-1 | F19: 19:45-20:00 | G19: O13-2 | H19: O13-2 | I19: O13-1 | J19: O13-1 | K19: 19:45-20:00 | L19: O14-1 | M19: O14-1 | N19: Keepers, groot doel | O19: Keepers, groot doel | P19: 19:45-20:00 | Q19: O15-1 | R19: O15-1 | S19: O16-2 | T19: O16-2 | U19: kk14 | V19: O19-2
A20: 20:00-20:15 | B20: O17-1 | C20: O17-1 | D20: O16-1 | E20: O16-1 | F20: 20:00-20:15 | G20: O13-2 | H20: O13-2 | I20: O13-1 | J20: O13-1 | K20: 20:00-20:15 | L20: O14-1 | M20: O14-1 | N20: Keepers, groot doel | O20: Keepers, groot doel | P20: 20:00-20:15 | Q20: O15-1 | R20: O15-1 | U20: kk15 | V20: O23-2
A21: 20:15-20:30 | B21: O19-2 | C21: O19-2 | D21: O19-1 | E21: O19-1 | F21: 20:15-20:30 | G21: O15-2 | H21: O15-2 | I21: O23-2 | J21: O23-2 | K21: 20:15-20:30 | L21: Sel tot eind sep | M21: Sel tot eind sep | N21: Keepers, groot doel | O21: Keepers, groot doel | P21: 20:15-20:30 | Q21: O17-2 | R21: O17-2 | S21: O19-3 | T21: O19-3 | U21: kk16 | V21: O17-1
A22: 20:30-20:45 | B22: O19-2 | C22: O19-2 | D22: O19-1 | E22: O19-1 | F22: 20:30-20:45 | G22: O15-2 | H22: O15-2 | I22: O23-2 | J22: O23-2 | K22: 20:30-20:45 | L22: Sel tot eind sep | M22: Sel tot eind sep | N22: Keepers, groot doel | O22: Keepers, groot doel | P22: 20:30-20:45 | Q22: O17-2 | R22: O17-2 | S22: O19-3 | T22: O19-3
A23: 20:45-21:00 | B23: O19-2 | C23: O19-2 | D23: O19-1 | E23: O19-1 | F23: 20:45-21:00 | G23: O15-2 | H23: O15-2 | I23: O23-2 | J23: O23-2 | K23: 20:45-21:00 | L23: Sel tot eind sep | M23: Sel tot eind sep | N23: Keepers, groot doel | O23: Keepers, groot doel | P23: 20:45-21:00 | Q23: O17-2 | R23: O17-2 | S23: O19-3 | T23: O19-3
A24: 21:00-21:15 | B24: O19-2 | C24: O19-2 | D24: O19-1 | E24: O19-1 | F24: 21:00-21:15 | G24: O15-2 | H24: O15-2 | I24: O23-2 | J24: O23-2 | K24: 21:00-21:15 | L24: Sel tot eind sep | M24: Sel tot eind sep | P24: 21:00-21:15 | Q24: O17-2 | R24: O17-2 | S24: O19-3 | T24: O19-3
A25: 21:15-21:30 | B25: O19-2 | C25: O19-2 | D25: O19-1 | E25: O19-1 | F25: 21:15-21:30 | G25: O15-2 | H25: O15-2 | I25: O23-2 | J25: O23-2 | K25: 21:15-21:30 | L25: Sel tot eind sep | M25: Sel tot eind sep | P25: 21:15-21:30 | Q25: O17-2 | R25: O17-2 | S25: O19-3 | T25: O19-3
A26: 21:30-21:45 | B26: O19-2 | C26: O19-2 | D26: O19-1 | E26: O19-1 | F26: 21:30-21:45 | K26: 21:30-21:45 | L26: Sel tot eind sep | M26: Sel tot eind sep | P26: 21:30-21:45
B27: Dinsdag | G27: =B27 -> Dinsdag | L27: =G27 -> Dinsdag | Q27: =L27 -> Dinsdag
B28: Veld 1A | D28: Veld 1B | G28: Veld 2A | I28: Veld 2B | L28: Veld 3A | N28: Veld 3B | Q28: Veld 4A | S28: Veld 4B
B29: links | C29: rechts | D29: links | E29: rechts | G29: links | H29: rechts | I29: links | J29: rechts | L29: links | M29: rechts | N29: links | O29: rechts | Q29: links | R29: rechts | S29: links | T29: rechts | U29: Kleedkamer | V29: Teams
A30: 16:30-16:45 | F30: 16:30-16:45 | K30: 16:30-16:45 | P30: 16:30-16:45 | U30: kk1 | V30: O11-4, O14-3
A31: 16:45-17:00 | F31: 16:45-17:00 | K31: 16:45-17:00 | P31: 16:45-17:00 | U31: kk2 | V31: O10-3, O10-4
A32: 17:00-17:15 | F32: 17:00-17:15 | K32: 17:00-17:15 | P32: 17:00-17:15 | U32: kk3 | V32: O12-1
A33: 17:15-17:30 | F33: 17:15-17:30 | K33: 17:15-17:30 | P33: 17:15-17:30 | U33: kk4 | V33: O13-5
A34: 17:30-17:45 | B34: O9-2 | C34: O9-3 | D34: O12-1 | E34: O11-2 | F34: 17:30-17:45 | G34: O11-3 | H34: O11-4 | I34: O13-5 | J34: O13-5 | K34: 17:30-17:45 | N34: O14-2 | O34: O14-2 | P34: 17:30-17:45 | R34: O10-3 | S34: O10-4 | T34: O10-2 | U34: kk5 | V34: O15-3
A35: 17:45-18:00 | B35: O9-2 | C35: O9-3 | D35: O12-1 | E35: O11-2 | F35: 17:45-18:00 | G35: O11-3 | H35: O11-4 | I35: O13-5 | J35: O13-5 | K35: 17:45-18:00 | N35: O14-2 | O35: O14-2 | P35: 17:45-18:00 | R35: O10-3 | S35: O10-4 | T35: O10-2 | U35: kk6 | V35: O9-2, O9-3, O14-3
A36: 18:00-18:15 | B36: O9-2 | C36: O9-3 | D36: O12-1 | E36: O11-2 | F36: 18:00-18:15 | G36: O11-3 | H36: O11-4 | I36: O13-5 | J36: O13-5 | K36: 18:00-18:15 | N36: O14-2 | O36: O14-2 | P36: 18:00-18:15 | Q36: Keepers, klein doel | R36: O10-3 | S36: O10-4 | T36: O10-2 | U36: kk7 | V36: O13-6
A37: 18:15-18:30 | B37: O9-2 | C37: O9-3 | D37: O12-1 | E37: O11-2 | F37: 18:15-18:30 | G37: O11-3 | H37: O11-4 | I37: O13-5 | J37: O13-5 | K37: 18:15-18:30 | N37: O14-2 | O37: O14-2 | P37: 18:15-18:30 | Q37: Keepers, klein doel | R37: O10-3 | S37: O10-4 | T37: O10-2 | U37: kk8 | V37: O14-2
A38: 18:30-18:45 | B38: O14-1 | C38: O14-1 | D38: O14-3 | E38: O14-3 | F38: 18:30-18:45 | G38: O11-3 | H38: O11-4 | I38: O13-5 | J38: O13-5 | K38: 18:30-18:45 | N38: O19-2 | O38: O19-2 | P38: 18:30-18:45 | Q38: Keepers, klein doel | R38: O10-3 | S38: O10-4 | T38: O10-2 | U38: kk9 | V38: O10-2, O11-2
A39: 18:45-19:00 | B39: O14-1 | C39: O14-1 | D39: O14-3 | E39: O14-3 | F39: 18:45-19:00 | G39: O15-3 | H39: O15-3 | I39: O16-3 | J39: O16-3 | K39: 18:45-19:00 | L39: O13-6 | M39: O13-6 | N39: O19-2 | O39: O19-2 | P39: 18:45-19:00 | Q39: Keepers, groot doel | R39: Keepers, groot doel | U39: kk10 | V39: O14-1
A40: 19:00-19:15 | B40: O14-1 | C40: O14-1 | D40: O14-3 | E40: O14-3 | F40: 19:00-19:15 | G40: O15-3 | H40: O15-3 | I40: O16-3 | J40: O16-3 | K40: 19:00-19:15 | L40: O13-6 | M40: O13-6 | N40: O19-2 | O40: O19-2 | P40: 19:00-19:15 | Q40: Keepers, groot doel | R40: Keepers, groot doel | U40: kk11 | V40: S1
A41: 19:15-19:30 | B41: O14-1 | C41: O14-1 | D41: O14-3 | E41: O14-3 | F41: 19:15-19:30 | G41: O15-3 | H41: O15-3 | I41: O16-3 | J41: O16-3 | K41: 19:15-19:30 | L41: O13-6 | M41: O13-6 | N41: O19-2 | O41: O19-2 | P41: 19:15-19:30 | Q41: Keepers, groot doel | R41: Keepers, groot doel | U41: kk12 | V41: S2
...

Sheet Schaduwprogramma
AB1: ='Trainingsschema 20262027'!T1 -> Versie 6 - 30.9.2026
B3: Maandag | K3: =B3 -> Maandag | T3: =K3 -> Maandag | Y3: =T3 -> Maandag
B4: Veld 1A | F4: Veld 1B | K4: Veld 2A | O4: Veld 2B | T4: Veld 3A | V4: Veld 3B | Y4: Veld 4A | AA4: Veld 4B
B5: links 1 | D5: rechts | F5: links | H5: rechts | K5: links | M5: rechts | O5: links | Q5: rechts | T5: links | U5: rechts | V5: links | W5: rechts | Y5: links | Z5: rechts | AA5: links | AB5: rechts | AC5: Kleedkamer | AD5: Teams
A6: 16:30-16:45 | J6: 16:30-16:45 | S6: 16:30-16:45 | X6: 16:30-16:45 | AC6: kk1 | AD6: O9-1, O11-1
A7: 16:45-17:00 | J7: 16:45-17:00 | S7: 16:45-17:00 | X7: 16:45-17:00 | AC7: kk2 | AD7: O13-3, O16-2
A8: 17:00-17:15 | J8: 17:00-17:15 | S8: 17:00-17:15 | X8: 17:00-17:15 | AC8: kk3 | AD8: O11-2, O14-3, O17-2
A9: 17:15-17:30 | J9: 17:15-17:30 | S9: 17:15-17:30 | X9: 17:15-17:30 | AC9: kk4 | AD9: O16-1
A10: 17:30-17:45 | B10: O9-1 | C10: O9-1 | D10: O13-4 | E10: O13-4 | F10: O10-1 | G10: O10-1 | H10: O13-3 | I10: O13-3 | J10: 17:30-17:45 | K10: O11-1 | L10: O11-1 | P10: O8-1 | Q10: O8-2 | R10: O8-3 | S10: 17:30-17:45 | X10: 17:30-17:45 | AC10: kk5 | AD10: O8-1, O8-2, O8-3, O17-1
A11: 17:45-18:00 | B11: O9-1 | C11: O9-1 | D11: O13-4 | E11: O13-4 | F11: O10-1 | G11: O10-1 | H11: O13-3 | I11: O13-3 | J11: 17:45-18:00 | K11: O11-1 | L11: O11-1 | P11: O8-1 | Q11: O8-2 | R11: O8-3 | S11: 17:45-18:00 | X11: 17:45-18:00 | AC11: kk6 | AD11: O13-2
A12: 18:00-18:15 | B12: O9-1 | C12: O9-1 | D12: O13-4 | E12: O13-4 | F12: O10-1 | G12: O10-1 | H12: O13-3 | I12: O13-3 | J12: 18:00-18:15 | K12: O11-1 | L12: O11-1 | M12: Keepers, klein doel | P12: O8-1 | Q12: O8-2 | R12: O8-3 | S12: 18:00-18:15 | X12: 18:00-18:15 | AC12: kk7 | AD12: O13-1
A13: 18:15-18:30 | B13: O9-1 | C13: O9-1 | D13: O13-4 | E13: O13-4 | F13: O10-1 | G13: O10-1 | H13: O13-3 | I13: O13-3 | J13: 18:15-18:30 | K13: O11-1 | L13: O11-1 | M13: Keepers, klein doel | P13: O8-1 | Q13: O8-2 | R13: O8-3 | S13: 18:15-18:30 | X13: 18:15-18:30 | AC13: kk8 | AD13: O15-1, O19-3
A14: 18:30-18:45 | B14: O9-1 | C14: O9-1 | D14: O13-4 | E14: O13-4 | F14: O10-1 | G14: O10-1 | H14: O13-3 | I14: O13-3 | J14: 18:30-18:45 | K14: O11-1 | L14: O11-1 | M14: Keepers, klein doel | P14: O8-1 | Q14: O8-2 | R14: O8-3 | S14: 18:30-18:45 | X14: 18:30-18:45 | AC14: kk9 | AD14: O10-1, O13-4
A15: 18:45-19:00 | B15: O17-1 | C15: O17-1 | D15: O14-1 | E15: O14-1 | F15: O16-1 | G15: O16-1 | H15: O15-1 | I15: O15-1 | J15: 18:45-19:00 | K15: O13-2 | L15: O13-2 | M15: Keepers, groot doel | N15: Keepers, groot doel | O15: O13-1 | P15: O13-1 | Q15: O16-2 | R15: O16-2 | S15: 18:45-19:00 | X15: 18:45-19:00 | AC15: kk10 | AD15: O14-1
A16: 19:00-19:15 | B16: O17-1 | C16: O17-1 | D16: O14-1 | E16: O14-1 | F16: O16-1 | G16: O16-1 | H16: O15-1 | I16: O15-1 | J16: 19:00-19:15 | K16: O13-2 | L16: O13-2 | M16: Keepers, groot doel | N16: Keepers, groot doel | O16: O13-1 | P16: O13-1 | Q16: O16-2 | R16: O16-2 | S16: 19:00-19:15 | X16: 19:00-19:15 | AC16: kk11 | AD16: FYSIO, S1
A17: 19:15-19:30 | B17: O17-1 | C17: O17-1 | D17: O14-1 | E17: O14-1 | F17: O16-1 | G17: O16-1 | H17: O15-1 | I17: O15-1 | J17: 19:15-19:30 | K17: O13-2 | L17: O13-2 | M17: Keepers, groot doel | N17: Keepers, groot doel | O17: O13-1 | P17: O13-1 | Q17: O16-2 | R17: O16-2 | S17: 19:15-19:30 | X17: 19:15-19:30 | AC17: kk12
A18: 19:30-19:45 | B18: O17-1 | C18: O17-1 | D18: O14-1 | E18: O14-1 | F18: O16-1 | G18: O16-1 | H18: O15-1 | I18: O15-1 | J18: 19:30-19:45 | K18: O13-2 | L18: O13-2 | M18: Keepers, groot doel | N18: Keepers, groot doel | O18: O13-1 | P18: O13-1 | Q18: O16-2 | R18: O16-2 | S18: 19:30-19:45 | X18: 19:30-19:45 | AC18: kk13 | AD18: O19-1
A19: 19:45-20:00 | B19: O17-1 | C19: O17-1 | D19: O14-1 | E19: O14-1 | F19: O16-1 | G19: O16-1 | H19: O15-1 | I19: O15-1 | J19: 19:45-20:00 | K19: O13-2 | L19: O13-2 | M19: Keepers, groot doel | N19: Keepers, groot doel | O19: O13-1 | P19: O13-1 | Q19: O16-2 | R19: O16-2 | S19: 19:45-20:00 | X19: 19:45-20:00 | AC19: kk14 | AD19: O19-2
A20: 20:00-20:15 | B20: O17-1 | C20: O17-1 | D20: O14-1 | E20: O14-1 | F20: O16-1 | G20: O16-1 | H20: O15-1 | I20: O15-1 | J20: 20:00-20:15 | K20: O13-2 | L20: O13-2 | M20: Keepers, groot doel | N20: Keepers, groot doel | O20: O13-1 | P20: O13-1 | S20: 20:00-20:15 | X20: 20:00-20:15 | AC20: kk15 | AD20: O23-2
A21: 20:15-20:30 | B21: O19-2 | C21: O19-2 | D21: O19-1 | E21: O19-1 | F21: S1 | G21: S1 | H21: S1 | I21: S1 | J21: 20:15-20:30 | K21: O15-2 | L21: O15-2 | M21: O23-2 | N21: O23-2 | O21: O17-2 | P21: O17-2 | Q21: O19-3 | R21: O19-3 | S21: 20:15-20:30 | X21: 20:15-20:30 | AC21: kk16
A22: 20:30-20:45 | B22: O19-2 | C22: O19-2 | D22: O19-1 | E22: O19-1 | F22: S1 | G22: S1 | H22: S1 | I22: S1 | J22: 20:30-20:45 | K22: O15-2 | L22: O15-2 | M22: O23-2 | N22: O23-2 | O22: O17-2 | P22: O17-2 | Q22: O19-3 | R22: O19-3 | S22: 20:30-20:45 | X22: 20:30-20:45
A23: 20:45-21:00 | B23: O19-2 | C23: O19-2 | D23: O19-1 | E23: O19-1 | F23: S1 | G23: S1 | H23: S1 | I23: S1 | J23: 20:45-21:00 | K23: O15-2 | L23: O15-2 | M23: O23-2 | N23: O23-2 | O23: O17-2 | P23: O17-2 | Q23: O19-3 | R23: O19-3 | S23: 20:45-21:00 | X23: 20:45-21:00
A24: 21:00-21:15 | B24: O19-2 | C24: O19-2 | D24: O19-1 | E24: O19-1 | F24: S1 | G24: S1 | H24: S1 | I24: S1 | J24: 21:00-21:15 | K24: O15-2 | L24: O15-2 | M24: O23-2 | N24: O23-2 | O24: O17-2 | P24: O17-2 | Q24: O19-3 | R24: O19-3 | S24: 21:00-21:15 | X24: 21:00-21:15
A25: 21:15-21:30 | B25: O19-2 | C25: O19-2 | D25: O19-1 | E25: O19-1 | F25: S1 | G25: S1 | H25: S1 | I25: S1 | J25: 21:15-21:30 | K25: O15-2 | L25: O15-2 | M25: O23-2 | N25: O23-2 | O25: O17-2 | P25: O17-2 | Q25: O19-3 | R25: O19-3 | S25: 21:15-21:30 | X25: 21:15-21:30
A26: 21:30-21:45 | B26: O19-2 | C26: O19-2 | D26: O19-1 | E26: O19-1 | F26: S1 | G26: S1 | H26: S1 | I26: S1 | J26: 21:30-21:45 | S26: 21:30-21:45 | X26: 21:30-21:45
B27: Dinsdag | K27: =B27 -> Dinsdag | T27: =K27 -> Dinsdag | Y27: =T27 -> Dinsdag
B28: Veld 1A | F28: Veld 1B | K28: Veld 2A | O28: Veld 2B | T28: Veld 3A | V28: Veld 3B | Y28: Veld 4A | AA28: Veld 4B
B29: links 1 | D29: rechts | F29: links | H29: rechts | K29: links | M29: rechts | O29: links | Q29: rechts | T29: links | U29: rechts | V29: links | W29: rechts | Y29: links | Z29: rechts | AA29: links | AB29: rechts | AC29: Kleedkamer | AD29: Teams
A30: 16:30-16:45 | J30: 16:30-16:45 | S30: 16:30-16:45 | X30: 16:30-16:45 | AC30: kk1 | AD30: O11-4
A31: 16:45-17:00 | J31: 16:45-17:00 | S31: 16:45-17:00 | X31: 16:45-17:00 | AC31: kk2 | AD31: O10-3, O10-4
A32: 17:00-17:15 | J32: 17:00-17:15 | S32: 17:00-17:15 | X32: 17:00-17:15 | AC32: kk3 | AD32: O12-1
A33: 17:15-17:30 | J33: 17:15-17:30 | S33: 17:15-17:30 | X33: 17:15-17:30 | AC33: kk4 | AD33: O13-5
A34: 17:30-17:45 | B34: O9-2 | C34: O9-3 | D34: O13-6 | E34: O13-6 | F34: O12-1 | G34: O11-2 | H34: O14-2 | I34: O14-2 | J34: 17:30-17:45 | K34: O11-3 | L34: O11-4 | M34: O10-3 | N34: O10-4 | O34: O10-2 | P34: O13-5 | Q34: O13-5 | R34: O13-5 | S34: 17:30-17:45 | X34: 17:30-17:45 | AC34: kk5 | AD34: O15-3
A35: 17:45-18:00 | B35: O9-2 | C35: O9-3 | D35: O13-6 | E35: O13-6 | F35: O12-1 | G35: O11-2 | H35: O14-2 | I35: O14-2 | J35: 17:45-18:00 | K35: O11-3 | L35: O11-4 | M35: O10-3 | N35: O10-4 | O35: O10-2 | P35: O13-5 | Q35: O13-5 | R35: O13-5 | S35: 17:45-18:00 | X35: 17:45-18:00 | AC35: kk6 | AD35: O9-2, O9-3
A36: 18:00-18:15 | B36: O9-2 | C36: O9-3 | D36: O13-6 | E36: O13-6 | F36: O12-1 | G36: O11-2 | H36: O14-2 | I36: O14-2 | J36: 18:00-18:15 | K36: O11-3 | L36: O11-4 | M36: O10-3 | N36: O10-4 | O36: O10-2 | P36: O13-5 | Q36: O13-5 | R36: O13-5 | S36: 18:00-18:15 | X36: 18:00-18:15 | AC36: kk7 | AD36: O13-6
A37: 18:15-18:30 | B37: O9-2 | C37: O9-3 | D37: O13-6 | E37: O13-6 | F37: O12-1 | G37: O11-2 | H37: O14-2 | I37: O14-2 | J37: 18:15-18:30 | K37: O11-3 | L37: O11-4 | M37: O10-3 | N37: O10-4 | O37: O10-2 | P37: O13-5 | Q37: O13-5 | R37: O13-5 | S37: 18:15-18:30 | X37: 18:15-18:30 | AC37: kk8 | AD37: O14-2
A38: 18:30-18:45 | B38: O14-1 | C38: O14-1 | D38: O14-1 | E38: O14-1 | F38: O14-3 | G38: O14-3 | H38: O19-2 | I38: O19-2 | J38: 18:30-18:45 | K38: O11-3 | L38: O11-4 | M38: O10-3 | N38: O10-4 | O38: O10-2 | P38: O13-5 | Q38: O13-5 | R38: O13-5 | S38: 18:30-18:45 | X38: 18:30-18:45 | AC38: kk9 | AD38: O10-2, O11-2
A39: 18:45-19:00 | B39: O14-1 | C39: O14-1 | D39: O14-1 | E39: O14-1 | F39: O14-3 | G39: O14-3 | H39: O19-2 | I39: O19-2 | J39: 18:45-19:00 | K39: Keepers, groot doel | L39: O15-3 | M39: O15-3 | N39: O15-3 | O39: O16-3 | P39: O16-3 | Q39: O16-3 | R39: O16-3 | S39: 18:45-19:00 | X39: 18:45-19:00 | AC39: kk10 | AD39: O14-1
A40: 19:00-19:15 | B40: O14-1 | C40: O14-1 | D40: O14-1 | E40: O14-1 | F40: O14-3 | G40: O14-3 | H40: O19-2 | I40: O19-2 | J40: 19:00-19:15 | K40: Keepers, groot doel | L40: O15-3 | M40: O15-3 | N40: O15-3 | O40: O16-3 | P40: O16-3 | Q40: O16-3 | R40: O16-3 | S40: 19:00-19:15 | X40: 19:00-19:15 | AC40: kk11 | AD40: S1
A41: 19:15-19:30 | B41: O14-1 | C41: O14-1 | D41: O14-1 | E41: O14-1 | F41: O14-3 | G41: O14-3 | H41: O19-2 | I41: O19-2 | J41: 19:15-19:30 | K41: Keepers, groot doel | L41: O15-3 | M41: O15-3 | N41: O15-3 | O41: O16-3 | P41: O16-3 | Q41: O16-3 | R41: O16-3 | S41: 19:15-19:30 | X41: 19:15-19:30 | AC41: kk12 | AD41: S2
...

Sheet Veldoverzicht
A1: Team 26/27 | B1: Team 25/26 | D1: MAANDAG | X1: DINSDAG | AR1: WOENSDAG | BL1: DONDERDAG | CF1: VRIJDAG | CZ1: # | DA1: Kunstgras
A2: Team | B2: Team | D2: 1A | E2: 1A | F2: 1B | G2: 1B | I2: 2A | J2: 2A | K2: 2B | L2: 2B | N2: 3A | O2: 3A | P2: 3B | Q2: 3B | S2: 4A | T2: 4A | U2: 4B | V2: 4B | X2: 1A | Y2: 1A | Z2: 1B | AA2: 1B | AC2: 2A | AD2: 2A | AE2: 2B | AF2: 2B | AH2: 3A | AI2: 3A | AJ2: 3B | AK2: 3B | AM2: 4A | AN2: 4A | AO2: 4B | AP2: 4B | AR2: 1A | AS2: 1A | AT2: 1B | AU2: 1B | AW2: 2A | AX2: 2A | AY2: 2B | AZ2: 2B | BB2: 3A | BC2: 3A | BD2: 3B | BE2: 3B | BG2: 4A | BH2: 4A | BI2: 4B | BJ2: 4B | BL2: 1A | BM2: 1A | BN2: 1B | BO2: 1B | BQ2: 2A | BR2: 2A | BS2: 2B | BT2: 2B | BV2: 3A | BW2: 3A | BX2: 3B | BY2: 3B | CA2: 4A | CB2: 4A | CC2: 4B | CD2: 4B | CF2: 1A | CG2: 1A | CH2: 1B | CI2: 1B | CK2: 2A | CL2: 2A | CM2: 2B | CN2: 2B | CP2: 3A | CQ2: 3A | CR2: 3B | CS2: 3B | CU2: 4A | CV2: 4A | CW2: 4B | CX2: 4B
A3: Mini's | B3: Mini's | C3: ok | D3: =IF(COUNTIF('Trainingsschema 20262027'!B$6:B$26,$A3)>0,"X","") | E3: =IF(COUNTIF('Trainingsschema 20262027'!C$6:C$26,$A3)>0,"X","") | F3: =IF(COUNTIF('Trainingsschema 20262027'!D$6:D$26,$A3)>0,"X","") | G3: =IF(COUNTIF('Trainingsschema 20262027'!E$6:E$26,$A3)>0,"X","") | H3: =IF(COUNTIF('Trainingsschema 20262027'!F$6:F$26,$A3)>0,"X","") | I3: =IF(COUNTIF('Trainingsschema 20262027'!G$6:G$26,$A3)>0,"X","") | J3: =IF(COUNTIF('Trainingsschema 20262027'!H$6:H$26,$A3)>0,"X","") | K3: =IF(COUNTIF('Trainingsschema 20262027'!I$6:I$25,$A3)>0,"X","") | L3: =IF(COUNTIF('Trainingsschema 20262027'!J$6:J$25,$A3)>0,"X","") | M3: =IF(COUNTIF('Trainingsschema 20262027'!K$6:K$26,$A3)>0,"X","") | N3: =IF(COUNTIF('Trainingsschema 20262027'!L$6:L$20,$A3)>0,"X","") | O3: =IF(COUNTIF('Trainingsschema 20262027'!M$6:M$20,$A3)>0,"X","") | P3: =IF(COUNTIF('Trainingsschema 20262027'!N$6:N$25,$A3)>0,"X","") | Q3: =IF(COUNTIF('Trainingsschema 20262027'!O$6:O$25,$A3)>0,"X","") | R3: =IF(COUNTIF('Trainingsschema 20262027'!P$6:P$26,$A3)>0,"X","") | S3: =IF(COUNTIF('Trainingsschema 20262027'!Q$6:Q$26,$A3)>0,"X","") | T3: =IF(COUNTIF('Trainingsschema 20262027'!R$6:R$26,$A3)>0,"X","") | U3: =IF(COUNTIF('Trainingsschema 20262027'!S$6:S$26,$A3)>0,"X","") | V3: =IF(COUNTIF('Trainingsschema 20262027'!T$6:T$26,$A3)>0,"X","") | X3: =IF(COUNTIF('Trainingsschema 20262027'!B$30:B$49,$A3)>0,"X","") | Y3: =IF(COUNTIF('Trainingsschema 20262027'!C$30:C$49,$A3)>0,"X","") | Z3: =IF(COUNTIF('Trainingsschema 20262027'!D$30:D$49,$A3)>0,"X","") | AA3: =IF(COUNTIF('Trainingsschema 20262027'!E$30:E$49,$A3)>0,"X","") | AB3: =IF(COUNTIF('Trainingsschema 20262027'!F$30:F$49,$A3)>0,"X","") | AC3: =IF(COUNTIF('Trainingsschema 20262027'!G$30:G$49,$A3)>0,"X","") | AD3: =IF(COUNTIF('Trainingsschema 20262027'!H$30:H$49,$A3)>0,"X","") | AE3: =IF(COUNTIF('Trainingsschema 20262027'!I$30:I$49,$A3)>0,"X","") | ... AP3: =IF(COUNTIF('Trainingsschema 20262027'!T$30:T$49,$A3)>0,"X","") | AR3: =IF(COUNTIF('Trainingsschema 20262027'!B$53:B$73,$A3)>0,"X","") -> X | AS3: =IF(COUNTIF('Trainingsschema 20262027'!C$53:C$73,$A3)>0,"X","") | AT3: =IF(COUNTIF('Trainingsschema 20262027'!D$53:D$73,$A3)>0,"X","") | AU3: =IF(COUNTIF('Trainingsschema 20262027'!E$53:E$73,$A3)>0,"X","") | AV3: =IF(COUNTIF('Trainingsschema 20262027'!F$53:F$73,$A3)>0,"X","") | AW3: =IF(COUNTIF('Trainingsschema 20262027'!G$53:G$73,$A3)>0,"X","") | AX3: =IF(COUNTIF('Trainingsschema 20262027'!H$53:H$73,$A3)>0,"X","") | AY3: =IF(COUNTIF('Trainingsschema 20262027'!I$53:I$73,$A3)>0,"X","") | AZ3: =IF(COUNTIF('Trainingsschema 20262027'!J$53:J$73,$A3)>0,"X","") | BA3: =IF(COUNTIF('Trainingsschema 20262027'!K$54:K$73,$A3)>0,"X","") | BB3: =IF(COUNTIF('Trainingsschema 20262027'!L$53:L$73,$A3)>0,"X","") | BC3: =IF(COUNTIF('Trainingsschema 20262027'!M$53:M$73,$A3)>0,"X","") | BD3: =IF(COUNTIF('Trainingsschema 20262027'!N$53:N$73,$A3)>0,"X","") | BE3: =IF(COUNTIF('Trainingsschema 20262027'!O$53:O$73,$A3)>0,"X","") | BF3: =IF(COUNTIF('Trainingsschema 20262027'!P$54:P$73,$A3)>0,"X","") | BG3: =IF(COUNTIF('Trainingsschema 20262027'!Q$53:Q$73,$A3)>0,"X","") | BH3: =IF(COUNTIF('Trainingsschema 20262027'!R$53:R$73,$A3)>0,"X","") | BI3: =IF(COUNTIF('Trainingsschema 20262027'!S$53:S$73,$A3)>0,"X","") | BJ3: =IF(COUNTIF('Trainingsschema 20262027'!T$53:T$73,$A3)>0,"X","") | BL3: =IF(COUNTIF('Trainingsschema 20262027'!B$77:B$96,$A3)>0,"X","") | BM3: =IF(COUNTIF('Trainingsschema 20262027'!C$77:C$96,$A3)>0,"X","") | BN3: =IF(COUNTIF('Trainingsschema 20262027'!D$77:D$96,$A3)>0,"X","") | BO3: =IF(COUNTIF('Trainingsschema 20262027'!E$77:E$96,$A3)>0,"X","") | BP3: =IF(COUNTIF('Trainingsschema 20262027'!F$77:F$96,$A3)>0,"X","") | BQ3: =IF(COUNTIF('Trainingsschema 20262027'!G$77:G$96,$A3)>0,"X","") | BR3: =IF(COUNTIF('Trainingsschema 20262027'!H$77:H$96,$A3)>0,"X","") | BS3: =IF(COUNTIF('Trainingsschema 20262027'!I$77:I$96,$A3)>0,"X","") | ... CD3: =IF(COUNTIF('Trainingsschema 20262027'!T$77:T$96,$A3)>0,"X","") | CF3: =IF(COUNTIF('Trainingsschema 20262027'!B$100:B$118,$A3)>0,"X","") | CG3: =IF(COUNTIF('Trainingsschema 20262027'!C$100:C$118,$A3)>0,"X","") | CH3: =IF(COUNTIF('Trainingsschema 20262027'!D$100:D$118,$A3)>0,"X","") | CI3: =IF(COUNTIF('Trainingsschema 20262027'!E$100:E$118,$A3)>0,"X","") | CJ3: =IF(COUNTIF('Trainingsschema 20262027'!F$100:F$118,$A3)>0,"X","") | CK3: =IF(COUNTIF('Trainingsschema 20262027'!G$100:G$118,$A3)>0,"X","") | CL3: =IF(COUNTIF('Trainingsschema 20262027'!H$100:H$118,$A3)>0,"X","") | CM3: =IF(COUNTIF('Trainingsschema 20262027'!I$100:I$118,$A3)>0,"X","") | ... CX3: =IF(COUNTIF('Trainingsschema 20262027'!T$100:T$118,$A3)>0,"X","") | CZ3: =COUNTIF(D3:CX3,"X") -> 1 | DA3: =COUNTIF(X3:AF3,"X")+COUNTIF(AR3:AZ3,"X")+COUNTIF(BL3:BT3,"X")+COUNTIF(CF3:CN3,"X")+COUNTIF(D3:L3,"X") -> 1
A4: O7 | B4: JO7 | C4: ok | D4: =IF(COUNTIF('Trainingsschema 20262027'!B$6:B$26,$A4)>0,"X","") | E4: =IF(COUNTIF('Trainingsschema 20262027'!C$6:C$26,$A4)>0,"X","") | F4: =IF(COUNTIF('Trainingsschema 20262027'!D$6:D$26,$A4)>0,"X","") | G4: =IF(COUNTIF('Trainingsschema 20262027'!E$6:E$26,$A4)>0,"X","") | H4: =IF(COUNTIF('Trainingsschema 20262027'!F$6:F$26,$A4)>0,"X","") | I4: =IF(COUNTIF('Trainingsschema 20262027'!G$6:G$26,$A4)>0,"X","") | J4: =IF(COUNTIF('Trainingsschema 20262027'!H$6:H$26,$A4)>0,"X","") | K4: =IF(COUNTIF('Trainingsschema 20262027'!I$6:I$25,$A4)>0,"X","") | L4: =IF(COUNTIF('Trainingsschema 20262027'!J$6:J$25,$A4)>0,"X","") | M4: =IF(COUNTIF('Trainingsschema 20262027'!K$6:K$26,$A4)>0,"X","") | N4: =IF(COUNTIF('Trainingsschema 20262027'!L$6:L$20,$A4)>0,"X","") | O4: =IF(COUNTIF('Trainingsschema 20262027'!M$6:M$20,$A4)>0,"X","") | P4: =IF(COUNTIF('Trainingsschema 20262027'!N$6:N$25,$A4)>0,"X","") | Q4: =IF(COUNTIF('Trainingsschema 20262027'!O$6:O$25,$A4)>0,"X","") | R4: =IF(COUNTIF('Trainingsschema 20262027'!P$6:P$26,$A4)>0,"X","") | S4: =IF(COUNTIF('Trainingsschema 20262027'!Q$6:Q$26,$A4)>0,"X","") | T4: =IF(COUNTIF('Trainingsschema 20262027'!R$6:R$26,$A4)>0,"X","") | U4: =IF(COUNTIF('Trainingsschema 20262027'!S$6:S$26,$A4)>0,"X","") | V4: =IF(COUNTIF('Trainingsschema 20262027'!T$6:T$26,$A4)>0,"X","") | X4: =IF(COUNTIF('Trainingsschema 20262027'!B$30:B$49,$A4)>0,"X","") | Y4: =IF(COUNTIF('Trainingsschema 20262027'!C$30:C$49,$A4)>0,"X","") | Z4: =IF(COUNTIF('Trainingsschema 20262027'!D$30:D$49,$A4)>0,"X","") | AA4: =IF(COUNTIF('Trainingsschema 20262027'!E$30:E$49,$A4)>0,"X","") | AB4: =IF(COUNTIF('Trainingsschema 20262027'!F$30:F$49,$A4)>0,"X","") | AC4: =IF(COUNTIF('Trainingsschema 20262027'!G$30:G$49,$A4)>0,"X","") | AD4: =IF(COUNTIF('Trainingsschema 20262027'!H$30:H$49,$A4)>0,"X","") | AE4: =IF(COUNTIF('Trainingsschema 20262027'!I$30:I$49,$A4)>0,"X","") | ... AP4: =IF(COUNTIF('Trainingsschema 20262027'!T$30:T$49,$A4)>0,"X","") | AR4: =IF(COUNTIF('Trainingsschema 20262027'!B$53:B$73,$A4)>0,"X","") | AS4: =IF(COUNTIF('Trainingsschema 20262027'!C$53:C$73,$A4)>0,"X","") -> X | AT4: =IF(COUNTIF('Trainingsschema 20262027'!D$53:D$73,$A4)>0,"X","") | AU4: =IF(COUNTIF('Trainingsschema 20262027'!E$53:E$73,$A4)>0,"X","") | AV4: =IF(COUNTIF('Trainingsschema 20262027'!F$53:F$73,$A4)>0,"X","") | AW4: =IF(COUNTIF('Trainingsschema 20262027'!G$53:G$73,$A4)>0,"X","") | AX4: =IF(COUNTIF('Trainingsschema 20262027'!H$53:H$73,$A4)>0,"X","") | AY4: =IF(COUNTIF('Trainingsschema 20262027'!I$53:I$73,$A4)>0,"X","") | AZ4: =IF(COUNTIF('Trainingsschema 20262027'!J$53:J$73,$A4)>0,"X","") | BA4: =IF(COUNTIF('Trainingsschema 20262027'!K$54:K$73,$A4)>0,"X","") | BB4: =IF(COUNTIF('Trainingsschema 20262027'!L$53:L$73,$A4)>0,"X","") | BC4: =IF(COUNTIF('Trainingsschema 20262027'!M$53:M$73,$A4)>0,"X","") | BD4: =IF(COUNTIF('Trainingsschema 20262027'!N$53:N$73,$A4)>0,"X","") | BE4: =IF(COUNTIF('Trainingsschema 20262027'!O$53:O$73,$A4)>0,"X","") | BF4: =IF(COUNTIF('Trainingsschema 20262027'!P$54:P$73,$A4)>0,"X","") | BG4: =IF(COUNTIF('Trainingsschema 20262027'!Q$53:Q$73,$A4)>0,"X","") | BH4: =IF(COUNTIF('Trainingsschema 20262027'!R$53:R$73,$A4)>0,"X","") | BI4: =IF(COUNTIF('Trainingsschema 20262027'!S$53:S$73,$A4)>0,"X","") | BJ4: =IF(COUNTIF('Trainingsschema 20262027'!T$53:T$73,$A4)>0,"X","") | BL4: =IF(COUNTIF('Trainingsschema 20262027'!B$77:B$96,$A4)>0,"X","") | BM4: =IF(COUNTIF('Trainingsschema 20262027'!C$77:C$96,$A4)>0,"X","") | BN4: =IF(COUNTIF('Trainingsschema 20262027'!D$77:D$96,$A4)>0,"X","") | BO4: =IF(COUNTIF('Trainingsschema 20262027'!E$77:E$96,$A4)>0,"X","") | BP4: =IF(COUNTIF('Trainingsschema 20262027'!F$77:F$96,$A4)>0,"X","") | BQ4: =IF(COUNTIF('Trainingsschema 20262027'!G$77:G$96,$A4)>0,"X","") | BR4: =IF(COUNTIF('Trainingsschema 20262027'!H$77:H$96,$A4)>0,"X","") | BS4: =IF(COUNTIF('Trainingsschema 20262027'!I$77:I$96,$A4)>0,"X","") | ... CD4: =IF(COUNTIF('Trainingsschema 20262027'!T$77:T$96,$A4)>0,"X","") | CF4: =IF(COUNTIF('Trainingsschema 20262027'!B$100:B$118,$A4)>0,"X","") | CG4: =IF(COUNTIF('Trainingsschema 20262027'!C$100:C$118,$A4)>0,"X","") | CH4: =IF(COUNTIF('Trainingsschema 20262027'!D$100:D$118,$A4)>0,"X","") | CI4: =IF(COUNTIF('Trainingsschema 20262027'!E$100:E$118,$A4)>0,"X","") | CJ4: =IF(COUNTIF('Trainingsschema 20262027'!F$100:F$118,$A4)>0,"X","") | CK4: =IF(COUNTIF('Trainingsschema 20262027'!G$100:G$118,$A4)>0,"X","") | CL4: =IF(COUNTIF('Trainingsschema 20262027'!H$100:H$118,$A4)>0,"X","") | CM4: =IF(COUNTIF('Trainingsschema 20262027'!I$100:I$118,$A4)>0,"X","") | ... CX4: =IF(COUNTIF('Trainingsschema 20262027'!T$100:T$118,$A4)>0,"X","") | CZ4: =COUNTIF(D4:CX4,"X") -> 1 | DA4: =COUNTIF(X4:AF4,"X")+COUNTIF(AR4:AZ4,"X")+COUNTIF(BL4:BT4,"X")+COUNTIF(CF4:CN4,"X")+COUNTIF(D4:L4,"X") -> 1
A5: O8-1 | B5: nieuw | C5: ok | D5: =IF(COUNTIF('Trainingsschema 20262027'!B$6:B$26,$A5)>0,"X","") | E5: =IF(COUNTIF('Trainingsschema 20262027'!C$6:C$26,$A5)>0,"X","") | F5: =IF(COUNTIF('Trainingsschema 20262027'!D$6:D$26,$A5)>0,"X","") | G5: =IF(COUNTIF('Trainingsschema 20262027'!E$6:E$26,$A5)>0,"X","") | H5: =IF(COUNTIF('Trainingsschema 20262027'!F$6:F$26,$A5)>0,"X","") | I5: =IF(COUNTIF('Trainingsschema 20262027'!G$6:G$26,$A5)>0,"X","") | J5: =IF(COUNTIF('Trainingsschema 20262027'!H$6:H$26,$A5)>0,"X","") | K5: =IF(COUNTIF('Trainingsschema 20262027'!I$6:I$25,$A5)>0,"X","") | L5: =IF(COUNTIF('Trainingsschema 20262027'!J$6:J$25,$A5)>0,"X","") -> X | M5: =IF(COUNTIF('Trainingsschema 20262027'!K$6:K$26,$A5)>0,"X","") | N5: =IF(COUNTIF('Trainingsschema 20262027'!L$6:L$20,$A5)>0,"X","") | O5: =IF(COUNTIF('Trainingsschema 20262027'!M$6:M$20,$A5)>0,"X","") | P5: =IF(COUNTIF('Trainingsschema 20262027'!N$6:N$25,$A5)>0,"X","") | Q5: =IF(COUNTIF('Trainingsschema 20262027'!O$6:O$25,$A5)>0,"X","") | R5: =IF(COUNTIF('Trainingsschema 20262027'!P$6:P$26,$A5)>0,"X","") | S5: =IF(COUNTIF('Trainingsschema 20262027'!Q$6:Q$26,$A5)>0,"X","") | T5: =IF(COUNTIF('Trainingsschema 20262027'!R$6:R$26,$A5)>0,"X","") | U5: =IF(COUNTIF('Trainingsschema 20262027'!S$6:S$26,$A5)>0,"X","") | V5: =IF(COUNTIF('Trainingsschema 20262027'!T$6:T$26,$A5)>0,"X","") | X5: =IF(COUNTIF('Trainingsschema 20262027'!B$30:B$49,$A5)>0,"X","") | Y5: =IF(COUNTIF('Trainingsschema 20262027'!C$30:C$49,$A5)>0,"X","") | Z5: =IF(COUNTIF('Trainingsschema 20262027'!D$30:D$49,$A5)>0,"X","") | AA5: =IF(COUNTIF('Trainingsschema 20262027'!E$30:E$49,$A5)>0,"X","") | AB5: =IF(COUNTIF('Trainingsschema 20262027'!F$30:F$49,$A5)>0,"X","") | AC5: =IF(COUNTIF('Trainingsschema 20262027'!G$30:G$49,$A5)>0,"X","") | AD5: =IF(COUNTIF('Trainingsschema 20262027'!H$30:H$49,$A5)>0,"X","") | AE5: =IF(COUNTIF('Trainingsschema 20262027'!I$30:I$49,$A5)>0,"X","") | ... AP5: =IF(COUNTIF('Trainingsschema 20262027'!T$30:T$49,$A5)>0,"X","") | AR5: =IF(COUNTIF('Trainingsschema 20262027'!B$53:B$73,$A5)>0,"X","") | AS5: =IF(COUNTIF('Trainingsschema 20262027'!C$53:C$73,$A5)>0,"X","") -> X | AT5: =IF(COUNTIF('Trainingsschema 20262027'!D$53:D$73,$A5)>0,"X","") | AU5: =IF(COUNTIF('Trainingsschema 20262027'!E$53:E$73,$A5)>0,"X","") | AV5: =IF(COUNTIF('Trainingsschema 20262027'!F$53:F$73,$A5)>0,"X","") | AW5: =IF(COUNTIF('Trainingsschema 20262027'!G$53:G$73,$A5)>0,"X","") | AX5: =IF(COUNTIF('Trainingsschema 20262027'!H$53:H$73,$A5)>0,"X","") | AY5: =IF(COUNTIF('Trainingsschema 20262027'!I$53:I$73,$A5)>0,"X","") | AZ5: =IF(COUNTIF('Trainingsschema 20262027'!J$53:J$73,$A5)>0,"X","") | BA5: =IF(COUNTIF('Trainingsschema 20262027'!K$54:K$73,$A5)>0,"X","") | BB5: =IF(COUNTIF('Trainingsschema 20262027'!L$53:L$73,$A5)>0,"X","") | BC5: =IF(COUNTIF('Trainingsschema 20262027'!M$53:M$73,$A5)>0,"X","") | BD5: =IF(COUNTIF('Trainingsschema 20262027'!N$53:N$73,$A5)>0,"X","") | BE5: =IF(COUNTIF('Trainingsschema 20262027'!O$53:O$73,$A5)>0,"X","") | BF5: =IF(COUNTIF('Trainingsschema 20262027'!P$54:P$73,$A5)>0,"X","") | BG5: =IF(COUNTIF('Trainingsschema 20262027'!Q$53:Q$73,$A5)>0,"X","") | BH5: =IF(COUNTIF('Trainingsschema 20262027'!R$53:R$73,$A5)>0,"X","") | BI5: =IF(COUNTIF('Trainingsschema 20262027'!S$53:S$73,$A5)>0,"X","") | BJ5: =IF(COUNTIF('Trainingsschema 20262027'!T$53:T$73,$A5)>0,"X","") | BL5: =IF(COUNTIF('Trainingsschema 20262027'!B$77:B$96,$A5)>0,"X","") | BM5: =IF(COUNTIF('Trainingsschema 20262027'!C$77:C$96,$A5)>0,"X","") | BN5: =IF(COUNTIF('Trainingsschema 20262027'!D$77:D$96,$A5)>0,"X","") | BO5: =IF(COUNTIF('Trainingsschema 20262027'!E$77:E$96,$A5)>0,"X","") | BP5: =IF(COUNTIF('Trainingsschema 20262027'!F$77:F$96,$A5)>0,"X","") | BQ5: =IF(COUNTIF('Trainingsschema 20262027'!G$77:G$96,$A5)>0,"X","") | BR5: =IF(COUNTIF('Trainingsschema 20262027'!H$77:H$96,$A5)>0,"X","") | BS5: =IF(COUNTIF('Trainingsschema 20262027'!I$77:I$96,$A5)>0,"X","") | ... CD5: =IF(COUNTIF('Trainingsschema 20262027'!T$77:T$96,$A5)>0,"X","") | CF5: =IF(COUNTIF('Trainingsschema 20262027'!B$100:B$118,$A5)>0,"X","") | CG5: =IF(COUNTIF('Trainingsschema 20262027'!C$100:C$118,$A5)>0,"X","") | CH5: =IF(COUNTIF('Trainingsschema 20262027'!D$100:D$118,$A5)>0,"X","") | CI5: =IF(COUNTIF('Trainingsschema 20262027'!E$100:E$118,$A5)>0,"X","") | CJ5: =IF(COUNTIF('Trainingsschema 20262027'!F$100:F$118,$A5)>0,"X","") | CK5: =IF(COUNTIF('Trainingsschema 20262027'!G$100:G$118,$A5)>0,"X","") | CL5: =IF(COUNTIF('Trainingsschema 20262027'!H$100:H$118,$A5)>0,"X","") | CM5: =IF(COUNTIF('Trainingsschema 20262027'!I$100:I$118,$A5)>0,"X","") | ... CX5: =IF(COUNTIF('Trainingsschema 20262027'!T$100:T$118,$A5)>0,"X","") | CZ5: =COUNTIF(D5:CX5,"X") -> 2 | DA5: =COUNTIF(X5:AF5,"X")+COUNTIF(AR5:AZ5,"X")+COUNTIF(BL5:BT5,"X")+COUNTIF(CF5:CN5,"X")+COUNTIF(D5:L5,"X") -> 2 | DB5: maandag en woensdag
A6: O8-2 | B6: nieuw | C6: ok | D6: =IF(COUNTIF('Trainingsschema 20262027'!B$6:B$26,$A6)>0,"X","") | E6: =IF(COUNTIF('Trainingsschema 20262027'!C$6:C$26,$A6)>0,"X","") | F6: =IF(COUNTIF('Trainingsschema 20262027'!D$6:D$26,$A6)>0,"X","") | G6: =IF(COUNTIF('Trainingsschema 20262027'!E$6:E$26,$A6)>0,"X","") | H6: =IF(COUNTIF('Trainingsschema 20262027'!F$6:F$26,$A6)>0,"X","") | I6: =IF(COUNTIF('Trainingsschema 20262027'!G$6:G$26,$A6)>0,"X","") | J6: =IF(COUNTIF('Trainingsschema 20262027'!H$6:H$26,$A6)>0,"X","") -> X | K6: =IF(COUNTIF('Trainingsschema 20262027'!I$6:I$25,$A6)>0,"X","") | L6: =IF(COUNTIF('Trainingsschema 20262027'!J$6:J$25,$A6)>0,"X","") | M6: =IF(COUNTIF('Trainingsschema 20262027'!K$6:K$26,$A6)>0,"X","") | N6: =IF(COUNTIF('Trainingsschema 20262027'!L$6:L$20,$A6)>0,"X","") | O6: =IF(COUNTIF('Trainingsschema 20262027'!M$6:M$20,$A6)>0,"X","") | P6: =IF(COUNTIF('Trainingsschema 20262027'!N$6:N$25,$A6)>0,"X","") | Q6: =IF(COUNTIF('Trainingsschema 20262027'!O$6:O$25,$A6)>0,"X","") | R6: =IF(COUNTIF('Trainingsschema 20262027'!P$6:P$26,$A6)>0,"X","") | S6: =IF(COUNTIF('Trainingsschema 20262027'!Q$6:Q$26,$A6)>0,"X","") | T6: =IF(COUNTIF('Trainingsschema 20262027'!R$6:R$26,$A6)>0,"X","") | U6: =IF(COUNTIF('Trainingsschema 20262027'!S$6:S$26,$A6)>0,"X","") | V6: =IF(COUNTIF('Trainingsschema 20262027'!T$6:T$26,$A6)>0,"X","") | X6: =IF(COUNTIF('Trainingsschema 20262027'!B$30:B$49,$A6)>0,"X","") | Y6: =IF(COUNTIF('Trainingsschema 20262027'!C$30:C$49,$A6)>0,"X","") | Z6: =IF(COUNTIF('Trainingsschema 20262027'!D$30:D$49,$A6)>0,"X","") | AA6: =IF(COUNTIF('Trainingsschema 20262027'!E$30:E$49,$A6)>0,"X","") | AB6: =IF(COUNTIF('Trainingsschema 20262027'!F$30:F$49,$A6)>0,"X","") | AC6: =IF(COUNTIF('Trainingsschema 20262027'!G$30:G$49,$A6)>0,"X","") | AD6: =IF(COUNTIF('Trainingsschema 20262027'!H$30:H$49,$A6)>0,"X","") | AE6: =IF(COUNTIF('Trainingsschema 20262027'!I$30:I$49,$A6)>0,"X","") | ... AP6: =IF(COUNTIF('Trainingsschema 20262027'!T$30:T$49,$A6)>0,"X","") | AR6: =IF(COUNTIF('Trainingsschema 20262027'!B$53:B$73,$A6)>0,"X","") | AS6: =IF(COUNTIF('Trainingsschema 20262027'!C$53:C$73,$A6)>0,"X","") | AT6: =IF(COUNTIF('Trainingsschema 20262027'!D$53:D$73,$A6)>0,"X","") -> X | AU6: =IF(COUNTIF('Trainingsschema 20262027'!E$53:E$73,$A6)>0,"X","") | AV6: =IF(COUNTIF('Trainingsschema 20262027'!F$53:F$73,$A6)>0,"X","") | AW6: =IF(COUNTIF('Trainingsschema 20262027'!G$53:G$73,$A6)>0,"X","") | AX6: =IF(COUNTIF('Trainingsschema 20262027'!H$53:H$73,$A6)>0,"X","") | AY6: =IF(COUNTIF('Trainingsschema 20262027'!I$53:I$73,$A6)>0,"X","") | AZ6: =IF(COUNTIF('Trainingsschema 20262027'!J$53:J$73,$A6)>0,"X","") | BA6: =IF(COUNTIF('Trainingsschema 20262027'!K$54:K$73,$A6)>0,"X","") | BB6: =IF(COUNTIF('Trainingsschema 20262027'!L$53:L$73,$A6)>0,"X","") | BC6: =IF(COUNTIF('Trainingsschema 20262027'!M$53:M$73,$A6)>0,"X","") | BD6: =IF(COUNTIF('Trainingsschema 20262027'!N$53:N$73,$A6)>0,"X","") | BE6: =IF(COUNTIF('Trainingsschema 20262027'!O$53:O$73,$A6)>0,"X","") | BF6: =IF(COUNTIF('Trainingsschema 20262027'!P$54:P$73,$A6)>0,"X","") | BG6: =IF(COUNTIF('Trainingsschema 20262027'!Q$53:Q$73,$A6)>0,"X","") | BH6: =IF(COUNTIF('Trainingsschema 20262027'!R$53:R$73,$A6)>0,"X","") | BI6: =IF(COUNTIF('Trainingsschema 20262027'!S$53:S$73,$A6)>0,"X","") | BJ6: =IF(COUNTIF('Trainingsschema 20262027'!T$53:T$73,$A6)>0,"X","") | BL6: =IF(COUNTIF('Trainingsschema 20262027'!B$77:B$96,$A6)>0,"X","") | BM6: =IF(COUNTIF('Trainingsschema 20262027'!C$77:C$96,$A6)>0,"X","") | BN6: =IF(COUNTIF('Trainingsschema 20262027'!D$77:D$96,$A6)>0,"X","") | BO6: =IF(COUNTIF('Trainingsschema 20262027'!E$77:E$96,$A6)>0,"X","") | BP6: =IF(COUNTIF('Trainingsschema 20262027'!F$77:F$96,$A6)>0,"X","") | BQ6: =IF(COUNTIF('Trainingsschema 20262027'!G$77:G$96,$A6)>0,"X","") | BR6: =IF(COUNTIF('Trainingsschema 20262027'!H$77:H$96,$A6)>0,"X","") | BS6: =IF(COUNTIF('Trainingsschema 20262027'!I$77:I$96,$A6)>0,"X","") | ... CD6: =IF(COUNTIF('Trainingsschema 20262027'!T$77:T$96,$A6)>0,"X","") | CF6: =IF(COUNTIF('Trainingsschema 20262027'!B$100:B$118,$A6)>0,"X","") | CG6: =IF(COUNTIF('Trainingsschema 20262027'!C$100:C$118,$A6)>0,"X","") | CH6: =IF(COUNTIF('Trainingsschema 20262027'!D$100:D$118,$A6)>0,"X","") | CI6: =IF(COUNTIF('Trainingsschema 20262027'!E$100:E$118,$A6)>0,"X","") | CJ6: =IF(COUNTIF('Trainingsschema 20262027'!F$100:F$118,$A6)>0,"X","") | CK6: =IF(COUNTIF('Trainingsschema 20262027'!G$100:G$118,$A6)>0,"X","") | CL6: =IF(COUNTIF('Trainingsschema 20262027'!H$100:H$118,$A6)>0,"X","") | CM6: =IF(COUNTIF('Trainingsschema 20262027'!I$100:I$118,$A6)>0,"X","") | ... CX6: =IF(COUNTIF('Trainingsschema 20262027'!T$100:T$118,$A6)>0,"X","") | CZ6: =COUNTIF(D6:CX6,"X") -> 2 | DA6: =COUNTIF(X6:AF6,"X")+COUNTIF(AR6:AZ6,"X")+COUNTIF(BL6:BT6,"X")+COUNTIF(CF6:CN6,"X")+COUNTIF(D6:L6,"X") -> 2 | DB6: maandag en woensdag
A7: O8-3 | B7: nieuw | C7: ok | D7: =IF(COUNTIF('Trainingsschema 20262027'!B$6:B$26,$A7)>0,"X","") | E7: =IF(COUNTIF('Trainingsschema 20262027'!C$6:C$26,$A7)>0,"X","") | F7: =IF(COUNTIF('Trainingsschema 20262027'!D$6:D$26,$A7)>0,"X","") | G7: =IF(COUNTIF('Trainingsschema 20262027'!E$6:E$26,$A7)>0,"X","") | H7: =IF(COUNTIF('Trainingsschema 20262027'!F$6:F$26,$A7)>0,"X","") | I7: =IF(COUNTIF('Trainingsschema 20262027'!G$6:G$26,$A7)>0,"X","") | J7: =IF(COUNTIF('Trainingsschema 20262027'!H$6:H$26,$A7)>0,"X","") | K7: =IF(COUNTIF('Trainingsschema 20262027'!I$6:I$25,$A7)>0,"X","") -> X | L7: =IF(COUNTIF('Trainingsschema 20262027'!J$6:J$25,$A7)>0,"X","") | M7: =IF(COUNTIF('Trainingsschema 20262027'!K$6:K$26,$A7)>0,"X","") | N7: =IF(COUNTIF('Trainingsschema 20262027'!L$6:L$20,$A7)>0,"X","") | O7: =IF(COUNTIF('Trainingsschema 20262027'!M$6:M$20,$A7)>0,"X","") | P7: =IF(COUNTIF('Trainingsschema 20262027'!N$6:N$25,$A7)>0,"X","") | Q7: =IF(COUNTIF('Trainingsschema 20262027'!O$6:O$25,$A7)>0,"X","") | R7: =IF(COUNTIF('Trainingsschema 20262027'!P$6:P$26,$A7)>0,"X","") | S7: =IF(COUNTIF('Trainingsschema 20262027'!Q$6:Q$26,$A7)>0,"X","") | T7: =IF(COUNTIF('Trainingsschema 20262027'!R$6:R$26,$A7)>0,"X","") | U7: =IF(COUNTIF('Trainingsschema 20262027'!S$6:S$26,$A7)>0,"X","") | V7: =IF(COUNTIF('Trainingsschema 20262027'!T$6:T$26,$A7)>0,"X","") | X7: =IF(COUNTIF('Trainingsschema 20262027'!B$30:B$49,$A7)>0,"X","") | Y7: =IF(COUNTIF('Trainingsschema 20262027'!C$30:C$49,$A7)>0,"X","") | Z7: =IF(COUNTIF('Trainingsschema 20262027'!D$30:D$49,$A7)>0,"X","") | AA7: =IF(COUNTIF('Trainingsschema 20262027'!E$30:E$49,$A7)>0,"X","") | AB7: =IF(COUNTIF('Trainingsschema 20262027'!F$30:F$49,$A7)>0,"X","") | AC7: =IF(COUNTIF('Trainingsschema 20262027'!G$30:G$49,$A7)>0,"X","") | AD7: =IF(COUNTIF('Trainingsschema 20262027'!H$30:H$49,$A7)>0,"X","") | AE7: =IF(COUNTIF('Trainingsschema 20262027'!I$30:I$49,$A7)>0,"X","") | ... AP7: =IF(COUNTIF('Trainingsschema 20262027'!T$30:T$49,$A7)>0,"X","") | AR7: =IF(COUNTIF('Trainingsschema 20262027'!B$53:B$73,$A7)>0,"X","") | AS7: =IF(COUNTIF('Trainingsschema 20262027'!C$53:C$73,$A7)>0,"X","") | AT7: =IF(COUNTIF('Trainingsschema 20262027'!D$53:D$73,$A7)>0,"X","") | AU7: =IF(COUNTIF('Trainingsschema 20262027'!E$53:E$73,$A7)>0,"X","") -> X | AV7: =IF(COUNTIF('Trainingsschema 20262027'!F$53:F$73,$A7)>0,"X","") | AW7: =IF(COUNTIF('Trainingsschema 20262027'!G$53:G$73,$A7)>0,"X","") | AX7: =IF(COUNTIF('Trainingsschema 20262027'!H$53:H$73,$A7)>0,"X","") | AY7: =IF(COUNTIF('Trainingsschema 20262027'!I$53:I$73,$A7)>0,"X","") | AZ7: =IF(COUNTIF('Trainingsschema 20262027'!J$53:J$73,$A7)>0,"X","") | BA7: =IF(COUNTIF('Trainingsschema 20262027'!K$54:K$73,$A7)>0,"X","") | BB7: =IF(COUNTIF('Trainingsschema 20262027'!L$53:L$73,$A7)>0,"X","") | BC7: =IF(COUNTIF('Trainingsschema 20262027'!M$53:M$73,$A7)>0,"X","") | BD7: =IF(COUNTIF('Trainingsschema 20262027'!N$53:N$73,$A7)>0,"X","") | BE7: =IF(COUNTIF('Trainingsschema 20262027'!O$53:O$73,$A7)>0,"X","") | BF7: =IF(COUNTIF('Trainingsschema 20262027'!P$54:P$73,$A7)>0,"X","") | BG7: =IF(COUNTIF('Trainingsschema 20262027'!Q$53:Q$73,$A7)>0,"X","") | BH7: =IF(COUNTIF('Trainingsschema 20262027'!R$53:R$73,$A7)>0,"X","") | BI7: =IF(COUNTIF('Trainingsschema 20262027'!S$53:S$73,$A7)>0,"X","") | BJ7: =IF(COUNTIF('Trainingsschema 20262027'!T$53:T$73,$A7)>0,"X","") | BL7: =IF(COUNTIF('Trainingsschema 20262027'!B$77:B$96,$A7)>0,"X","") | BM7: =IF(COUNTIF('Trainingsschema 20262027'!C$77:C$96,$A7)>0,"X","") | BN7: =IF(COUNTIF('Trainingsschema 20262027'!D$77:D$96,$A7)>0,"X","") | BO7: =IF(COUNTIF('Trainingsschema 20262027'!E$77:E$96,$A7)>0,"X","") | BP7: =IF(COUNTIF('Trainingsschema 20262027'!F$77:F$96,$A7)>0,"X","") | BQ7: =IF(COUNTIF('Trainingsschema 20262027'!G$77:G$96,$A7)>0,"X","") | BR7: =IF(COUNTIF('Trainingsschema 20262027'!H$77:H$96,$A7)>0,"X","") | BS7: =IF(COUNTIF('Trainingsschema 20262027'!I$77:I$96,$A7)>0,"X","") | ... CD7: =IF(COUNTIF('Trainingsschema 20262027'!T$77:T$96,$A7)>0,"X","") | CF7: =IF(COUNTIF('Trainingsschema 20262027'!B$100:B$118,$A7)>0,"X","") | CG7: =IF(COUNTIF('Trainingsschema 20262027'!C$100:C$118,$A7)>0,"X","") | CH7: =IF(COUNTIF('Trainingsschema 20262027'!D$100:D$118,$A7)>0,"X","") | CI7: =IF(COUNTIF('Trainingsschema 20262027'!E$100:E$118,$A7)>0,"X","") | CJ7: =IF(COUNTIF('Trainingsschema 20262027'!F$100:F$118,$A7)>0,"X","") | CK7: =IF(COUNTIF('Trainingsschema 20262027'!G$100:G$118,$A7)>0,"X","") | CL7: =IF(COUNTIF('Trainingsschema 20262027'!H$100:H$118,$A7)>0,"X","") | CM7: =IF(COUNTIF('Trainingsschema 20262027'!I$100:I$118,$A7)>0,"X","") | ... CX7: =IF(COUNTIF('Trainingsschema 20262027'!T$100:T$118,$A7)>0,"X","") | CZ7: =COUNTIF(D7:CX7,"X") -> 2 | DA7: =COUNTIF(X7:AF7,"X")+COUNTIF(AR7:AZ7,"X")+COUNTIF(BL7:BT7,"X")+COUNTIF(CF7:CN7,"X")+COUNTIF(D7:L7,"X") -> 2 | DB7: maandag en woensdag
A8: O9-1 | B8: JO8-1 | C8: ok | D8: =IF(COUNTIF('Trainingsschema 20262027'!B$6:B$26,$A8)>0,"X","") -> X | E8: =IF(COUNTIF('Trainingsschema 20262027'!C$6:C$26,$A8)>0,"X","") | F8: =IF(COUNTIF('Trainingsschema 20262027'!D$6:D$26,$A8)>0,"X","") | G8: =IF(COUNTIF('Trainingsschema 20262027'!E$6:E$26,$A8)>0,"X","") | H8: =IF(COUNTIF('Trainingsschema 20262027'!F$6:F$26,$A8)>0,"X","") | I8: =IF(COUNTIF('Trainingsschema 20262027'!G$6:G$26,$A8)>0,"X","") | J8: =IF(COUNTIF('Trainingsschema 20262027'!H$6:H$26,$A8)>0,"X","") | K8: =IF(COUNTIF('Trainingsschema 20262027'!I$6:I$25,$A8)>0,"X","") | L8: =IF(COUNTIF('Trainingsschema 20262027'!J$6:J$25,$A8)>0,"X","") | M8: =IF(COUNTIF('Trainingsschema 20262027'!K$6:K$26,$A8)>0,"X","") | N8: =IF(COUNTIF('Trainingsschema 20262027'!L$6:L$20,$A8)>0,"X","") | O8: =IF(COUNTIF('Trainingsschema 20262027'!M$6:M$20,$A8)>0,"X","") | P8: =IF(COUNTIF('Trainingsschema 20262027'!N$6:N$25,$A8)>0,"X","") | Q8: =IF(COUNTIF('Trainingsschema 20262027'!O$6:O$25,$A8)>0,"X","") | R8: =IF(COUNTIF('Trainingsschema 20262027'!P$6:P$26,$A8)>0,"X","") | S8: =IF(COUNTIF('Trainingsschema 20262027'!Q$6:Q$26,$A8)>0,"X","") | T8: =IF(COUNTIF('Trainingsschema 20262027'!R$6:R$26,$A8)>0,"X","") | U8: =IF(COUNTIF('Trainingsschema 20262027'!S$6:S$26,$A8)>0,"X","") | V8: =IF(COUNTIF('Trainingsschema 20262027'!T$6:T$26,$A8)>0,"X","") | X8: =IF(COUNTIF('Trainingsschema 20262027'!B$30:B$49,$A8)>0,"X","") | Y8: =IF(COUNTIF('Trainingsschema 20262027'!C$30:C$49,$A8)>0,"X","") | Z8: =IF(COUNTIF('Trainingsschema 20262027'!D$30:D$49,$A8)>0,"X","") | AA8: =IF(COUNTIF('Trainingsschema 20262027'!E$30:E$49,$A8)>0,"X","") | AB8: =IF(COUNTIF('Trainingsschema 20262027'!F$30:F$49,$A8)>0,"X","") | AC8: =IF(COUNTIF('Trainingsschema 20262027'!G$30:G$49,$A8)>0,"X","") | AD8: =IF(COUNTIF('Trainingsschema 20262027'!H$30:H$49,$A8)>0,"X","") | AE8: =IF(COUNTIF('Trainingsschema 20262027'!I$30:I$49,$A8)>0,"X","") | ... AP8: =IF(COUNTIF('Trainingsschema 20262027'!T$30:T$49,$A8)>0,"X","") | AR8: =IF(COUNTIF('Trainingsschema 20262027'!B$53:B$73,$A8)>0,"X","") | AS8: =IF(COUNTIF('Trainingsschema 20262027'!C$53:C$73,$A8)>0,"X","") | AT8: =IF(COUNTIF('Trainingsschema 20262027'!D$53:D$73,$A8)>0,"X","") | AU8: =IF(COUNTIF('Trainingsschema 20262027'!E$53:E$73,$A8)>0,"X","") | AV8: =IF(COUNTIF('Trainingsschema 20262027'!F$53:F$73,$A8)>0,"X","") | AW8: =IF(COUNTIF('Trainingsschema 20262027'!G$53:G$73,$A8)>0,"X","") | AX8: =IF(COUNTIF('Trainingsschema 20262027'!H$53:H$73,$A8)>0,"X","") -> X | AY8: =IF(COUNTIF('Trainingsschema 20262027'!I$53:I$73,$A8)>0,"X","") | AZ8: =IF(COUNTIF('Trainingsschema 20262027'!J$53:J$73,$A8)>0,"X","") | BA8: =IF(COUNTIF('Trainingsschema 20262027'!K$54:K$73,$A8)>0,"X","") | BB8: =IF(COUNTIF('Trainingsschema 20262027'!L$53:L$73,$A8)>0,"X","") | BC8: =IF(COUNTIF('Trainingsschema 20262027'!M$53:M$73,$A8)>0,"X","") | BD8: =IF(COUNTIF('Trainingsschema 20262027'!N$53:N$73,$A8)>0,"X","") | BE8: =IF(COUNTIF('Trainingsschema 20262027'!O$53:O$73,$A8)>0,"X","") | BF8: =IF(COUNTIF('Trainingsschema 20262027'!P$54:P$73,$A8)>0,"X","") | BG8: =IF(COUNTIF('Trainingsschema 20262027'!Q$53:Q$73,$A8)>0,"X","") | BH8: =IF(COUNTIF('Trainingsschema 20262027'!R$53:R$73,$A8)>0,"X","") | BI8: =IF(COUNTIF('Trainingsschema 20262027'!S$53:S$73,$A8)>0,"X","") | BJ8: =IF(COUNTIF('Trainingsschema 20262027'!T$53:T$73,$A8)>0,"X","") | BL8: =IF(COUNTIF('Trainingsschema 20262027'!B$77:B$96,$A8)>0,"X","") | BM8: =IF(COUNTIF('Trainingsschema 20262027'!C$77:C$96,$A8)>0,"X","") | BN8: =IF(COUNTIF('Trainingsschema 20262027'!D$77:D$96,$A8)>0,"X","") | BO8: =IF(COUNTIF('Trainingsschema 20262027'!E$77:E$96,$A8)>0,"X","") | BP8: =IF(COUNTIF('Trainingsschema 20262027'!F$77:F$96,$A8)>0,"X","") | BQ8: =IF(COUNTIF('Trainingsschema 20262027'!G$77:G$96,$A8)>0,"X","") | BR8: =IF(COUNTIF('Trainingsschema 20262027'!H$77:H$96,$A8)>0,"X","") | BS8: =IF(COUNTIF('Trainingsschema 20262027'!I$77:I$96,$A8)>0,"X","") | ... CD8: =IF(COUNTIF('Trainingsschema 20262027'!T$77:T$96,$A8)>0,"X","") | CF8: =IF(COUNTIF('Trainingsschema 20262027'!B$100:B$118,$A8)>0,"X","") | CG8: =IF(COUNTIF('Trainingsschema 20262027'!C$100:C$118,$A8)>0,"X","") | CH8: =IF(COUNTIF('Trainingsschema 20262027'!D$100:D$118,$A8)>0,"X","") | CI8: =IF(COUNTIF('Trainingsschema 20262027'!E$100:E$118,$A8)>0,"X","") | CJ8: =IF(COUNTIF('Trainingsschema 20262027'!F$100:F$118,$A8)>0,"X","") | CK8: =IF(COUNTIF('Trainingsschema 20262027'!G$100:G$118,$A8)>0,"X","") | CL8: =IF(COUNTIF('Trainingsschema 20262027'!H$100:H$118,$A8)>0,"X","") | CM8: =IF(COUNTIF('Trainingsschema 20262027'!I$100:I$118,$A8)>0,"X","") | ... CX8: =IF(COUNTIF('Trainingsschema 20262027'!T$100:T$118,$A8)>0,"X","") | CZ8: =COUNTIF(D8:CX8,"X") -> 2 | DA8: =COUNTIF(X8:AF8,"X")+COUNTIF(AR8:AZ8,"X")+COUNTIF(BL8:BT8,"X")+COUNTIF(CF8:CN8,"X")+COUNTIF(D8:L8,"X") -> 2 | DB8: ma en woe de nj010-1 en nj09-1 naast elkaar
A9: O9-2 | B9: JO8-2 | C9: ok | D9: =IF(COUNTIF('Trainingsschema 20262027'!B$6:B$26,$A9)>0,"X","") | E9: =IF(COUNTIF('Trainingsschema 20262027'!C$6:C$26,$A9)>0,"X","") | F9: =IF(COUNTIF('Trainingsschema 20262027'!D$6:D$26,$A9)>0,"X","") | G9: =IF(COUNTIF('Trainingsschema 20262027'!E$6:E$26,$A9)>0,"X","") | H9: =IF(COUNTIF('Trainingsschema 20262027'!F$6:F$26,$A9)>0,"X","") | I9: =IF(COUNTIF('Trainingsschema 20262027'!G$6:G$26,$A9)>0,"X","") | J9: =IF(COUNTIF('Trainingsschema 20262027'!H$6:H$26,$A9)>0,"X","") | K9: =IF(COUNTIF('Trainingsschema 20262027'!I$6:I$25,$A9)>0,"X","") | L9: =IF(COUNTIF('Trainingsschema 20262027'!J$6:J$25,$A9)>0,"X","") | M9: =IF(COUNTIF('Trainingsschema 20262027'!K$6:K$26,$A9)>0,"X","") | N9: =IF(COUNTIF('Trainingsschema 20262027'!L$6:L$20,$A9)>0,"X","") | O9: =IF(COUNTIF('Trainingsschema 20262027'!M$6:M$20,$A9)>0,"X","") | P9: =IF(COUNTIF('Trainingsschema 20262027'!N$6:N$25,$A9)>0,"X","") | Q9: =IF(COUNTIF('Trainingsschema 20262027'!O$6:O$25,$A9)>0,"X","") | R9: =IF(COUNTIF('Trainingsschema 20262027'!P$6:P$26,$A9)>0,"X","") | S9: =IF(COUNTIF('Trainingsschema 20262027'!Q$6:Q$26,$A9)>0,"X","") | T9: =IF(COUNTIF('Trainingsschema 20262027'!R$6:R$26,$A9)>0,"X","") | U9: =IF(COUNTIF('Trainingsschema 20262027'!S$6:S$26,$A9)>0,"X","") | V9: =IF(COUNTIF('Trainingsschema 20262027'!T$6:T$26,$A9)>0,"X","") | X9: =IF(COUNTIF('Trainingsschema 20262027'!B$30:B$49,$A9)>0,"X","") -> X | Y9: =IF(COUNTIF('Trainingsschema 20262027'!C$30:C$49,$A9)>0,"X","") | Z9: =IF(COUNTIF('Trainingsschema 20262027'!D$30:D$49,$A9)>0,"X","") | AA9: =IF(COUNTIF('Trainingsschema 20262027'!E$30:E$49,$A9)>0,"X","") | AB9: =IF(COUNTIF('Trainingsschema 20262027'!F$30:F$49,$A9)>0,"X","") | AC9: =IF(COUNTIF('Trainingsschema 20262027'!G$30:G$49,$A9)>0,"X","") | AD9: =IF(COUNTIF('Trainingsschema 20262027'!H$30:H$49,$A9)>0,"X","") | AE9: =IF(COUNTIF('Trainingsschema 20262027'!I$30:I$49,$A9)>0,"X","") | ... AP9: =IF(COUNTIF('Trainingsschema 20262027'!T$30:T$49,$A9)>0,"X","") | AR9: =IF(COUNTIF('Trainingsschema 20262027'!B$53:B$73,$A9)>0,"X","") | AS9: =IF(COUNTIF('Trainingsschema 20262027'!C$53:C$73,$A9)>0,"X","") | AT9: =IF(COUNTIF('Trainingsschema 20262027'!D$53:D$73,$A9)>0,"X","") | AU9: =IF(COUNTIF('Trainingsschema 20262027'!E$53:E$73,$A9)>0,"X","") | AV9: =IF(COUNTIF('Trainingsschema 20262027'!F$53:F$73,$A9)>0,"X","") | AW9: =IF(COUNTIF('Trainingsschema 20262027'!G$53:G$73,$A9)>0,"X","") | AX9: =IF(COUNTIF('Trainingsschema 20262027'!H$53:H$73,$A9)>0,"X","") | AY9: =IF(COUNTIF('Trainingsschema 20262027'!I$53:I$73,$A9)>0,"X","") | AZ9: =IF(COUNTIF('Trainingsschema 20262027'!J$53:J$73,$A9)>0,"X","") | BA9: =IF(COUNTIF('Trainingsschema 20262027'!K$54:K$73,$A9)>0,"X","") | BB9: =IF(COUNTIF('Trainingsschema 20262027'!L$53:L$73,$A9)>0,"X","") | BC9: =IF(COUNTIF('Trainingsschema 20262027'!M$53:M$73,$A9)>0,"X","") | BD9: =IF(COUNTIF('Trainingsschema 20262027'!N$53:N$73,$A9)>0,"X","") | BE9: =IF(COUNTIF('Trainingsschema 20262027'!O$53:O$73,$A9)>0,"X","") | BF9: =IF(COUNTIF('Trainingsschema 20262027'!P$54:P$73,$A9)>0,"X","") | BG9: =IF(COUNTIF('Trainingsschema 20262027'!Q$53:Q$73,$A9)>0,"X","") | BH9: =IF(COUNTIF('Trainingsschema 20262027'!R$53:R$73,$A9)>0,"X","") | BI9: =IF(COUNTIF('Trainingsschema 20262027'!S$53:S$73,$A9)>0,"X","") | BJ9: =IF(COUNTIF('Trainingsschema 20262027'!T$53:T$73,$A9)>0,"X","") | BL9: =IF(COUNTIF('Trainingsschema 20262027'!B$77:B$96,$A9)>0,"X","") | BM9: =IF(COUNTIF('Trainingsschema 20262027'!C$77:C$96,$A9)>0,"X","") | BN9: =IF(COUNTIF('Trainingsschema 20262027'!D$77:D$96,$A9)>0,"X","") | BO9: =IF(COUNTIF('Trainingsschema 20262027'!E$77:E$96,$A9)>0,"X","") | BP9: =IF(COUNTIF('Trainingsschema 20262027'!F$77:F$96,$A9)>0,"X","") | BQ9: =IF(COUNTIF('Trainingsschema 20262027'!G$77:G$96,$A9)>0,"X","") | BR9: =IF(COUNTIF('Trainingsschema 20262027'!H$77:H$96,$A9)>0,"X","") | BS9: =IF(COUNTIF('Trainingsschema 20262027'!I$77:I$96,$A9)>0,"X","") | ... CD9: =IF(COUNTIF('Trainingsschema 20262027'!T$77:T$96,$A9)>0,"X","") | CF9: =IF(COUNTIF('Trainingsschema 20262027'!B$100:B$118,$A9)>0,"X","") | CG9: =IF(COUNTIF('Trainingsschema 20262027'!C$100:C$118,$A9)>0,"X","") | CH9: =IF(COUNTIF('Trainingsschema 20262027'!D$100:D$118,$A9)>0,"X","") | CI9: =IF(COUNTIF('Trainingsschema 20262027'!E$100:E$118,$A9)>0,"X","") | CJ9: =IF(COUNTIF('Trainingsschema 20262027'!F$100:F$118,$A9)>0,"X","") | CK9: =IF(COUNTIF('Trainingsschema 20262027'!G$100:G$118,$A9)>0,"X","") | CL9: =IF(COUNTIF('Trainingsschema 20262027'!H$100:H$118,$A9)>0,"X","") | CM9: =IF(COUNTIF('Trainingsschema 20262027'!I$100:I$118,$A9)>0,"X","") | ... CX9: =IF(COUNTIF('Trainingsschema 20262027'!T$100:T$118,$A9)>0,"X","") | CZ9: =COUNTIF(D9:CX9,"X") -> 2 | DA9: =COUNTIF(X9:AF9,"X")+COUNTIF(AR9:AZ9,"X")+COUNTIF(BL9:BT9,"X")+COUNTIF(CF9:CN9,"X")+COUNTIF(D9:L9,"X") -> 1 | DB9: dinsdag en donderdag met O9-3
A10: O9-3 | B10: JO8-3 | C10: ok | D10: =IF(COUNTIF('Trainingsschema 20262027'!B$6:B$26,$A10)>0,"X","") | E10: =IF(COUNTIF('Trainingsschema 20262027'!C$6:C$26,$A10)>0,"X","") | F10: =IF(COUNTIF('Trainingsschema 20262027'!D$6:D$26,$A10)>0,"X","") | G10: =IF(COUNTIF('Trainingsschema 20262027'!E$6:E$26,$A10)>0,"X","") | H10: =IF(COUNTIF('Trainingsschema 20262027'!F$6:F$26,$A10)>0,"X","") | I10: =IF(COUNTIF('Trainingsschema 20262027'!G$6:G$26,$A10)>0,"X","") | J10: =IF(COUNTIF('Trainingsschema 20262027'!H$6:H$26,$A10)>0,"X","") | K10: =IF(COUNTIF('Trainingsschema 20262027'!I$6:I$25,$A10)>0,"X","") | L10: =IF(COUNTIF('Trainingsschema 20262027'!J$6:J$25,$A10)>0,"X","") | M10: =IF(COUNTIF('Trainingsschema 20262027'!K$6:K$26,$A10)>0,"X","") | N10: =IF(COUNTIF('Trainingsschema 20262027'!L$6:L$20,$A10)>0,"X","") | O10: =IF(COUNTIF('Trainingsschema 20262027'!M$6:M$20,$A10)>0,"X","") | P10: =IF(COUNTIF('Trainingsschema 20262027'!N$6:N$25,$A10)>0,"X","") | Q10: =IF(COUNTIF('Trainingsschema 20262027'!O$6:O$25,$A10)>0,"X","") | R10: =IF(COUNTIF('Trainingsschema 20262027'!P$6:P$26,$A10)>0,"X","") | S10: =IF(COUNTIF('Trainingsschema 20262027'!Q$6:Q$26,$A10)>0,"X","") | T10: =IF(COUNTIF('Trainingsschema 20262027'!R$6:R$26,$A10)>0,"X","") | U10: =IF(COUNTIF('Trainingsschema 20262027'!S$6:S$26,$A10)>0,"X","") | V10: =IF(COUNTIF('Trainingsschema 20262027'!T$6:T$26,$A10)>0,"X","") | X10: =IF(COUNTIF('Trainingsschema 20262027'!B$30:B$49,$A10)>0,"X","") | Y10: =IF(COUNTIF('Trainingsschema 20262027'!C$30:C$49,$A10)>0,"X","") -> X | Z10: =IF(COUNTIF('Trainingsschema 20262027'!D$30:D$49,$A10)>0,"X","") | AA10: =IF(COUNTIF('Trainingsschema 20262027'!E$30:E$49,$A10)>0,"X","") | AB10: =IF(COUNTIF('Trainingsschema 20262027'!F$30:F$49,$A10)>0,"X","") | AC10: =IF(COUNTIF('Trainingsschema 20262027'!G$30:G$49,$A10)>0,"X","") | AD10: =IF(COUNTIF('Trainingsschema 20262027'!H$30:H$49,$A10)>0,"X","") | AE10: =IF(COUNTIF('Trainingsschema 20262027'!I$30:I$49,$A10)>0,"X","") | ... AP10: =IF(COUNTIF('Trainingsschema 20262027'!T$30:T$49,$A10)>0,"X","") | AR10: =IF(COUNTIF('Trainingsschema 20262027'!B$53:B$73,$A10)>0,"X","") | AS10: =IF(COUNTIF('Trainingsschema 20262027'!C$53:C$73,$A10)>0,"X","") | AT10: =IF(COUNTIF('Trainingsschema 20262027'!D$53:D$73,$A10)>0,"X","") | AU10: =IF(COUNTIF('Trainingsschema 20262027'!E$53:E$73,$A10)>0,"X","") | AV10: =IF(COUNTIF('Trainingsschema 20262027'!F$53:F$73,$A10)>0,"X","") | AW10: =IF(COUNTIF('Trainingsschema 20262027'!G$53:G$73,$A10)>0,"X","") | AX10: =IF(COUNTIF('Trainingsschema 20262027'!H$53:H$73,$A10)>0,"X","") | AY10: =IF(COUNTIF('Trainingsschema 20262027'!I$53:I$73,$A10)>0,"X","") | AZ10: =IF(COUNTIF('Trainingsschema 20262027'!J$53:J$73,$A10)>0,"X","") | BA10: =IF(COUNTIF('Trainingsschema 20262027'!K$54:K$73,$A10)>0,"X","") | BB10: =IF(COUNTIF('Trainingsschema 20262027'!L$53:L$73,$A10)>0,"X","") | BC10: =IF(COUNTIF('Trainingsschema 20262027'!M$53:M$73,$A10)>0,"X","") | BD10: =IF(COUNTIF('Trainingsschema 20262027'!N$53:N$73,$A10)>0,"X","") | BE10: =IF(COUNTIF('Trainingsschema 20262027'!O$53:O$73,$A10)>0,"X","") | BF10: =IF(COUNTIF('Trainingsschema 20262027'!P$54:P$73,$A10)>0,"X","") | BG10: =IF(COUNTIF('Trainingsschema 20262027'!Q$53:Q$73,$A10)>0,"X","") | BH10: =IF(COUNTIF('Trainingsschema 20262027'!R$53:R$73,$A10)>0,"X","") | BI10: =IF(COUNTIF('Trainingsschema 20262027'!S$53:S$73,$A10)>0,"X","") | BJ10: =IF(COUNTIF('Trainingsschema 20262027'!T$53:T$73,$A10)>0,"X","") | BL10: =IF(COUNTIF('Trainingsschema 20262027'!B$77:B$96,$A10)>0,"X","") | BM10: =IF(COUNTIF('Trainingsschema 20262027'!C$77:C$96,$A10)>0,"X","") | BN10: =IF(COUNTIF('Trainingsschema 20262027'!D$77:D$96,$A10)>0,"X","") | BO10: =IF(COUNTIF('Trainingsschema 20262027'!E$77:E$96,$A10)>0,"X","") | BP10: =IF(COUNTIF('Trainingsschema 20262027'!F$77:F$96,$A10)>0,"X","") | BQ10: =IF(COUNTIF('Trainingsschema 20262027'!G$77:G$96,$A10)>0,"X","") | BR10: =IF(COUNTIF('Trainingsschema 20262027'!H$77:H$96,$A10)>0,"X","") | BS10: =IF(COUNTIF('Trainingsschema 20262027'!I$77:I$96,$A10)>0,"X","") | ... CD10: =IF(COUNTIF('Trainingsschema 20262027'!T$77:T$96,$A10)>0,"X","") | CF10: =IF(COUNTIF('Trainingsschema 20262027'!B$100:B$118,$A10)>0,"X","") | CG10: =IF(COUNTIF('Trainingsschema 20262027'!C$100:C$118,$A10)>0,"X","") | CH10: =IF(COUNTIF('Trainingsschema 20262027'!D$100:D$118,$A10)>0,"X","") | CI10: =IF(COUNTIF('Trainingsschema 20262027'!E$100:E$118,$A10)>0,"X","") | CJ10: =IF(COUNTIF('Trainingsschema 20262027'!F$100:F$118,$A10)>0,"X","") | CK10: =IF(COUNTIF('Trainingsschema 20262027'!G$100:G$118,$A10)>0,"X","") | CL10: =IF(COUNTIF('Trainingsschema 20262027'!H$100:H$118,$A10)>0,"X","") | CM10: =IF(COUNTIF('Trainingsschema 20262027'!I$100:I$118,$A10)>0,"X","") | ... CX10: =IF(COUNTIF('Trainingsschema 20262027'!T$100:T$118,$A10)>0,"X","") | CZ10: =COUNTIF(D10:CX10,"X") -> 2 | DA10: =COUNTIF(X10:AF10,"X")+COUNTIF(AR10:AZ10,"X")+COUNTIF(BL10:BT10,"X")+COUNTIF(CF10:CN10,"X")+COUNTIF(D10:L10,"X") -> 1 | DB10: dinsdag en donderdag met O9-2
