Workbook

Sheet Trainingsschema 20262027
T1: Versie 6 - 30.9.2026
B3: Maandag | G3: =B3 -> Maandag | L3: =G3 -> Maandag | Q3: =L3 -> Maandag
B4: Veld 1A | D4: Veld 1B | G4: Veld 2A | I4: Veld 2B | L4: Veld 3A | N4: Veld 3B | Q4: Veld 4A | S4: Veld 4B
B5: links | C5: rechts | D5: links | E5: rechts | G5: links | H5: rechts | I5: links | J5: rechts | L5: links | M5: rechts | N5: links | O5: rechts | Q5: links | R5: rechts | S5: links | T5: rechts | U5: Kleedkamer | V5: Teams
A6: 16:30-16:45 | F6: 16:30-16:45 | K6: 16:30-16:45 | P6: 16:30-16:45 | U6: kk1 | V6: O9-1, O11-1
A7: 16:45-17:00 | F7: 16:45-17:00 | K7: 16:45-17:00 | P7: 16:45-17:00 | U7: kk2 | V7: O13-3, O16-2
A8: 17:00-17:15 | F8: 17:00-17:15 | K8: 17:00-17:15 | P8: 17:00-17:15 | U8: kk3 | V8: O17-2
A9: 17:15-17:30 | F9: 17:15-17:30 | K9: 17:15-17:30 | P9: 17:15-17:30 | U9: kk4 | V9: O16-1
A10: 17:30-17:45 | B10: O9-1 | C10: O10-1 | D10: O13-3 | E10: O13-3 | F10: 17:30-17:45 | G10: O11-1 | H10: O8-2 | I10: O8-3 | J10: O8-1 | K10: 17:30-17:45 | L10: O13-4 | M10: O13-4 | P10: 17:30-17:45 | U10: kk5 | V10: O8-1, O8-2, O8-3
A11: 17:45-18:00 | B11: O9-1 | C11: O10-1 | D11: O13-3 | E11: O13-3 | F11: 17:45-18:00 | G11: O11-1 | H11: O8-2 | I11: O8-3 | J11: O8-1 | K11: 17:45-18:00 | L11: O13-4 | M11: O13-4 | P11: 17:45-18:00 | U11: kk6 | V11: O13-2
A12: 18:00-18:15 | B12: O9-1 | C12: O10-1 | D12: O13-3 | E12: O13-3 | F12: 18:00-18:15 | G12: O11-1 | H12: O8-2 | I12: O8-3 | J12: O8-1 | K12: 18:00-18:15 | L12: O13-4 | M12: O13-4 | O12: Keepers, klein doel | P12: 18:00-18:15 | U12: kk7 | V12: O13-1
A13: 18:15-18:30 | B13: O9-1 | C13: O10-1 | D13: O13-3 | E13: O13-3 | F13: 18:15-18:30 | G13: O11-1 | H13: O8-2 | I13: O8-3 | J13: O8-1 | K13: 18:15-18:30 | L13: O13-4 | M13: O13-4 | O13: Keepers, klein doel | P13: 18:15-18:30 | U13: kk8 | V13: O15-1, O19-3
A14: 18:30-18:45 | B14: O9-1 | C14: O10-1 | D14: O13-3 | E14: O13-3 | F14: 18:30-18:45 | G14: O11-1 | H14: O8-2 | I14: O8-3 | J14: O8-1 | K14: 18:30-18:45 | L14: O13-4 | M14: O13-4 | O14: Keepers, klein doel | P14: 18:30-18:45 | U14: kk9 | V14: O10-1, O13-4
A15: 18:45-19:00 | B15: O17-1 | C15: O17-1 | D15: O16-1 | E15: O16-1 | F15: 18:45-19:00 | G15: O13-2 | H15: O13-2 | I15: O13-1 | J15: O13-1 | K15: 18:45-19:00 | L15: O14-1 | M15: O14-1 | N15: Keepers, groot doel | O15: Keepers, groot doel | P15: 18:45-19:00 | Q15: O15-1 | R15: O15-1 | S15: O16-2 | T15: O16-2 | U15: kk10 | V15: O14-1
A16: 19:00-19:15 | B16: O17-1 | C16: O17-1 | D16: O16-1 | E16: O16-1 | F16: 19:00-19:15 | G16: O13-2 | H16: O13-2 | I16: O13-1 | J16: O13-1 | K16: 19:00-19:15 | L16: O14-1 | M16: O14-1 | N16: Keepers, groot doel | O16: Keepers, groot doel | P16: 19:00-19:15 | Q16: O15-1 | R16: O15-1 | S16: O16-2 | T16: O16-2 | U16: kk11 | V16: FYSIO, S1
A17: 19:15-19:30 | B17: O17-1 | C17: O17-1 | D17: O16-1 | E17: O16-1 | F17: 19:15-19:30 | G17: O13-2 | H17: O13-2 | I17: O13-1 | J17: O13-1 | K17: 19:15-19:30 | L17: O14-1 | M17: O14-1 | N17: Keepers, groot doel | O17: Keepers, groot doel | P17: 19:15-19:30 | Q17: O15-1 | R17: O15-1 | S17: O16-2 | T17: O16-2 | U17: kk12
A18: 19:30-19:45 | B18: O17-1 | C18: O17-1 | D18: O16-1 | E18: O16-1 | F18: 19:30-19:45 | G18: O13-2 | H18: O13-2 | I18: O13-1 | J18: O13-1 | K18: 19:30-19:45 | L18: O14-1 | M18: O14-1 | N18: Keepers, groot doel | O18: Keepers, groot doel | P18: 19:30-19:45 | Q18: O15-1 | R18: O15-1 | S18: O16-2 | T18: O16-2 | U18: kk13 | V18: O19-1
A19: 19:45-20:00 | B19: O17-1 | C19: O17-1 | D19: O16-1 | E19: O16-1 | F19: 19:45-20:00 | G19: O13-2 | H19: O13-2 | I19: O13-1 | J19: O13-1 | K19: 19:45-20:00 | L19: O14-1 | M19: O14-1 | N19: Keepers, groot doel | O19: Keepers, groot doel | P19: 19:45-20:00 | Q19: O15-1 | R19: O15-1 | S19: O16-2 | T19: O16-2 | U19: kk14 | V19: O19-2
A20: 20:00-20:15 | B20: O17-1 | C20: O17-1 | D20: O16-1 | E20: O16-1 | F20: 20:00-20:15 | G20: O13-2 | H20: O13-2 | I20: O13-1 | J20: O13-1 | K20: 20:00-20:15 | L20: O14-1 | M20: O14-1 | N20: Keepers, groot doel | O20: Keepers, groot doel | P20: 20:00-20:15 | Q20: O15-1 | R20: O15-1 | U20: kk15 | V20: O23-2
A21: 20:15-20:30 | B21: O19-2 | C21: O19-2 | D21: O19-1 | E21: O19-1 | F21: 20:15-20:30 | G21: O15-2 | H21: O15-2 | I21: O23-2 | J21: O23-2 | K21: 20:15-20:30 | L21: Sel tot eind sep | M21: Sel tot eind sep | N21: Keepers, groot doel | O21: Keepers, groot doel | P21: 20:15-20:30 | Q21: O17-2 | R21: O17-2 | S21: O19-3 | T21: O19-3 | U21: kk16 | V21: O17-1
A22: 20:30-20:45 | B22: O19-2 | C22: O19-2 | D22: O19-1 | E22: O19-1 | F22: 20:30-20:45 | G22: O15-2 | H22: O15-2 | I22: O23-2 | J22: O23-2 | K22: 20:30-20:45 | L22: Sel tot eind sep | M22: Sel tot eind sep | N22: Keepers, groot doel | O22: Keepers, groot doel | P22: 20:30-20:45 | Q22: O17-2 | R22: O17-2 | S22: O19-3 | T22: O19-3
A23: 20:45-21:00 | B23: O19-2 | C23: O19-2 | D23: O19-1 | E23: O19-1 | F23: 20:45-21:00 | G23: O15-2 | H23: O15-2 | I23: O23-2 | J23: O23-2 | K23: 20:45-21:00 | L23: Sel tot eind sep | M23: Sel tot eind sep | N23: Keepers, groot doel | O23: Keepers, groot doel | P23: 20:45-21:00 | Q23: O17-2 | R23: O17-2 | S23: O19-3 | T23: O19-3
A24: 21:00-21:15 | B24: O19-2 | C24: O19-2 | D24: O19-1 | E24: O19-1 | F24: 21:00-21:15 | G24: O15-2 | H24: O15-2 | I24: O23-2 | J24: O23-2 | K24: 21:00-21:15 | L24: Sel tot eind sep | M24: Sel tot eind sep | P24: 21:00-21:15 | Q24: O17-2 | R24: O17-2 | S24: O19-3 | T24: O19-3
A25: 21:15-21:30 | B25: O19-2 | C25: O19-2 | D25: O19-1 | E25: O19-1 | F25: 21:15-21:30 | G25: O15-2 | H25: O15-2 | I25: O23-2 | J25: O23-2 | K25: 21:15-21:30 | L25: Sel tot eind sep | M25: Sel tot eind sep | P25: 21:15-21:30 | Q25: O17-2 | R25: O17-2 | S25: O19-3 | T25: O19-3
A26: 21:30-21:45 | B26: O19-2 | C26: O19-2 | D26: O19-1 | E26: O19-1 | F26: 21:30-21:45 | K26: 21:30-21:45 | L26: Sel tot eind sep | M26: Sel tot eind sep | P26: 21:30-21:45
B27: Dinsdag | G27: =B27 -> Dinsdag | L27: =G27 -> Dinsdag | Q27: =L27 -> Dinsdag
B28: Veld 1A | D28: Veld 1B | G28: Veld 2A | I28: Veld 2B | L28: Veld 3A | N28: Veld 3B | Q28: Veld 4A | S28: Veld 4B
B29: links | C29: rechts | D29: links | E29: rechts | G29: links | H29: rechts | I29: links | J29: rechts | L29: links | M29: rechts | N29: links | O29: rechts | Q29: links | R29: rechts | S29: links | T29: rechts | U29: Kleedkamer | V29: Teams
A30: 16:30-16:45 | F30: 16:30-16:45 | K30: 16:30-16:45 | P30: 16:30-16:45 | U30: kk1 | V30: O11-4, O14-3
A31: 16:45-17:00 | F31: 16:45-17:00 | K31: 16:45-17:00 | P31: 16:45-17:00 | U31: kk2 | V31: O10-3, O10-4
A32: 17:00-17:15 | F32: 17:00-17:15 | K32: 17:00-17:15 | P32: 17:00-17:15 | U32: kk3 | V32: O12-1
A33: 17:15-17:30 | F33: 17:15-17:30 | K33: 17:15-17:30 | P33: 17:15-17:30 | U33: kk4 | V33: O13-5
A34: 17:30-17:45 | B34: O9-2 | C34: O9-3 | D34: O12-1 | E34: O11-2 | F34: 17:30-17:45 | G34: O11-3 | H34: O11-4 | I34: O13-5 | J34: O13-5 | K34: 17:30-17:45 | N34: O14-2 | O34: O14-2 | P34: 17:30-17:45 | R34: O10-3 | S34: O10-4 | T34: O10-2 | U34: kk5 | V34: O15-3
A35: 17:45-18:00 | B35: O9-2 | C35: O9-3 | D35: O12-1 | E35: O11-2 | F35: 17:45-18:00 | G35: O11-3 | H35: O11-4 | I35: O13-5 | J35: O13-5 | K35: 17:45-18:00 | N35: O14-2 | O35: O14-2 | P35: 17:45-18:00 | R35: O10-3 | S35: O10-4 | T35: O10-2 | U35: kk6 | V35: O9-2, O9-3, O14-3
A36: 18:00-18:15 | B36: O9-2 | C36: O9-3 | D36: O12-1 | E36: O11-2 | F36: 18:00-18:15 | G36: O11-3 | H36: O11-4 | I36: O13-5 | J36: O13-5 | K36: 18:00-18:15 | N36: O14-2 | O36: O14-2 | P36: 18:00-18:15 | Q36: Keepers, klein doel | R36: O10-3 | S36: O10-4 | T36: O10-2 | U36: kk7 | V36: O13-6
A37: 18:15-18:30 | B37: O9-2 | C37: O9-3 | D37: O12-1 | E37: O11-2 | F37: 18:15-18:30 | G37: O11-3 | H37: O11-4 | I37: O13-5 | J37: O13-5 | K37: 18:15-18:30 | N37: O14-2 | O37: O14-2 | P37: 18:15-18:30 | Q37: Keepers, klein doel | R37: O10-3 | S37: O10-4 | T37: O10-2 | U37: kk8 | V37: O14-2
A38: 18:30-18:45 | B38: O14-1 | C38: O14-1 | D38: O14-3 | E38: O14-3 | F38: 18:30-18:45 | G38: O11-3 | H38: O11-4 | I38: O13-5 | J38: O13-5 | K38: 18:30-18:45 | N38: O19-2 | O38: O19-2 | P38: 18:30-18:45 | Q38: Keepers, klein doel | R38: O10-3 | S38: O10-4 | T38: O10-2 | U38: kk9 | V38: O10-2, O11-2
A39: 18:45-19:00 | B39: O14-1 | C39: O14-1 | D39: O14-3 | E39: O14-3 | F39: 18:45-19:00 | G39: O15-3 | H39: O15-3 | I39: O16-3 | J39: O16-3 | K39: 18:45-19:00 | L39: O13-6 | M39: O13-6 | N39: O19-2 | O39: O19-2 | P39: 18:45-19:00 | Q39: Keepers, groot doel | R39: Keepers, groot doel | U39: kk10 | V39: O14-1
A40: 19:00-19:15 | B40: O14-1 | C40: O14-1 | D40: O14-3 | E40: O14-3 | F40: 19:00-19:15 | G40: O15-3 | H40: O15-3 | I40: O16-3 | J40: O16-3 | K40: 19:00-19:15 | L40: O13-6 | M40: O13-6 | N40: O19-2 | O40: O19-2 | P40: 19:00-19:15 | Q40: Keepers, groot doel | R40: Keepers, groot doel | U40: kk11 | V40: S1
A41: 19:15-19:30 | B41: O14-1 | C41: O14-1 | D41: O14-3 | E41: O14-3 | F41: 19:15-19:30 | G41: O15-3 | H41: O15-3 | I41: O16-3 | J41: O16-3 | K41: 19:15-19:30 | L41: O13-6 | M41: O13-6 | N41: O19-2 | O41: O19-2 | P41: 19:15-19:30 | Q41: Keepers, groot doel | R41: Keepers, groot doel | U41: kk12 | V41: S2
A42: 19:30-19:45 | B42: O14-1 | C42: O14-1 | D42: O14-3 | E42: O14-3 | F42: 19:30-19:45 | G42: O15-3 | H42: O15-3 | I42: O16-3 | J42: O16-3 | K42: 19:30-19:45 | L42: O13-6 | M42: O13-6 | N42: O19-2 | O42: O19-2 | P42: 19:30-19:45 | Q42: Keepers, groot doel | R42: Keepers, groot doel | U42: kk13 | V42: O23-1
A43: 19:45-20:00 | B43: O14-1 | C43: O14-1 | D43: O14-3 | E43: O14-3 | F43: 19:45-20:00 | G43: O15-3 | H43: O15-3 | I43: O16-3 | J43: O16-3 | K43: 19:45-20:00 | L43: O13-6 | M43: O13-6 | N43: O19-2 | O43: O19-2 | P43: 19:45-20:00 | Q43: Keepers, groot doel | R43: Keepers, groot doel | U43: kk14 | V43: O19-2
A44: 20:00-20:15 | B44: S1 | C44: S1 | D44: S1 | E44: S1 | F44: 20:00-20:15 | G44: S2 | H44: S2 | I44: O23-1 | J44: O23-1 | K44: 20:00-20:15 | L44: S5 | M44: S5 | P44: 20:00-20:15 | Q44: S6 | R44: S6 | U44: kk15 | V44: S5
A45: 20:15-20:30 | B45: S1 | C45: S1 | D45: S1 | E45: S1 | F45: 20:15-20:30 | G45: S2 | H45: S2 | I45: O23-1 | J45: O23-1 | K45: 20:15-20:30 | L45: S5 | M45: S5 | P45: 20:15-20:30 | Q45: S6 | R45: S6 | U45: kk16 | V45: S6
A46: 20:30-20:45 | B46: S1 | C46: S1 | D46: S1 | E46: S1 | F46: 20:30-20:45 | G46: S2 | H46: S2 | I46: O23-1 | J46: O23-1 | K46: 20:30-20:45 | L46: S5 | M46: S5 | P46: 20:30-20:45 | Q46: S6 | R46: S6
A47: 20:45-21:00 | B47: S1 | C47: S1 | D47: S1 | E47: S1 | F47: 20:45-21:00 | G47: S2 | H47: S2 | I47: O23-1 | J47: O23-1 | K47: 20:45-21:00 | L47: S5 | M47: S5 | P47: 20:45-21:00 | Q47: S6 | R47: S6
A48: 21:00-21:15 | B48: S1 | C48: S1 | D48: S1 | E48: S1 | F48: 21:00-21:15 | G48: S2 | H48: S2 | I48: O23-1 | J48: O23-1 | K48: 21:00-21:15 | L48: S5 | M48: S5 | P48: 21:00-21:15 | Q48: S6 | R48: S6
A49: 21:15-21:30 | B49: S1 | C49: S1 | D49: S1 | E49: S1 | F49: 21:15-21:30 | G49: S2 | H49: S2 | I49: O23-1 | J49: O23-1 | K49: 21:15-21:30 | L49: S5 | M49: S5 | P49: 21:15-21:30 | Q49: S6 | R49: S6
B50: Woensdag | G50: =B50 -> Woensdag | L50: =G50 -> Woensdag | Q50: =L50 -> Woensdag
B51: Veld 1A | D51: Veld 1B | G51: Veld 2A | I51: Veld 2B | L51: Veld 3A | N51: Veld 3B | Q51: Veld 4A | S51: Veld 4B
B52: links | C52: rechts | D52: links | E52: rechts | G52: links | H52: rechts | I52: links | J52: rechts | L52: links | M52: rechts | N52: links | O52: rechts | Q52: links | R52: rechts | S52: links | T52: rechts | U52: Kleedkamer | V52: Teams
A53: 16:15-16:30 | B53: Mini's | C53: O7 | F53: 16:15-16:30 | K53: 16:15-16:30 | P53: 16:15-16:30 | U53: kk1 | V53: O9-1, O11-1
A54: 16:30-16:45 | B54: Mini's | C54: O7 | F54: 16:30-16:45 | K54: 16:30-16:45 | P54: 16:30-16:45 | U54: kk2 | V54: O16-2
A55: 16:45-17:00 | B55: Mini's | C55: O7 | F55: 16:45-17:00 | K55: 16:45-17:00 | P55: 16:45-17:00 | U55: kk3 | V55: O17-2
A56: 17:00-17:15 | B56: Mini's | C56: O7 | F56: 17:00-17:15 | K56: 17:00-17:15 | P56: 17:00-17:15 | U56: kk4 | V56: O16-1
A57: 17:15-17:30 | B57: Mini's | C57: O7 | F57: 17:15-17:30 | K57: 17:15-17:30 | P57: 17:15-17:30 | U57: kk5 | V57: O8-1, O8-2, O8-3
A58: 17:30-17:45 | B58: O11-1 | C58: O8-1 | D58: O8-2 | E58: O8-3 | F58: 17:30-17:45 | G58: O10-1 | H58: O9-1 | I58: O13-4 | J58: O13-4 | K58: 17:30-17:45 | P58: 17:30-17:45 | U58: kk6 | V58: Mini's, JO7, JO13-2
A59: 17:45-18:00 | B59: O11-1 | C59: O8-1 | D59: O8-2 | E59: O8-3 | F59: 17:45-18:00 | G59: O10-1 | H59: O9-1 | I59: O13-4 | J59: O13-4 | K59: 17:45-18:00 | P59: 17:45-18:00 | U59: kk7 | V59: O13-1
A60: 18:00-18:15 | B60: O11-1 | C60: O8-1 | D60: O8-2 | E60: O8-3 | F60: 18:00-18:15 | G60: O10-1 | H60: O9-1 | I60: O13-4 | J60: O13-4 | K60: 18:00-18:15 | P60: 18:00-18:15 | U60: kk8 | V60: O15-1, O19-3
A61: 18:15-18:30 | B61: O11-1 | C61: O8-1 | D61: O8-2 | E61: O8-3 | F61: 18:15-18:30 | G61: O10-1 | H61: O9-1 | I61: O13-4 | J61: O13-4 | K61: 18:15-18:30 | P61: 18:15-18:30 | U61: kk9 | V61: O13-4,O15-2
A62: 18:30-18:45 | B62: O11-1 | C62: O8-1 | D62: O8-2 | E62: O8-3 | F62: 18:30-18:45 | G62: O10-1 | H62: O9-1 | I62: O13-4 | J62: O13-4 | K62: 18:30-18:45 | P62: 18:30-18:45 | U62: kk10 | V62: O13-3
A63: 18:45-19:00 | B63: O13-2 | C63: O13-2 | D63: O13-1 | E63: O13-1 | F63: 18:45-19:00 | G63: O15-1 | H63: O15-1 | I63: O17-1 | J63: O17-1 | K63: 18:45-19:00 | L63: O16-1 | M63: O16-1 | N63: O16-2 | O63: O16-2 | P63: 18:45-19:00 | Q63: O13-3 | R63: O13-3 | U63: kk11
A64: 19:00-19:15 | B64: O13-2 | C64: O13-2 | D64: O13-1 | E64: O13-1 | F64: 19:00-19:15 | G64: O15-1 | H64: O15-1 | I64: O17-1 | J64: O17-1 | K64: 19:00-19:15 | L64: O16-1 | M64: O16-1 | N64: O16-2 | O64: O16-2 | P64: 19:00-19:15 | Q64: O13-3 | R64: O13-3 | U64: kk12 | V64: S3
A65: 19:15-19:30 | B65: O13-2 | C65: O13-2 | D65: O13-1 | E65: O13-1 | F65: 19:15-19:30 | G65: O15-1 | H65: O15-1 | I65: O17-1 | J65: O17-1 | K65: 19:15-19:30 | L65: O16-1 | M65: O16-1 | N65: O16-2 | O65: O16-2 | P65: 19:15-19:30 | Q65: O13-3 | R65: O13-3 | U65: kk13 | V65: O19-1
A66: 19:30-19:45 | B66: O13-2 | C66: O13-2 | D66: O13-1 | E66: O13-1 | F66: 19:30-19:45 | G66: O15-1 | H66: O15-1 | I66: O17-1 | J66: O17-1 | K66: 19:30-19:45 | L66: O16-1 | M66: O16-1 | N66: O16-2 | O66: O16-2 | P66: 19:30-19:45 | Q66: O13-3 | R66: O13-3 | U66: kk14
A67: 19:45-20:00 | B67: O13-2 | C67: O13-2 | D67: O13-1 | E67: O13-1 | F67: 19:45-20:00 | G67: O15-1 | H67: O15-1 | I67: O17-1 | J67: O17-1 | K67: 19:45-20:00 | L67: O16-1 | M67: O16-1 | N67: O16-2 | O67: O16-2 | P67: 19:45-20:00 | Q67: O13-3 | R67: O13-3 | U67: kk15 | V67: O23-2
A68: 20:00-20:15 | B68: O13-2 | C68: O13-2 | D68: O13-1 | E68: O13-1 | F68: 20:00-20:15 | G68: O15-1 | H68: O15-1 | I68: O17-1 | J68: O17-1 | K68: 20:00-20:15 | L68: O16-1 | M68: O16-1 | N68: O16-2 | O68: O16-2 | P68: 20:00-20:15 | Q68: Oefenwedstrijd | R68: Oefenwedstrijd | S68: Oefenwedstrijd | T68: Oefenwedstrijd | U68: kk16 | V68: O17-1
A69: 20:15-20:30 | B69: S3 | C69: S3 | D69: O19-1 | E69: O19-1 | F69: 20:15-20:30 | G69: O17-2 | H69: O17-2 | I69: O19-3 | J69: O19-3 | K69: 20:15-20:30 | L69: O15-2 | M69: O15-2 | N69: O23-2 | O69: O23-2 | P69: 20:15-20:30 | Q69: Oefenwedstrijd | R69: Oefenwedstrijd | S69: Oefenwedstrijd | T69: Oefenwedstrijd
A70: 20:30-20:45 | B70: S3 | C70: S3 | D70: O19-1 | E70: O19-1 | F70: 20:30-20:45 | G70: O17-2 | H70: O17-2 | I70: O19-3 | J70: O19-3 | K70: 20:30-20:45 | L70: O15-2 | M70: O15-2 | N70: O23-2 | O70: O23-2 | P70: 20:30-20:45 | Q70: Oefenwedstrijd | R70: Oefenwedstrijd | S70: Oefenwedstrijd | T70: Oefenwedstrijd
A71: 20:45-21:00 | B71: S3 | C71: S3 | D71: O19-1 | E71: O19-1 | F71: 20:45-21:00 | G71: O17-2 | H71: O17-2 | I71: O19-3 | J71: O19-3 | K71: 20:45-21:00 | L71: O15-2 | M71: O15-2 | N71: O23-2 | O71: O23-2 | P71: 20:45-21:00 | Q71: Oefenwedstrijd | R71: Oefenwedstrijd | S71: Oefenwedstrijd | T71: Oefenwedstrijd
A72: 21:00-21:15 | B72: S3 | C72: S3 | D72: O19-1 | E72: O19-1 | F72: 21:00-21:15 | G72: O17-2 | H72: O17-2 | I72: O19-3 | J72: O19-3 | K72: 21:00-21:15 | L72: O15-2 | M72: O15-2 | N72: O23-2 | O72: O23-2 | P72: 21:00-21:15 | Q72: Oefenwedstrijd | R72: Oefenwedstrijd | S72: Oefenwedstrijd | T72: Oefenwedstrijd
A73: 21:15-21:30 | B73: S3 | C73: S3 | D73: O19-1 | E73: O19-1 | F73: 21:15-21:30 | G73: O17-2 | H73: O17-2 | I73: O19-3 | J73: O19-3 | K73: 21:15-21:30 | L73: O15-2 | M73: O15-2 | N73: O23-2 | O73: O23-2 | P73: 21:15-21:30 | Q73: Oefenwedstrijd | R73: Oefenwedstrijd | S73: Oefenwedstrijd | T73: Oefenwedstrijd
B74: Donderdag | G74: =B74 -> Donderdag | L74: =G74 -> Donderdag | Q74: =L74 -> Donderdag
B75: Veld 1A | D75: Veld 1B | G75: Veld 2A | I75: Veld 2B | L75: Veld 3A | N75: Veld 3B | Q75: Veld 4A | S75: Veld 4B
B76: links | C76: rechts | D76: links | E76: rechts | G76: links | H76: rechts | I76: links | J76: rechts | L76: links | M76: rechts | N76: links | O76: rechts | Q76: links | R76: rechts | S76: links | T76: rechts | U76: Kleedkamer | V76: Teams
A77: 16:30-16:45 | F77: 16:30-16:45 | K77: 16:30-16:45 | P77: 16:30-16:45 | U77: kk1 | V77: O11-1, O19-2
A78: 16:45-17:00 | F78: 16:45-17:00 | K78: 16:45-17:00 | P78: 16:45-17:00 | U78: kk2 | V78: O10-3, O10-4
A79: 17:00-17:15 | F79: 17:00-17:15 | K79: 17:00-17:15 | P79: 17:00-17:15 | U79: kk3 | V79: O11-3, O12-1, O13-5
A80: 17:15-17:30 | F80: 17:15-17:30 | K80: 17:15-17:30 | P80: 17:15-17:30 | U80: kk4 | V80: O16-1
A81: 17:30-17:45 | B81: O10-3 | C81: O10-4 | D81: O13-6 | E81: O13-6 | F81: 17:30-17:45 | G81: O14-2 | H81: O14-2 | I81: O10-2 | K81: 17:30-17:45 | L81: O10-1 | M81: O11-1 | N81: O9-2 | O81: O9-3 | P81: 17:30-17:45 | Q81: O12-1 | R81: O11-2 | S81: O11-3 | T81: O11-4 | U81: kk5 | V81: O15-3
A82: 17:45-18:00 | B82: O10-3 | C82: O10-4 | D82: O13-6 | E82: O13-6 | F82: 17:45-18:00 | G82: O14-2 | H82: O14-2 | I82: O10-2 | K82: 17:45-18:00 | L82: O10-1 | M82: O11-1 | N82: O9-2 | O82: O9-3 | P82: 17:45-18:00 | Q82: O12-1 | R82: O11-2 | S82: O11-3 | T82: O11-4 | U82: kk6 | V82: O9-2, O9-3, O13-2
A83: 18:00-18:15 | B83: O10-3 | C83: O10-4 | D83: O13-6 | E83: O13-6 | F83: 18:00-18:15 | G83: O14-2 | H83: O14-2 | I83: O10-2 | K83: 18:00-18:15 | L83: O10-1 | M83: O11-1 | N83: O9-2 | O83: O9-3 | P83: 18:00-18:15 | Q83: O12-1 | R83: O11-2 | S83: O11-3 | T83: O11-4 | U83: kk7 | V83: O17-1
A84: 18:15-18:30 | B84: O10-3 | C84: O10-4 | D84: O13-6 | E84: O13-6 | F84: 18:15-18:30 | G84: O14-2 | H84: O14-2 | I84: O10-2 | K84: 18:15-18:30 | L84: O10-1 | M84: O11-1 | N84: O9-2 | O84: O9-3 | P84: 18:15-18:30 | Q84: O12-1 | R84: O11-2 | S84: O11-3 | T84: O11-4 | U84: kk8 | V84: O14-2
A85: 18:30-18:45 | B85: O14-1 | C85: O14-1 | D85: O19-2 | E85: O19-2 | F85: 18:30-18:45 | I85: O16-1 | J85: O16-1 | K85: 18:30-18:45 | L85: O13-2 | M85: O13-2 | N85: O17-1 | O85: O17-1 | P85: 18:30-18:45 | Q85: O12-1 | R85: O11-2 | S85: O11-3 | T85: O11-4 | U85: kk9 | V85: O10-1, O10-2, O11-2, O14-3
A86: 18:45-19:00 | B86: O14-1 | C86: O14-1 | D86: O19-2 | E86: O19-2 | F86: 18:45-19:00 | G86: O13-5/O14-3/O15-3* | H86: O13-5* | I86: O16-1 | J86: O16-1 | K86: 18:45-19:00 | L86: O13-2 | M86: O13-2 | N86: O17-1 | O86: O17-1 | P86: 18:45-19:00 | Q86: O14-3 | R86: O14-3 | S86: O15-3 | T86: O15-3 | U86: kk10 | V86: O14-1
A87: 19:00-19:15 | B87: O14-1 | C87: O14-1 | D87: O19-2 | E87: O19-2 | F87: 19:00-19:15 | G87: O13-5/O14-3/O15-3* | H87: O13-5* | I87: O16-1 | J87: O16-1 | K87: 19:00-19:15 | L87: O13-2 | M87: O13-2 | N87: O17-1 | O87: O17-1 | P87: 19:00-19:15 | Q87: O14-3 | R87: O14-3 | S87: O15-3 | T87: O15-3 | U87: kk11 | V87: S1
A88: 19:15-19:30 | B88: O14-1 | C88: O14-1 | D88: O19-2 | E88: O19-2 | F88: 19:15-19:30 | G88: O13-5/O14-3/O15-3* | H88: O13-5* | I88: O16-1 | J88: O16-1 | K88: 19:15-19:30 | L88: O13-2 | M88: O13-2 | N88: O17-1 | O88: O17-1 | P88: 19:15-19:30 | Q88: O14-3 | R88: O14-3 | S88: O15-3 | T88: O15-3 | U88: kk12 | V88: S2
A89: 19:30-19:45 | B89: O14-1 | C89: O14-1 | D89: O19-2 | E89: O19-2 | F89: 19:30-19:45 | G89: O13-5/O14-3/O15-3* | H89: O13-5* | I89: O16-1 | J89: O16-1 | K89: 19:30-19:45 | L89: O13-2 | M89: O13-2 | N89: O17-1 | O89: O17-1 | P89: 19:30-19:45 | Q89: O14-3 | R89: O14-3 | S89: O15-3 | T89: O15-3 | U89: kk13 | V89: O23-1
A90: 19:45-20:00 | B90: O14-1 | C90: O14-1 | D90: O19-2 | E90: O19-2 | F90: 19:45-20:00 | G90: O13-5/O14-3/O15-3* | H90: O13-5* | I90: O16-1 | J90: O16-1 | K90: 19:45-20:00 | L90: O13-2 | M90: O13-2 | N90: O17-1 | O90: O17-1 | P90: 19:45-20:00 | Q90: O14-3 | R90: O14-3 | S90: O15-3 | T90: O15-3 | U90: kk14 | V90: S4
A91: 20:00-20:15 | B91: S1 | C91: S1 | D91: Keeperstraining | E91: Keeperstraining | F91: 20:00-20:15 | G91: O23-1 | H91: O23-1 | I91: S2 | J91: S2 | K91: 20:00-20:15 | L91: S5 | M91: S5 | N91: S4 | O91: S4 | P91: 20:00-20:15 | Q91: O16-3 | R91: O16-3 | S91: S6 | T91: S6 | U91: kk15 | V91: S5
A92: 20:15-20:30 | B92: S1 | C92: S1 | D92: Keeperstraining | E92: Keeperstraining | F92: 20:15-20:30 | G92: O23-1 | H92: O23-1 | I92: S2 | J92: S2 | K92: 20:15-20:30 | L92: S5 | M92: S5 | N92: S4 | O92: S4 | P92: 20:15-20:30 | Q92: O16-3 | R92: O16-3 | S92: S6 | T92: S6 | U92: kk16 | V92: S6
A93: 20:30-20:45 | B93: S1 | C93: S1 | D93: Keeperstraining | E93: Keeperstraining | F93: 20:30-20:45 | G93: O23-1 | H93: O23-1 | I93: S2 | J93: S2 | K93: 20:30-20:45 | L93: S5 | M93: S5 | N93: S4 | O93: S4 | P93: 20:30-20:45 | Q93: O16-3 | R93: O16-3 | S93: S6 | T93: S6
A94: 20:45-21:00 | B94: S1 | C94: S1 | D94: S1 | E94: S1 | F94: 20:45-21:00 | G94: O23-1 | H94: O23-1 | I94: S2 | J94: S2 | K94: 20:45-21:00 | L94: S5 | M94: S5 | N94: S4 | O94: S4 | P94: 20:45-21:00 | Q94: O16-3 | R94: O16-3 | S94: S6 | T94: S6
A95: 21:00-21:15 | B95: S1 | C95: S1 | D95: S1 | E95: S1 | F95: 21:00-21:15 | G95: O23-1 | H95: O23-1 | I95: S2 | J95: S2 | K95: 21:00-21:15 | L95: S5 | M95: S5 | N95: S4 | O95: S4 | P95: 21:00-21:15 | Q95: O16-3 | R95: O16-3 | S95: S6 | T95: S6
A96: 21:15-21:30 | B96: S1 | C96: S1 | D96: S1 | E96: S1 | F96: 21:15-21:30 | G96: O23-1 | H96: O23-1 | I96: S2 | J96: S2 | K96: 21:15-21:30 | P96: 21:15-21:30 | S96: S6 | T96: S6
B97: Vrijdag | G97: =B97 -> Vrijdag | L97: =G97 -> Vrijdag | Q97: =L97 -> Vrijdag
B98: Veld 1A | D98: Veld 1B | G98: Veld 2A | I98: Veld 2B | L98: Veld 3A | N98: Veld 3B | Q98: Veld 4A | S98: Veld 4B
B99: links | C99: rechts | D99: links | E99: rechts | G99: links | H99: rechts | I99: links | J99: rechts | L99: links | M99: rechts | N99: links | O99: rechts | Q99: links | R99: rechts | S99: links | T99: rechts | U99: Kleedkamer | V99: Teams
A100: 16:30-16:45 | F100: 16:30-16:45 | K100: 16:30-16:45 | P100: 16:30-16:45 | U100: kk1
A101: 16:45-17:00 | F101: 16:45-17:00 | K101: 16:45-17:00 | P101: 16:45-17:00 | U101: kk2
...

Sheet Schaduwprogramma
AB1: ='Trainingsschema 20262027'!T1 -> Versie 6 - 30.9.2026
B3: Maandag | K3: =B3 -> Maandag | T3: =K3 -> Maandag | Y3: =T3 -> Maandag
B4: Veld 1A | F4: Veld 1B | K4: Veld 2A | O4: Veld 2B | T4: Veld 3A | V4: Veld 3B | Y4: Veld 4A | AA4: Veld 4B
B5: links 1 | D5: rechts | F5: links | H5: rechts | K5: links | M5: rechts | O5: links | Q5: rechts | T5: links | U5: rechts | V5: links | W5: rechts | Y5: links | Z5: rechts | AA5: links | AB5: rechts | AC5: Kleedkamer | AD5: Teams
A6: 16:30-16:45 | J6: 16:30-16:45 | S6: 16:30-16:45 | X6: 16:30-16:45 | AC6: kk1 | AD6: O9-1, O11-1
A7: 16:45-17:00 | J7: 16:45-17:00 | S7: 16:45-17:00 | X7: 16:45-17:00 | AC7: kk2 | AD7: O13-3, O16-2
A8: 17:00-17:15 | J8: 17:00-17:15 | S8: 17:00-17:15 | X8: 17:00-17:15 | AC8: kk3 | AD8: O11-2, O14-3, O17-2
A9: 17:15-17:30 | J9: 17:15-17:30 | S9: 17:15-17:30 | X9: 17:15-17:30 | AC9: kk4 | AD9: O16-1
A10: 17:30-17:45 | B10: O9-1 | C10: O9-1 | D10: O13-4 | E10: O13-4 | F10: O10-1 | G10: O10-1 | H10: O13-3 | I10: O13-3 | J10: 17:30-17:45 | K10: O11-1 | L10: O11-1 | P10: O8-1 | Q10: O8-2 | R10: O8-3 | S10: 17:30-17:45 | X10: 17:30-17:45 | AC10: kk5 | AD10: O8-1, O8-2, O8-3, O17-1
A11: 17:45-18:00 | B11: O9-1 | C11: O9-1 | D11: O13-4 | E11: O13-4 | F11: O10-1 | G11: O10-1 | H11: O13-3 | I11: O13-3 | J11: 17:45-18:00 | K11: O11-1 | L11: O11-1 | P11: O8-1 | Q11: O8-2 | R11: O8-3 | S11: 17:45-18:00 | X11: 17:45-18:00 | AC11: kk6 | AD11: O13-2
A12: 18:00-18:15 | B12: O9-1 | C12: O9-1 | D12: O13-4 | E12: O13-4 | F12: O10-1 | G12: O10-1 | H12: O13-3 | I12: O13-3 | J12: 18:00-18:15 | K12: O11-1 | L12: O11-1 | M12: Keepers, klein doel | P12: O8-1 | Q12: O8-2 | R12: O8-3 | S12: 18:00-18:15 | X12: 18:00-18:15 | AC12: kk7 | AD12: O13-1
A13: 18:15-18:30 | B13: O9-1 | C13: O9-1 | D13: O13-4 | E13: O13-4 | F13: O10-1 | G13: O10-1 | H13: O13-3 | I13: O13-3 | J13: 18:15-18:30 | K13: O11-1 | L13: O11-1 | M13: Keepers, klein doel | P13: O8-1 | Q13: O8-2 | R13: O8-3 | S13: 18:15-18:30 | X13: 18:15-18:30 | AC13: kk8 | AD13: O15-1, O19-3
A14: 18:30-18:45 | B14: O9-1 | C14: O9-1 | D14: O13-4 | E14: O13-4 | F14: O10-1 | G14: O10-1 | H14: O13-3 | I14: O13-3 | J14: 18:30-18:45 | K14: O11-1 | L14: O11-1 | M14: Keepers, klein doel | P14: O8-1 | Q14: O8-2 | R14: O8-3 | S14: 18:30-18:45 | X14: 18:30-18:45 | AC14: kk9 | AD14: O10-1, O13-4
A15: 18:45-19:00 | B15: O17-1 | C15: O17-1 | D15: O14-1 | E15: O14-1 | F15: O16-1 | G15: O16-1 | H15: O15-1 | I15: O15-1 | J15: 18:45-19:00 | K15: O13-2 | L15: O13-2 | M15: Keepers, groot doel | N15: Keepers, groot doel | O15: O13-1 | P15: O13-1 | Q15: O16-2 | R15: O16-2 | S15: 18:45-19:00 | X15: 18:45-19:00 | AC15: kk10 | AD15: O14-1
A16: 19:00-19:15 | B16: O17-1 | C16: O17-1 | D16: O14-1 | E16: O14-1 | F16: O16-1 | G16: O16-1 | H16: O15-1 | I16: O15-1 | J16: 19:00-19:15 | K16: O13-2 | L16: O13-2 | M16: Keepers, groot doel | N16: Keepers, groot doel | O16: O13-1 | P16: O13-1 | Q16: O16-2 | R16: O16-2 | S16: 19:00-19:15 | X16: 19:00-19:15 | AC16: kk11 | AD16: FYSIO, S1
A17: 19:15-19:30 | B17: O17-1 | C17: O17-1 | D17: O14-1 | E17: O14-1 | F17: O16-1 | G17: O16-1 | H17: O15-1 | I17: O15-1 | J17: 19:15-19:30 | K17: O13-2 | L17: O13-2 | M17: Keepers, groot doel | N17: Keepers, groot doel | O17: O13-1 | P17: O13-1 | Q17: O16-2 | R17: O16-2 | S17: 19:15-19:30 | X17: 19:15-19:30 | AC17: kk12
A18: 19:30-19:45 | B18: O17-1 | C18: O17-1 | D18: O14-1 | E18: O14-1 | F18: O16-1 | G18: O16-1 | H18: O15-1 | I18: O15-1 | J18: 19:30-19:45 | K18: O13-2 | L18: O13-2 | M18: Keepers, groot doel | N18: Keepers, groot doel | O18: O13-1 | P18: O13-1 | Q18: O16-2 | R18: O16-2 | S18: 19:30-19:45 | X18: 19:30-19:45 | AC18: kk13 | AD18: O19-1
A19: 19:45-20:00 | B19: O17-1 | C19: O17-1 | D19: O14-1 | E19: O14-1 | F19: O16-1 | G19: O16-1 | H19: O15-1 | I19: O15-1 | J19: 19:45-20:00 | K19: O13-2 | L19: O13-2 | M19: Keepers, groot doel | N19: Keepers, groot doel | O19: O13-1 | P19: O13-1 | Q19: O16-2 | R19: O16-2 | S19: 19:45-20:00 | X19: 19:45-20:00 | AC19: kk14 | AD19: O19-2
A20: 20:00-20:15 | B20: O17-1 | C20: O17-1 | D20: O14-1 | E20: O14-1 | F20: O16-1 | G20: O16-1 | H20: O15-1 | I20: O15-1 | J20: 20:00-20:15 | K20: O13-2 | L20: O13-2 | M20: Keepers, groot doel | N20: Keepers, groot doel | O20: O13-1 | P20: O13-1 | S20: 20:00-20:15 | X20: 20:00-20:15 | AC20: kk15 | AD20: O23-2
A21: 20:15-20:30 | B21: O19-2 | C21: O19-2 | D21: O19-1 | E21: O19-1 | F21: S1 | G21: S1 | H21: S1 | I21: S1 | J21: 20:15-20:30 | K21: O15-2 | L21: O15-2 | M21: O23-2 | N21: O23-2 | O21: O17-2 | P21: O17-2 | Q21: O19-3 | R21: O19-3 | S21: 20:15-20:30 | X21: 20:15-20:30 | AC21: kk16
A22: 20:30-20:45 | B22: O19-2 | C22: O19-2 | D22: O19-1 | E22: O19-1 | F22: S1 | G22: S1 | H22: S1 | I22: S1 | J22: 20:30-20:45 | K22: O15-2 | L22: O15-2 | M22: O23-2 | N22: O23-2 | O22: O17-2 | P22: O17-2 | Q22: O19-3 | R22: O19-3 | S22: 20:30-20:45 | X22: 20:30-20:45
A23: 20:45-21:00 | B23: O19-2 | C23: O19-2 | D23: O19-1 | E23: O19-1 | F23: S1 | G23: S1 | H23: S1 | I23: S1 | J23: 20:45-21:00 | K23: O15-2 | L23: O15-2 | M23: O23-2 | N23: O23-2 | O23: O17-2 | P23: O17-2 | Q23: O19-3 | R23: O19-3 | S23: 20:45-21:00 | X23: 20:45-21:00
A24: 21:00-21:15 | B24: O19-2 | C24: O19-2 | D24: O19-1 | E24: O19-1 | F24: S1 | G24: S1 | H24: S1 | I24: S1 | J24: 21:00-21:15 | K24: O15-2 | L24: O15-2 | M24: O23-2 | N24: O23-2 | O24: O17-2 | P24: O17-2 | Q24: O19-3 | R24: O19-3 | S24: 21:00-21:15 | X24: 21:00-21:15
A25: 21:15-21:30 | B25: O19-2 | C25: O19-2 | D25: O19-1 | E25: O19-1 | F25: S1 | G25: S1 | H25: S1 | I25: S1 | J25: 21:15-21:30 | K25: O15-2 | L25: O15-2 | M25: O23-2 | N25: O23-2 | O25: O17-2 | P25: O17-2 | Q25: O19-3 | R25: O19-3 | S25: 21:15-21:30 | X25: 21:15-21:30
A26: 21:30-21:45 | B26: O19-2 | C26: O19-2 | D26: O19-1 | E26: O19-1 | F26: S1 | G26: S1 | H26: S1 | I26: S1 | J26: 21:30-21:45 | S26: 21:30-21:45 | X26: 21:30-21:45
B27: Dinsdag | K27: =B27 -> Dinsdag | T27: =K27 -> Dinsdag | Y27: =T27 -> Dinsdag
B28: Veld 1A | F28: Veld 1B | K28: Veld 2A | O28: Veld 2B | T28: Veld 3A | V28: Veld 3B | Y28: Veld 4A | AA28: Veld 4B
B29: links 1 | D29: rechts | F29: links | H29: rechts | K29: links | M29: rechts | O29: links | Q29: rechts | T29: links | U29: rechts | V29: links | W29: rechts | Y29: links | Z29: rechts | AA29: links | AB29: rechts | AC29: Kleedkamer | AD29: Teams
A30: 16:30-16:45 | J30: 16:30-16:45 | S30: 16:30-16:45 | X30: 16:30-16:45 | AC30: kk1 | AD30: O11-4
A31: 16:45-17:00 | J31: 16:45-17:00 | S31: 16:45-17:00 | X31: 16:45-17:00 | AC31: kk2 | AD31: O10-3, O10-4
A32: 17:00-17:15 | J32: 17:00-17:15 | S32: 17:00-17:15 | X32: 17:00-17:15 | AC32: kk3 | AD32: O12-1
A33: 17:15-17:30 | J33: 17:15-17:30 | S33: 17:15-17:30 | X33: 17:15-17:30 | AC33: kk4 | AD33: O13-5
A34: 17:30-17:45 | B34: O9-2 | C34: O9-3 | D34: O13-6 | E34: O13-6 | F34: O12-1 | G34: O11-2 | H34: O14-2 | I34: O14-2 | J34: 17:30-17:45 | K34: O11-3 | L34: O11-4 | M34: O10-3 | N34: O10-4 | O34: O10-2 | P34: O13-5 | Q34: O13-5 | R34: O13-5 | S34: 17:30-17:45 | X34: 17:30-17:45 | AC34: kk5 | AD34: O15-3
A35: 17:45-18:00 | B35: O9-2 | C35: O9-3 | D35: O13-6 | E35: O13-6 | F35: O12-1 | G35: O11-2 | H35: O14-2 | I35: O14-2 | J35: 17:45-18:00 | K35: O11-3 | L35: O11-4 | M35: O10-3 | N35: O10-4 | O35: O10-2 | P35: O13-5 | Q35: O13-5 | R35: O13-5 | S35: 17:45-18:00 | X35: 17:45-18:00 | AC35: kk6 | AD35: O9-2, O9-3
A36: 18:00-18:15 | B36: O9-2 | C36: O9-3 | D36: O13-6 | E36: O13-6 | F36: O12-1 | G36: O11-2 | H36: O14-2 | I36: O14-2 | J36: 18:00-18:15 | K36: O11-3 | L36: O11-4 | M36: O10-3 | N36: O10-4 | O36: O10-2 | P36: O13-5 | Q36: O13-5 | R36: O13-5 | S36: 18:00-18:15 | X36: 18:00-18:15 | AC36: kk7 | AD36: O13-6
A37: 18:15-18:30 | B37: O9-2 | C37: O9-3 | D37: O13-6 | E37: O13-6 | F37: O12-1 | G37: O11-2 | H37: O14-2 | I37: O14-2 | J37: 18:15-18:30 | K37: O11-3 | L37: O11-4 | M37: O10-3 | N37: O10-4 | O37: O10-2 | P37: O13-5 | Q37: O13-5 | R37: O13-5 | S37: 18:15-18:30 | X37: 18:15-18:30 | AC37: kk8 | AD37: O14-2
A38: 18:30-18:45 | B38: O14-1 | C38: O14-1 | D38: O14-1 | E38: O14-1 | F38: O14-3 | G38: O14-3 | H38: O19-2 | I38: O19-2 | J38: 18:30-18:45 | K38: O11-3 | L38: O11-4 | M38: O10-3 | N38: O10-4 | O38: O10-2 | P38: O13-5 | Q38: O13-5 | R38: O13-5 | S38: 18:30-18:45 | X38: 18:30-18:45 | AC38: kk9 | AD38: O10-2, O11-2
A39: 18:45-19:00 | B39: O14-1 | C39: O14-1 | D39: O14-1 | E39: O14-1 | F39: O14-3 | G39: O14-3 | H39: O19-2 | I39: O19-2 | J39: 18:45-19:00 | K39: Keepers, groot doel | L39: O15-3 | M39: O15-3 | N39: O15-3 | O39: O16-3 | P39: O16-3 | Q39: O16-3 | R39: O16-3 | S39: 18:45-19:00 | X39: 18:45-19:00 | AC39: kk10 | AD39: O14-1
A40: 19:00-19:15 | B40: O14-1 | C40: O14-1 | D40: O14-1 | E40: O14-1 | F40: O14-3 | G40: O14-3 | H40: O19-2 | I40: O19-2 | J40: 19:00-19:15 | K40: Keepers, groot doel | L40: O15-3 | M40: O15-3 | N40: O15-3 | O40: O16-3 | P40: O16-3 | Q40: O16-3 | R40: O16-3 | S40: 19:00-19:15 | X40: 19:00-19:15 | AC40: kk11 | AD40: S1
A41: 19:15-19:30 | B41: O14-1 | C41: O14-1 | D41: O14-1 | E41: O14-1 | F41: O14-3 | G41: O14-3 | H41: O19-2 | I41: O19-2 | J41: 19:15-19:30 | K41: Keepers, groot doel | L41: O15-3 | M41: O15-3 | N41: O15-3 | O41: O16-3 | P41: O16-3 | Q41: O16-3 | R41: O16-3 | S41: 19:15-19:30 | X41: 19:15-19:30 | AC41: kk12 | AD41: S2
A42: 19:30-19:45 | B42: O14-1 | C42: O14-1 | D42: O14-1 | E42: O14-1 | F42: O14-3 | G42: O14-3 | H42: O19-2 | I42: O19-2 | J42: 19:30-19:45 | K42: Keepers, groot doel | L42: O15-3 | M42: O15-3 | N42: O15-3 | O42: O16-3 | P42: O16-3 | Q42: O16-3 | R42: O16-3 | S42: 19:30-19:45 | X42: 19:30-19:45 | AC42: kk13 | AD42: O23-1
A43: 19:45-20:00 | B43: O14-1 | C43: O14-1 | D43: O14-1 | E43: O14-1 | F43: O14-3 | G43: O14-3 | H43: O19-2 | I43: O19-2 | J43: 19:45-20:00 | K43: Keepers, groot doel | L43: O15-3 | M43: O15-3 | N43: O15-3 | O43: O16-3 | P43: O16-3 | Q43: O16-3 | R43: O16-3 | S43: 19:45-20:00 | X43: 19:45-20:00 | AC43: kk14 | AD43: O19-2
A44: 20:00-20:15 | B44: S1 | C44: S1 | D44: S1 | E44: S1 | F44: S2 | G44: S2 | H44: S2 | I44: S2 | J44: 20:00-20:15 | K44: S5 | L44: S5 | M44: S6 | N44: S6 | O44: O23-1 | P44: O23-1 | Q44: O23-1 | R44: O23-1 | S44: 20:00-20:15 | X44: 20:00-20:15 | AC44: kk15 | AD44: S5
A45: 20:15-20:30 | B45: S1 | C45: S1 | D45: S1 | E45: S1 | F45: S2 | G45: S2 | H45: S2 | I45: S2 | J45: 20:15-20:30 | K45: S5 | L45: S5 | M45: S6 | N45: S6 | O45: O23-1 | P45: O23-1 | Q45: O23-1 | R45: O23-1 | S45: 20:15-20:30 | X45: 20:15-20:30 | AC45: kk16 | AD45: S6
A46: 20:30-20:45 | B46: S1 | C46: S1 | D46: S1 | E46: S1 | F46: S2 | G46: S2 | H46: S2 | I46: S2 | J46: 20:30-20:45 | K46: S5 | L46: S5 | M46: S6 | N46: S6 | O46: O23-1 | P46: O23-1 | Q46: O23-1 | R46: O23-1 | S46: 20:30-20:45 | X46: 20:30-20:45
A47: 20:45-21:00 | B47: S1 | C47: S1 | D47: S1 | E47: S1 | F47: S2 | G47: S2 | H47: S2 | I47: S2 | J47: 20:45-21:00 | K47: S5 | L47: S5 | M47: S6 | N47: S6 | O47: O23-1 | P47: O23-1 | Q47: O23-1 | R47: O23-1 | S47: 20:45-21:00 | X47: 20:45-21:00
A48: 21:00-21:15 | B48: S1 | C48: S1 | D48: S1 | E48: S1 | F48: S2 | G48: S2 | H48: S2 | I48: S2 | J48: 21:00-21:15 | K48: S5 | L48: S5 | M48: S6 | N48: S6 | O48: O23-1 | P48: O23-1 | Q48: O23-1 | R48: O23-1 | S48: 21:00-21:15 | X48: 21:00-21:15
A49: 21:15-21:30 | B49: S1 | C49: S1 | D49: S1 | E49: S1 | F49: S2 | G49: S2 | H49: S2 | I49: S2 | J49: 21:15-21:30 | K49: S5 | L49: S5 | M49: S6 | N49: S6 | O49: O23-1 | P49: O23-1 | Q49: O23-1 | R49: O23-1 | S49: 21:15-21:30 | X49: 21:15-21:30
B50: Woensdag | K50: =B50 -> Woensdag | T50: =K50 -> Woensdag | Y50: =T50 -> Woensdag
B51: Veld 1A | F51: Veld 1B | K51: Veld 2A | O51: Veld 2B | T51: Veld 3A | V51: Veld 3B | Y51: Veld 4A | AA51: Veld 4B
B52: links 1 | D52: rechts | F52: links | H52: rechts | K52: links | M52: rechts | O52: links | Q52: rechts | T52: links | U52: rechts | V52: links | W52: rechts | Y52: links | Z52: rechts | AA52: links | AB52: rechts | AC52: Kleedkamer | AD52: Teams
A53: 16:15-16:30 | B53: Mini's | C53: Mini's | D53: O7 | E53: O7 | J53: 16:15-16:30 | S53: 16:15-16:30 | X53: 16:15-16:30 | AC53: kk1 | AD53: O9-1, O11-1
A54: 16:30-16:45 | B54: Mini's | C54: Mini's | D54: O7 | E54: O7 | J54: 16:30-16:45 | S54: 16:30-16:45 | X54: 16:30-16:45 | AC54: kk2 | AD54: O16-2
A55: 16:45-17:00 | B55: Mini's | C55: Mini's | D55: O7 | E55: O7 | J55: 16:45-17:00 | S55: 16:45-17:00 | X55: 16:45-17:00 | AC55: kk3 | AD55: O11-2, O14-3
A56: 17:00-17:15 | B56: Mini's | C56: Mini's | D56: O7 | E56: O7 | J56: 17:00-17:15 | S56: 17:00-17:15 | X56: 17:00-17:15 | AC56: kk4 | AD56: O16-1
A57: 17:15-17:30 | B57: Mini's | C57: Mini's | D57: O7 | E57: O7 | J57: 17:15-17:30 | S57: 17:15-17:30 | X57: 17:15-17:30 | AC57: kk5 | AD57: O8-1, O8-2, O8-3, O17-1
A58: 17:30-17:45 | B58: O11-1 | C58: O11-1 | D58: O11-2 | E58: O11-2 | G58: O8-1 | H58: O8-2 | I58: O8-3 | J58: 17:30-17:45 | K58: O10-1 | L58: O10-1 | M58: O9-1 | N58: O9-1 | Q58: O13-4 | R58: O13-4 | S58: 17:30-17:45 | X58: 17:30-17:45 | AC58: kk6 | AD58: Mini's, JO7, JO13-2
A59: 17:45-18:00 | B59: O11-1 | C59: O11-1 | D59: O11-2 | E59: O11-2 | G59: O8-1 | H59: O8-2 | I59: O8-3 | J59: 17:45-18:00 | K59: O10-1 | L59: O10-1 | M59: O9-1 | N59: O9-1 | Q59: O13-4 | R59: O13-4 | S59: 17:45-18:00 | X59: 17:45-18:00 | AC59: kk7 | AD59: O13-1
A60: 18:00-18:15 | B60: O11-1 | C60: O11-1 | D60: O11-2 | E60: O11-2 | G60: O8-1 | H60: O8-2 | I60: O8-3 | J60: 18:00-18:15 | K60: O10-1 | L60: O10-1 | M60: O9-1 | N60: O9-1 | Q60: O13-4 | R60: O13-4 | S60: 18:00-18:15 | X60: 18:00-18:15 | AC60: kk8 | AD60: O15-1, O19-3
A61: 18:15-18:30 | B61: O11-1 | C61: O11-1 | D61: O11-2 | E61: O11-2 | G61: O8-1 | H61: O8-2 | I61: O8-3 | J61: 18:15-18:30 | K61: O10-1 | L61: O10-1 | M61: O9-1 | N61: O9-1 | Q61: O13-4 | R61: O13-4 | S61: 18:15-18:30 | X61: 18:15-18:30 | AC61: kk9 | AD61: O13-4,O15-2
A62: 18:30-18:45 | B62: O11-1 | C62: O11-1 | D62: O11-2 | E62: O11-2 | G62: O8-1 | H62: O8-2 | I62: O8-3 | J62: 18:30-18:45 | K62: O10-1 | L62: O10-1 | M62: O9-1 | N62: O9-1 | Q62: O13-4 | R62: O13-4 | S62: 18:30-18:45 | X62: 18:30-18:45 | AC62: kk10 | AD62: O13-3
A63: 18:45-19:00 | B63: O13-2 | C63: O13-2 | D63: O16-1 | E63: O16-1 | F63: O13-1 | G63: O13-1 | H63: O16-2 | I63: O16-2 | J63: 18:45-19:00 | K63: O15-1 | L63: O15-1 | M63: O15-1 | N63: O13-3 | O63: O13-3 | P63: O17-1 | Q63: O17-1 | R63: O17-1 | S63: 18:45-19:00 | X63: 18:45-19:00 | AC63: kk11
A64: 19:00-19:15 | B64: O13-2 | C64: O13-2 | D64: O16-1 | E64: O16-1 | F64: O13-1 | G64: O13-1 | H64: O16-2 | I64: O16-2 | J64: 19:00-19:15 | K64: O15-1 | L64: O15-1 | M64: O15-1 | N64: O13-3 | O64: O13-3 | P64: O17-1 | Q64: O17-1 | R64: O17-1 | S64: 19:00-19:15 | X64: 19:00-19:15 | AC64: kk12 | AD64: S3
A65: 19:15-19:30 | B65: O13-2 | C65: O13-2 | D65: O16-1 | E65: O16-1 | F65: O13-1 | G65: O13-1 | H65: O16-2 | I65: O16-2 | J65: 19:15-19:30 | K65: O15-1 | L65: O15-1 | M65: O15-1 | N65: O13-3 | O65: O13-3 | P65: O17-1 | Q65: O17-1 | R65: O17-1 | S65: 19:15-19:30 | X65: 19:15-19:30 | AC65: kk13
A66: 19:30-19:45 | B66: O13-2 | C66: O13-2 | D66: O16-1 | E66: O16-1 | F66: O13-1 | G66: O13-1 | H66: O16-2 | I66: O16-2 | J66: 19:30-19:45 | K66: O15-1 | L66: O15-1 | M66: O15-1 | N66: O13-3 | O66: O13-3 | P66: O17-1 | Q66: O17-1 | R66: O17-1 | S66: 19:30-19:45 | X66: 19:30-19:45 | AC66: kk14
A67: 19:45-20:00 | B67: O13-2 | C67: O13-2 | D67: O16-1 | E67: O16-1 | F67: O13-1 | G67: O13-1 | H67: O16-2 | I67: O16-2 | J67: 19:45-20:00 | K67: O15-1 | L67: O15-1 | M67: O15-1 | N67: O13-3 | O67: O13-3 | P67: O17-1 | Q67: O17-1 | R67: O17-1 | S67: 19:45-20:00 | X67: 19:45-20:00 | AC67: kk15 | AD67: O23-2
A68: 20:00-20:15 | B68: O13-2 | C68: O13-2 | D68: O16-1 | E68: O16-1 | F68: O13-1 | G68: O13-1 | H68: O16-2 | I68: O16-2 | J68: 20:00-20:15 | K68: O15-1 | L68: O15-1 | M68: O15-1 | N68: O13-3 | O68: O13-3 | P68: O17-1 | Q68: O17-1 | R68: O17-1 | S68: 20:00-20:15 | X68: 20:00-20:15 | AC68: kk16
A69: 20:15-20:30 | B69: S3 | C69: S3 | D69: S3 | E69: O19-1 | F69: O19-1 | G69: O23-2 | H69: O23-2 | I69: O23-2 | J69: 20:15-20:30 | K69: O17-2 | L69: O17-2 | M69: O17-2 | N69: O15-2 | O69: O15-2 | P69: O19-3 | Q69: O19-3 | R69: O19-3 | S69: 20:15-20:30 | X69: 20:15-20:30
A70: 20:30-20:45 | B70: S3 | C70: S3 | D70: S3 | E70: O19-1 | F70: O19-1 | G70: O23-2 | H70: O23-2 | I70: O23-2 | J70: 20:30-20:45 | K70: O17-2 | L70: O17-2 | M70: O17-2 | N70: O15-2 | O70: O15-2 | P70: O19-3 | Q70: O19-3 | R70: O19-3 | S70: 20:30-20:45 | X70: 20:30-20:45
A71: 20:45-21:00 | B71: S3 | C71: S3 | D71: S3 | E71: O19-1 | F71: O19-1 | G71: O23-2 | H71: O23-2 | I71: O23-2 | J71: 20:45-21:00 | K71: O17-2 | L71: O17-2 | M71: O17-2 | N71: O15-2 | O71: O15-2 | P71: O19-3 | Q71: O19-3 | R71: O19-3 | S71: 20:45-21:00 | X71: 20:45-21:00
A72: 21:00-21:15 | B72: S3 | C72: S3 | D72: S3 | E72: O19-1 | F72: O19-1 | G72: O23-2 | H72: O23-2 | I72: O23-2 | J72: 21:00-21:15 | K72: O17-2 | L72: O17-2 | M72: O17-2 | N72: O15-2 | O72: O15-2 | P72: O19-3 | Q72: O19-3 | R72: O19-3 | S72: 21:00-21:15 | X72: 21:00-21:15
A73: 21:15-21:30 | B73: S3 | C73: S3 | D73: S3 | E73: O19-1 | F73: O19-1 | G73: O23-2 | H73: O23-2 | I73: O23-2 | J73: 21:15-21:30 | K73: O17-2 | L73: O17-2 | M73: O17-2 | N73: O15-2 | O73: O15-2 | P73: O19-3 | Q73: O19-3 | R73: O19-3 | S73: 21:15-21:30 | X73: 21:15-21:30
B74: Donderdag | K74: =B74 -> Donderdag | T74: =K74 -> Donderdag | Y74: =T74 -> Donderdag
B75: Veld 1A | F75: Veld 1B | K75: Veld 2A | O75: Veld 2B | T75: Veld 3A | V75: Veld 3B | Y75: Veld 4A | AA75: Veld 4B
B76: links 1 | D76: rechts | F76: links | H76: rechts | K76: links | M76: rechts | O76: links | Q76: rechts | T76: links | U76: rechts | V76: links | W76: rechts | Y76: links | Z76: rechts | AA76: links | AB76: rechts | AC76: Kleedkamer | AD76: Teams
A77: 16:30-16:45 | J77: 16:30-16:45 | S77: 16:30-16:45 | X77: 16:30-16:45 | AC77: kk1 | AD77: O11-1
A78: 16:45-17:00 | J78: 16:45-17:00 | S78: 16:45-17:00 | X78: 16:45-17:00 | AC78: kk2 | AD78: O10-3, O10-4
A79: 17:00-17:15 | J79: 17:00-17:15 | S79: 17:00-17:15 | X79: 17:00-17:15 | AC79: kk3 | AD79: O11-3, O12-1, O13-5
A80: 17:15-17:30 | J80: 17:15-17:30 | S80: 17:15-17:30 | X80: 17:15-17:30 | AC80: kk4 | AD80: O16-1
A81: 17:30-17:45 | B81: O11-1 | C81: O10-3 | D81: O10-4 | E81: O10-1 | F81: O13-6 | G81: O13-6 | H81: O9-2 | I81: O9-3 | J81: 17:30-17:45 | K81: O14-2 | L81: O14-2 | M81: O10-2 | O81: O12-1 | P81: O11-2 | Q81: O11-3 | R81: O11-4 | S81: 17:30-17:45 | X81: 17:30-17:45 | AC81: kk5 | AD81: O15-3
A82: 17:45-18:00 | B82: O11-1 | C82: O10-3 | D82: O10-4 | E82: O10-1 | F82: O13-6 | G82: O13-6 | H82: O9-2 | I82: O9-3 | J82: 17:45-18:00 | K82: O14-2 | L82: O14-2 | M82: O10-2 | O82: O12-1 | P82: O11-2 | Q82: O11-3 | R82: O11-4 | S82: 17:45-18:00 | X82: 17:45-18:00 | AC82: kk6 | AD82: O9-2, O9-3
A83: 18:00-18:15 | B83: O11-1 | C83: O10-3 | D83: O10-4 | E83: O10-1 | F83: O13-6 | G83: O13-6 | H83: O9-2 | I83: O9-3 | J83: 18:00-18:15 | K83: O14-2 | L83: O14-2 | M83: O10-2 | O83: O12-1 | P83: O11-2 | Q83: O11-3 | R83: O11-4 | S83: 18:00-18:15 | X83: 18:00-18:15 | AC83: kk7 | AD83: O17-1
A84: 18:15-18:30 | B84: O11-1 | C84: O10-3 | D84: O10-4 | E84: O10-1 | F84: O13-6 | G84: O13-6 | H84: O9-2 | I84: O9-3 | J84: 18:15-18:30 | K84: O14-2 | L84: O14-2 | M84: O10-2 | O84: O12-1 | P84: O11-2 | Q84: O11-3 | R84: O11-4 | S84: 18:15-18:30 | X84: 18:15-18:30 | AC84: kk8 | AD84: O14-2,O19-1
A85: 18:30-18:45 | B85: O14-1 | C85: O14-1 | D85: O19-2 | E85: O19-2 | F85: O13-5 | G85: O13-5 | H85: O17-1 | I85: O17-1 | J85: 18:30-18:45 | K85: O13-2 | L85: O13-2 | O85: O16-1 | P85: O16-1 | S85: 18:30-18:45 | X85: 18:30-18:45 | AC85: kk9 | AD85: O10-1, O10-2, O11-2, O14-3
A86: 18:45-19:00 | B86: O14-1 | C86: O14-1 | D86: O19-2 | E86: O19-2 | F86: O13-5 | G86: O13-5 | H86: O17-1 | I86: O17-1 | J86: 18:45-19:00 | K86: O13-2 | L86: O13-2 | M86: O14-3 | N86: O14-3 | O86: O16-1 | P86: O16-1 | Q86: O15-3 | R86: O15-3 | S86: 18:45-19:00 | X86: 18:45-19:00 | AC86: kk10 | AD86: O14-1
A87: 19:00-19:15 | B87: O14-1 | C87: O14-1 | D87: O19-2 | E87: O19-2 | F87: O13-5 | G87: O13-5 | H87: O17-1 | I87: O17-1 | J87: 19:00-19:15 | K87: O13-2 | L87: O13-2 | M87: O14-3 | N87: O14-3 | O87: O16-1 | P87: O16-1 | Q87: O15-3 | R87: O15-3 | S87: 19:00-19:15 | X87: 19:00-19:15 | AC87: kk11 | AD87: S1
A88: 19:15-19:30 | B88: O14-1 | C88: O14-1 | D88: O19-2 | E88: O19-2 | F88: O13-5 | G88: O13-5 | H88: O17-1 | I88: O17-1 | J88: 19:15-19:30 | K88: O13-2 | L88: O13-2 | M88: O14-3 | N88: O14-3 | O88: O16-1 | P88: O16-1 | Q88: O15-3 | R88: O15-3 | S88: 19:15-19:30 | X88: 19:15-19:30 | AC88: kk12 | AD88: S2
A89: 19:30-19:45 | B89: O14-1 | C89: O14-1 | D89: O19-2 | E89: O19-2 | F89: O13-5 | G89: O13-5 | H89: O17-1 | I89: O17-1 | J89: 19:30-19:45 | K89: O13-2 | L89: O13-2 | M89: O14-3 | N89: O14-3 | O89: O16-1 | P89: O16-1 | Q89: O15-3 | R89: O15-3 | S89: 19:30-19:45 | X89: 19:30-19:45 | AC89: kk13 | AD89: O23-1
A90: 19:45-20:00 | B90: O14-1 | C90: O14-1 | D90: O19-2 | E90: O19-2 | F90: O13-5 | G90: O13-5 | H90: O17-1 | I90: O17-1 | J90: 19:45-20:00 | K90: O13-2 | L90: O13-2 | M90: O14-3 | N90: O14-3 | O90: O16-1 | P90: O16-1 | Q90: O15-3 | R90: O15-3 | S90: 19:45-20:00 | X90: 19:45-20:00 | AC90: kk14 | AD90: S4
A91: 20:00-20:15 | B91: S1 | C91: S1 | D91: S1 | E91: S1 | F91: O23-1 | G91: O23-1 | H91: O23-1 | I91: O23-1 | J91: 20:00-20:15 | K91: S5 | L91: S5 | M91: S4 | N91: O16-3 | O91: S2 | P91: S2 | Q91: S6 | R91: S6 | S91: 20:00-20:15 | X91: 20:00-20:15 | AC91: kk15 | AD91: S5
A92: 20:15-20:30 | B92: S1 | C92: S1 | D92: S1 | E92: S1 | F92: O23-1 | G92: O23-1 | H92: O23-1 | I92: O23-1 | J92: 20:15-20:30 | K92: S5 | L92: S5 | M92: S4 | N92: O16-3 | O92: S2 | P92: S2 | Q92: S6 | R92: S6 | S92: 20:15-20:30 | X92: 20:15-20:30 | AC92: kk16 | AD92: S6
A93: 20:30-20:45 | B93: S1 | C93: S1 | D93: S1 | E93: S1 | F93: O23-1 | G93: O23-1 | H93: O23-1 | I93: O23-1 | J93: 20:30-20:45 | K93: S5 | L93: S5 | M93: S4 | N93: O16-3 | O93: S2 | P93: S2 | Q93: S6 | R93: S6 | S93: 20:30-20:45 | X93: 20:30-20:45
A94: 20:45-21:00 | B94: S1 | C94: S1 | D94: S1 | E94: S1 | F94: O23-1 | G94: O23-1 | H94: O23-1 | I94: O23-1 | J94: 20:45-21:00 | K94: S5 | L94: S5 | M94: S4 | N94: O16-3 | O94: S2 | P94: S2 | Q94: S6 | R94: S6 | S94: 20:45-21:00 | X94: 20:45-21:00
A95: 21:00-21:15 | B95: S1 | C95: S1 | D95: S1 | E95: S1 | F95: O23-1 | G95: O23-1 | H95: O23-1 | I95: O23-1 | J95: 21:00-21:15 | K95: S5 | L95: S5 | M95: S4 | N95: O16-3 | O95: S2 | P95: S2 | Q95: S6 | R95: S6 | S95: 21:00-21:15 | X95: 21:00-21:15
A96: 21:15-21:30 | B96: S1 | C96: S1 | D96: S1 | E96: S1 | F96: O23-1 | G96: O23-1 | H96: O23-1 | I96: O23-1 | J96: 21:15-21:30 | K96: S5 | L96: S5 | M96: S4 | N96: O16-3 | O96: S2 | P96: S2 | Q96: S6 | R96: S6 | S96: 21:15-21:30 | X96: 21:15-21:30
B97: Vrijdag | K97: =B97 -> Vrijdag | T97: =K97 -> Vrijdag | Y97: =T97 -> Vrijdag
B98: Veld 1A | F98: Veld 1B | K98: Veld 2A | O98: Veld 2B | T98: Veld 3A | V98: Veld 3B | Y98: Veld 4A | AA98: Veld 4B
B99: links 1 | D99: rechts | F99: links | H99: rechts | K99: links | M99: rechts | O99: links | Q99: rechts | T99: links | U99: rechts | V99: links | W99: rechts | Y99: links | Z99: rechts | AA99: links | AB99: rechts | AC99: Kleedkamer | AD99: Teams
A100: 16:30-16:45 | J100: 16:30-16:45 | S100: 16:30-16:45 | X100: 16:30-16:45 | AC100: kk1
A101: 16:45-17:00 | J101: 16:45-17:00 | S101: 16:45-17:00 | X101: 16:45-17:00 | AC101: kk2
...

Sheet Veldoverzicht
A1: Team 26/27 | B1: Team 25/26 | D1: MAANDAG | X1: DINSDAG | AR1: WOENSDAG | BL1: DONDERDAG | CF1: VRIJDAG | CZ1: # | DA1: Kunstgras
A2: Team | B2: Team | D2: 1A | E2: 1A | F2: 1B | G2: 1B | I2: 2A | J2: 2A | K2: 2B | L2: 2B | N2: 3A | O2: 3A | P2: 3B | Q2: 3B | S2: 4A | T2: 4A | U2: 4B | V2: 4B | X2: 1A | Y2: 1A | Z2: 1B | AA2: 1B | AC2: 2A | AD2: 2A | AE2: 2B | AF2: 2B | AH2: 3A | AI2: 3A | AJ2: 3B | AK2: 3B | AM2: 4A | AN2: 4A | AO2: 4B | AP2: 4B | AR2: 1A | AS2: 1A | AT2: 1B | AU2: 1B | AW2: 2A | AX2: 2A | AY2: 2B | AZ2: 2B | BB2: 3A | BC2: 3A | BD2: 3B | BE2: 3B | BG2: 4A | BH2: 4A | BI2: 4B | BJ2: 4B | BL2: 1A | BM2: 1A | BN2: 1B | BO2: 1B | BQ2: 2A | BR2: 2A | BS2: 2B | BT2: 2B | BV2: 3A | BW2: 3A | BX2: 3B | BY2: 3B | CA2: 4A | CB2: 4A | CC2: 4B | CD2: 4B | CF2: 1A | CG2: 1A | CH2: 1B | CI2: 1B | CK2: 2A | CL2: 2A | CM2: 2B | CN2: 2B | CP2: 3A | CQ2: 3A | CR2: 3B | CS2: 3B | CU2: 4A | CV2: 4A | CW2: 4B | CX2: 4B
A3: Mini's | B3: Mini's | C3: ok | D3: =IF(COUNTIF('Trainingsschema 20262027'!B$6:B$26,$A3)>0,"X","") | E3: =IF(COUNTIF('Trainingsschema 20262027'!C$6:C$26,$A3)>0,"X","") | F3: =IF(COUNTIF('Trainingsschema 20262027'!D$6:D$26,$A3)>0,"X","") | G3: =IF(COUNTIF('Trainingsschema 20262027'!E$6:E$26,$A3)>0,"X","") | H3: =IF(COUNTIF('Trainingsschema 20262027'!F$6:F$26,$A3)>0,"X","") | I3: =IF(COUNTIF('Trainingsschema 20262027'!G$6:G$26,$A3)>0,"X","") | J3: =IF(COUNTIF('Trainingsschema 20262027'!H$6:H$26,$A3)>0,"X","") | K3: =IF(COUNTIF('Trainingsschema 20262027'!I$6:I$25,$A3)>0,"X","") | L3: =IF(COUNTIF('Trainingsschema 20262027'!J$6:J$25,$A3)>0,"X","") | M3: =IF(COUNTIF('Trainingsschema 20262027'!K$6:K$26,$A3)>0,"X","") | N3: =IF(COUNTIF('Trainingsschema 20262027'!L$6:L$20,$A3)>0,"X","") | O3: =IF(COUNTIF('Trainingsschema 20262027'!M$6:M$20,$A3)>0,"X","") | P3: =IF(COUNTIF('Trainingsschema 20262027'!N$6:N$25,$A3)>0,"X","") | Q3: =IF(COUNTIF('Trainingsschema 20262027'!O$6:O$25,$A3)>0,"X","") | R3: =IF(COUNTIF('Trainingsschema 20262027'!P$6:P$26,$A3)>0,"X","") | S3: =IF(COUNTIF('Trainingsschema 20262027'!Q$6:Q$26,$A3)>0,"X","") | T3: =IF(COUNTIF('Trainingsschema 20262027'!R$6:R$26,$A3)>0,"X","") | U3: =IF(COUNTIF('Trainingsschema 20262027'!S$6:S$26,$A3)>0,"X","") | V3: =IF(COUNTIF('Trainingsschema 20262027'!T$6:T$26,$A3)>0,"X","") | X3: =IF(COUNTIF('Trainingsschema 20262027'!B$30:B$49,$A3)>0,"X","") | Y3: =IF(COUNTIF('Trainingsschema 20262027'!C$30:C$49,$A3)>0,"X","") | Z3: =IF(COUNTIF('Trainingsschema 20262027'!D$30:D$49,$A3)>0,"X","") | AA3: =IF(COUNTIF('Trainingsschema 20262027'!E$30:E$49,$A3)>0,"X","") | AB3: =IF(COUNTIF('Trainingsschema 20262027'!F$30:F$49,$A3)>0,"X","") | AC3: =IF(COUNTIF('Trainingsschema 20262027'!G$30:G$49,$A3)>0,"X","") | AD3: =IF(COUNTIF('Trainingsschema 20262027'!H$30:H$49,$A3)>0,"X","") | AE3: =IF(COUNTIF('Trainingsschema 20262027'!I$30:I$49,$A3)>0,"X","") | ... AP3: =IF(COUNTIF('Trainingsschema 20262027'!T$30:T$49,$A3)>0,"X","") | AR3: =IF(COUNTIF('Trainingsschema 20262027'!B$53:B$73,$A3)>0,"X","") -> X | AS3: =IF(COUNTIF('Trainingsschema 20262027'!C$53:C$73,$A3)>0,"X","") | AT3: =IF(COUNTIF('Trainingsschema 20262027'!D$53:D$73,$A3)>0,"X","") | AU3: =IF(COUNTIF('Trainingsschema 20262027'!E$53:E$73,$A3)>0,"X","") | AV3: =IF(COUNTIF('Trainingsschema 20262027'!F$53:F$73,$A3)>0,"X","") | AW3: =IF(COUNTIF('Trainingsschema 20262027'!G$53:G$73,$A3)>0,"X","") | AX3: =IF(COUNTIF('Trainingsschema 20262027'!H$53:H$73,$A3)>0,"X","") | AY3: =IF(COUNTIF('Trainingsschema 20262027'!I$53:I$73,$A3)>0,"X","") | AZ3: =IF(COUNTIF('Trainingsschema 20262027'!J$53:J$73,$A3)>0,"X","") | BA3: =IF(COUNTIF('Trainingsschema 20262027'!K$54:K$73,$A3)>0,"X","") | BB3: =IF(COUNTIF('Trainingsschema 20262027'!L$53:L$73,$A3)>0,"X","") | BC3: =IF(COUNTIF('Trainingsschema 20262027'!M$53:M$73,$A3)>0,"X","") | BD3: =IF(COUNTIF('Trainingsschema 20262027'!N$53:N$73,$A3)>0,"X","") | BE3: =IF(COUNTIF('Trainingsschema 20262027'!O$53:O$73,$A3)>0,"X","") | BF3: =IF(COUNTIF('Trainingsschema 20262027'!P$54:P$73,$A3)>0,"X","") | BG3: =IF(COUNTIF('Trainingsschema 20262027'!Q$53:Q$73,$A3)>0,"X","") | BH3: =IF(COUNTIF('Trainingsschema 20262027'!R$53:R$73,$A3)>0,"X","") | BI3: =IF(COUNTIF('Trainingsschema 20262027'!S$53:S$73,$A3)>0,"X","") | BJ3: =IF(COUNTIF('Trainingsschema 20262027'!T$53:T$73,$A3)>0,"X","") | BL3: =IF(COUNTIF('Trainingsschema 20262027'!B$77:B$96,$A3)>0,"X","") | BM3: =IF(COUNTIF('Trainingsschema 20262027'!C$77:C$96,$A3)>0,"X","") | BN3: =IF(COUNTIF('Trainingsschema 20262027'!D$77:D$96,$A3)>0,"X","") | BO3: =IF(COUNTIF('Trainingsschema 20262027'!E$77:E$96,$A3)>0,"X","") | BP3: =IF(COUNTIF('Trainingsschema 20262027'!F$77:F$96,$A3)>0,"X","") | BQ3: =IF(COUNTIF('Trainingsschema 20262027'!G$77:G$96,$A3)>0,"X","") | BR3: =IF(COUNTIF('Trainingsschema 20262027'!H$77:H$96,$A3)>0,"X","") | BS3: =IF(COUNTIF('Trainingsschema 20262027'!I$77:I$96,$A3)>0,"X","") | ... CD3: =IF(COUNTIF('Trainingsschema 20262027'!T$77:T$96,$A3)>0,"X","") | CF3: =IF(COUNTIF('Trainingsschema 20262027'!B$100:B$118,$A3)>0,"X","") | CG3: =IF(COUNTIF('Trainingsschema 20262027'!C$100:C$118,$A3)>0,"X","") | CH3: =IF(COUNTIF('Trainingsschema 20262027'!D$100:D$118,$A3)>0,"X","") | CI3: =IF(COUNTIF('Trainingsschema 20262027'!E$100:E$118,$A3)>0,"X","") | CJ3: =IF(COUNTIF('Trainingsschema 20262027'!F$100:F$118,$A3)>0,"X","") | CK3: =IF(COUNTIF('Trainingsschema 20262027'!G$100:G$118,$A3)>0,"X","") | CL3: =IF(COUNTIF('Trainingsschema 20262027'!H$100:H$118,$A3)>0,"X","") | CM3: =IF(COUNTIF('Trainingsschema 20262027'!I$100:I$118,$A3)>0,"X","") | ... CX3: =IF(COUNTIF('Trainingsschema 20262027'!T$100:T$118,$A3)>0,"X","") | CZ3: =COUNTIF(D3:CX3,"X") -> 1 | DA3: =COUNTIF(X3:AF3,"X")+COUNTIF(AR3:AZ3,"X")+COUNTIF(BL3:BT3,"X")+COUNTIF(CF3:CN3,"X")+COUNTIF(D3:L3,"X") -> 1
A4: O7 | B4: JO7 | C4: ok | D4: =IF(COUNTIF('Trainingsschema 20262027'!B$6:B$26,$A4)>0,"X","") | E4: =IF(COUNTIF('Trainingsschema 20262027'!C$6:C$26,$A4)>0,"X","") | F4: =IF(COUNTIF('Trainingsschema 20262027'!D$6:D$26,$A4)>0,"X","") | G4: =IF(COUNTIF('Trainingsschema 20262027'!E$6:E$26,$A4)>0,"X","") | H4: =IF(COUNTIF('Trainingsschema 20262027'!F$6:F$26,$A4)>0,"X","") | I4: =IF(COUNTIF('Trainingsschema 20262027'!G$6:G$26,$A4)>0,"X","") | J4: =IF(COUNTIF('Trainingsschema 20262027'!H$6:H$26,$A4)>0,"X","") | K4: =IF(COUNTIF('Trainingsschema 20262027'!I$6:I$25,$A4)>0,"X","") | L4: =IF(COUNTIF('Trainingsschema 20262027'!J$6:J$25,$A4)>0,"X","") | M4: =IF(COUNTIF('Trainingsschema 20262027'!K$6:K$26,$A4)>0,"X","") | N4: =IF(COUNTIF('Trainingsschema 20262027'!L$6:L$20,$A4)>0,"X","") | O4: =IF(COUNTIF('Trainingsschema 20262027'!M$6:M$20,$A4)>0,"X","") | P4: =IF(COUNTIF('Trainingsschema 20262027'!N$6:N$25,$A4)>0,"X","") | Q4: =IF(COUNTIF('Trainingsschema 20262027'!O$6:O$25,$A4)>0,"X","") | R4: =IF(COUNTIF('Trainingsschema 20262027'!P$6:P$26,$A4)>0,"X","") | S4: =IF(COUNTIF('Trainingsschema 20262027'!Q$6:Q$26,$A4)>0,"X","") | T4: =IF(COUNTIF('Trainingsschema 20262027'!R$6:R$26,$A4)>0,"X","") | U4: =IF(COUNTIF('Trainingsschema 20262027'!S$6:S$26,$A4)>0,"X","") | V4: =IF(COUNTIF('Trainingsschema 20262027'!T$6:T$26,$A4)>0,"X","") | X4: =IF(COUNTIF('Trainingsschema 20262027'!B$30:B$49,$A4)>0,"X","") | Y4: =IF(COUNTIF('Trainingsschema 20262027'!C$30:C$49,$A4)>0,"X","") | Z4: =IF(COUNTIF('Trainingsschema 20262027'!D$30:D$49,$A4)>0,"X","") | AA4: =IF(COUNTIF('Trainingsschema 20262027'!E$30:E$49,$A4)>0,"X","") | AB4: =IF(COUNTIF('Trainingsschema 20262027'!F$30:F$49,$A4)>0,"X","") | AC4: =IF(COUNTIF('Trainingsschema 20262027'!G$30:G$49,$A4)>0,"X","") | AD4: =IF(COUNTIF('Trainingsschema 20262027'!H$30:H$49,$A4)>0,"X","") | AE4: =IF(COUNTIF('Trainingsschema 20262027'!I$30:I$49,$A4)>0,"X","") | ... AP4: =IF(COUNTIF('Trainingsschema 20262027'!T$30:T$49,$A4)>0,"X","") | AR4: =IF(COUNTIF('Trainingsschema 20262027'!B$53:B$73,$A4)>0,"X","") | AS4: =IF(COUNTIF('Trainingsschema 20262027'!C$53:C$73,$A4)>0,"X","") -> X | AT4: =IF(COUNTIF('Trainingsschema 20262027'!D$53:D$73,$A4)>0,"X","") | AU4: =IF(COUNTIF('Trainingsschema 20262027'!E$53:E$73,$A4)>0,"X","") | AV4: =IF(COUNTIF('Trainingsschema 20262027'!F$53:F$73,$A4)>0,"X","") | AW4: =IF(COUNTIF('Trainingsschema 20262027'!G$53:G$73,$A4)>0,"X","") | AX4: =IF(COUNTIF('Trainingsschema 20262027'!H$53:H$73,$A4)>0,"X","") | AY4: =IF(COUNTIF('Trainingsschema 20262027'!I$53:I$73,$A4)>0,"X","") | AZ4: =IF(COUNTIF('Trainingsschema 20262027'!J$53:J$73,$A4)>0,"X","") | BA4: =IF(COUNTIF('Trainingsschema 20262027'!K$54:K$73,$A4)>0,"X","") | BB4: =IF(COUNTIF('Trainingsschema 20262027'!L$53:L$73,$A4)>0,"X","") | BC4: =IF(COUNTIF('Trainingsschema 20262027'!M$53:M$73,$A4)>0,"X","") | BD4: =IF(COUNTIF('Trainingsschema 20262027'!N$53:N$73,$A4)>0,"X","") | BE4: =IF(COUNTIF('Trainingsschema 20262027'!O$53:O$73,$A4)>0,"X","") | BF4: =IF(COUNTIF('Trainingsschema 20262027'!P$54:P$73,$A4)>0,"X","") | BG4: =IF(COUNTIF('Trainingsschema 20262027'!Q$53:Q$73,$A4)>0,"X","") | BH4: =IF(COUNTIF('Trainingsschema 20262027'!R$53:R$73,$A4)>0,"X","") | BI4: =IF(COUNTIF('Trainingsschema 20262027'!S$53:S$73,$A4)>0,"X","") | BJ4: =IF(COUNTIF('Trainingsschema 20262027'!T$53:T$73,$A4)>0,"X","") | BL4: =IF(COUNTIF('Trainingsschema 20262027'!B$77:B$96,$A4)>0,"X","") | BM4: =IF(COUNTIF('Trainingsschema 20262027'!C$77:C$96,$A4)>0,"X","") | BN4: =IF(COUNTIF('Trainingsschema 20262027'!D$77:D$96,$A4)>0,"X","") | BO4: =IF(COUNTIF('Trainingsschema 20262027'!E$77:E$96,$A4)>0,"X","") | BP4: =IF(COUNTIF('Trainingsschema 20262027'!F$77:F$96,$A4)>0,"X","") | BQ4: =IF(COUNTIF('Trainingsschema 20262027'!G$77:G$96,$A4)>0,"X","") | BR4: =IF(COUNTIF('Trainingsschema 20262027'!H$77:H$96,$A4)>0,"X","") | BS4: =IF(COUNTIF('Trainingsschema 20262027'!I$77:I$96,$A4)>0,"X","") | ... CD4: =IF(COUNTIF('Trainingsschema 20262027'!T$77:T$96,$A4)>0,"X","") | CF4: =IF(COUNTIF('Trainingsschema 20262027'!B$100:B$118,$A4)>0,"X","") | CG4: =IF(COUNTIF('Trainingsschema 20262027'!C$100:C$118,$A4)>0,"X","") | CH4: =IF(COUNTIF('Trainingsschema 20262027'!D$100:D$118,$A4)>0,"X","") | CI4: =IF(COUNTIF('Trainingsschema 20262027'!E$100:E$118,$A4)>0,"X","") | CJ4: =IF(COUNTIF('Trainingsschema 20262027'!F$100:F$118,$A4)>0,"X","") | CK4: =IF(COUNTIF('Trainingsschema 20262027'!G$100:G$118,$A4)>0,"X","") | CL4: =IF(COUNTIF('Trainingsschema 20262027'!H$100:H$118,$A4)>0,"X","") | CM4: =IF(COUNTIF('Trainingsschema 20262027'!I$100:I$118,$A4)>0,"X","") | ... CX4: =IF(COUNTIF('Trainingsschema 20262027'!T$100:T$118,$A4)>0,"X","") | CZ4: =COUNTIF(D4:CX4,"X") -> 1 | DA4: =COUNTIF(X4:AF4,"X")+COUNTIF(AR4:AZ4,"X")+COUNTIF(BL4:BT4,"X")+COUNTIF(CF4:CN4,"X")+COUNTIF(D4:L4,"X") -> 1
A5: O8-1 | B5: nieuw | C5: ok | D5: =IF(COUNTIF('Trainingsschema 20262027'!B$6:B$26,$A5)>0,"X","") | E5: =IF(COUNTIF('Trainingsschema 20262027'!C$6:C$26,$A5)>0,"X","") | F5: =IF(COUNTIF('Trainingsschema 20262027'!D$6:D$26,$A5)>0,"X","") | G5: =IF(COUNTIF('Trainingsschema 20262027'!E$6:E$26,$A5)>0,"X","") | H5: =IF(COUNTIF('Trainingsschema 20262027'!F$6:F$26,$A5)>0,"X","") | I5: =IF(COUNTIF('Trainingsschema 20262027'!G$6:G$26,$A5)>0,"X","") | J5: =IF(COUNTIF('Trainingsschema 20262027'!H$6:H$26,$A5)>0,"X","") | K5: =IF(COUNTIF('Trainingsschema 20262027'!I$6:I$25,$A5)>0,"X","") | L5: =IF(COUNTIF('Trainingsschema 20262027'!J$6:J$25,$A5)>0,"X","") -> X | M5: =IF(COUNTIF('Trainingsschema 20262027'!K$6:K$26,$A5)>0,"X","") | N5: =IF(COUNTIF('Trainingsschema 20262027'!L$6:L$20,$A5)>0,"X","") | O5: =IF(COUNTIF('Trainingsschema 20262027'!M$6:M$20,$A5)>0,"X","") | P5: =IF(COUNTIF('Trainingsschema 20262027'!N$6:N$25,$A5)>0,"X","") | Q5: =IF(COUNTIF('Trainingsschema 20262027'!O$6:O$25,$A5)>0,"X","") | R5: =IF(COUNTIF('Trainingsschema 20262027'!P$6:P$26,$A5)>0,"X","") | S5: =IF(COUNTIF('Trainingsschema 20262027'!Q$6:Q$26,$A5)>0,"X","") | T5: =IF(COUNTIF('Trainingsschema 20262027'!R$6:R$26,$A5)>0,"X","") | U5: =IF(COUNTIF('Trainingsschema 20262027'!S$6:S$26,$A5)>0,"X","") | V5: =IF(COUNTIF('Trainingsschema 20262027'!T$6:T$26,$A5)>0,"X","") | X5: =IF(COUNTIF('Trainingsschema 20262027'!B$30:B$49,$A5)>0,"X","") | Y5: =IF(COUNTIF('Trainingsschema 20262027'!C$30:C$49,$A5)>0,"X","") | Z5: =IF(COUNTIF('Trainingsschema 20262027'!D$30:D$49,$A5)>0,"X","") | AA5: =IF(COUNTIF('Trainingsschema 20262027'!E$30:E$49,$A5)>0,"X","") | AB5: =IF(COUNTIF('Trainingsschema 20262027'!F$30:F$49,$A5)>0,"X","") | AC5: =IF(COUNTIF('Trainingsschema 20262027'!G$30:G$49,$A5)>0,"X","") | AD5: =IF(COUNTIF('Trainingsschema 20262027'!H$30:H$49,$A5)>0,"X","") | AE5: =IF(COUNTIF('Trainingsschema 20262027'!I$30:I$49,$A5)>0,"X","") | ... AP5: =IF(COUNTIF('Trainingsschema 20262027'!T$30:T$49,$A5)>0,"X","") | AR5: =IF(COUNTIF('Trainingsschema 20262027'!B$53:B$73,$A5)>0,"X","") | AS5: =IF(COUNTIF('Trainingsschema 20262027'!C$53:C$73,$A5)>0,"X","") -> X | AT5: =IF(COUNTIF('Trainingsschema 20262027'!D$53:D$73,$A5)>0,"X","") | AU5: =IF(COUNTIF('Trainingsschema 20262027'!E$53:E$73,$A5)>0,"X","") | AV5: =IF(COUNTIF('Trainingsschema 20262027'!F$53:F$73,$A5)>0,"X","") | AW5: =IF(COUNTIF('Trainingsschema 20262027'!G$53:G$73,$A5)>0,"X","") | AX5: =IF(COUNTIF('Trainingsschema 20262027'!H$53:H$73,$A5)>0,"X","") | AY5: =IF(COUNTIF('Trainingsschema 20262027'!I$53:I$73,$A5)>0,"X","") | AZ5: =IF(COUNTIF('Trainingsschema 20262027'!J$53:J$73,$A5)>0,"X","") | BA5: =IF(COUNTIF('Trainingsschema 20262027'!K$54:K$73,$A5)>0,"X","") | BB5: =IF(COUNTIF('Trainingsschema 20262027'!L$53:L$73,$A5)>0,"X","") | BC5: =IF(COUNTIF('Trainingsschema 20262027'!M$53:M$73,$A5)>0,"X","") | BD5: =IF(COUNTIF('Trainingsschema 20262027'!N$53:N$73,$A5)>0,"X","") | BE5: =IF(COUNTIF('Trainingsschema 20262027'!O$53:O$73,$A5)>0,"X","") | BF5: =IF(COUNTIF('Trainingsschema 20262027'!P$54:P$73,$A5)>0,"X","") | BG5: =IF(COUNTIF('Trainingsschema 20262027'!Q$53:Q$73,$A5)>0,"X","") | BH5: =IF(COUNTIF('Trainingsschema 20262027'!R$53:R$73,$A5)>0,"X","") | BI5: =IF(COUNTIF('Trainingsschema 20262027'!S$53:S$73,$A5)>0,"X","") | BJ5: =IF(COUNTIF('Trainingsschema 20262027'!T$53:T$73,$A5)>0,"X","") | BL5: =IF(COUNTIF('Trainingsschema 20262027'!B$77:B$96,$A5)>0,"X","") | BM5: =IF(COUNTIF('Trainingsschema 20262027'!C$77:C$96,$A5)>0,"X","") | BN5: =IF(COUNTIF('Trainingsschema 20262027'!D$77:D$96,$A5)>0,"X","") | BO5: =IF(COUNTIF('Trainingsschema 20262027'!E$77:E$96,$A5)>0,"X","") | BP5: =IF(COUNTIF('Trainingsschema 20262027'!F$77:F$96,$A5)>0,"X","") | BQ5: =IF(COUNTIF('Trainingsschema 20262027'!G$77:G$96,$A5)>0,"X","") | BR5: =IF(COUNTIF('Trainingsschema 20262027'!H$77:H$96,$A5)>0,"X","") | BS5: =IF(COUNTIF('Trainingsschema 20262027'!I$77:I$96,$A5)>0,"X","") | ... CD5: =IF(COUNTIF('Trainingsschema 20262027'!T$77:T$96,$A5)>0,"X","") | CF5: =IF(COUNTIF('Trainingsschema 20262027'!B$100:B$118,$A5)>0,"X","") | CG5: =IF(COUNTIF('Trainingsschema 20262027'!C$100:C$118,$A5)>0,"X","") | CH5: =IF(COUNTIF('Trainingsschema 20262027'!D$100:D$118,$A5)>0,"X","") | CI5: =IF(COUNTIF('Trainingsschema 20262027'!E$100:E$118,$A5)>0,"X","") | CJ5: =IF(COUNTIF('Trainingsschema 20262027'!F$100:F$118,$A5)>0,"X","") | CK5: =IF(COUNTIF('Trainingsschema 20262027'!G$100:G$118,$A5)>0,"X","") | CL5: =IF(COUNTIF('Trainingsschema 20262027'!H$100:H$118,$A5)>0,"X","") | CM5: =IF(COUNTIF('Trainingsschema 20262027'!I$100:I$118,$A5)>0,"X","") | ... CX5: =IF(COUNTIF('Trainingsschema 20262027'!T$100:T$118,$A5)>0,"X","") | CZ5: =COUNTIF(D5:CX5,"X") -> 2 | DA5: =COUNTIF(X5:AF5,"X")+COUNTIF(AR5:AZ5,"X")+COUNTIF(BL5:BT5,"X")+COUNTIF(CF5:CN5,"X")+COUNTIF(D5:L5,"X") -> 2 | DB5: maandag en woensdag
A6: O8-2 | B6: nieuw | C6: ok | D6: =IF(COUNTIF('Trainingsschema 20262027'!B$6:B$26,$A6)>0,"X","") | E6: =IF(COUNTIF('Trainingsschema 20262027'!C$6:C$26,$A6)>0,"X","") | F6: =IF(COUNTIF('Trainingsschema 20262027'!D$6:D$26,$A6)>0,"X","") | G6: =IF(COUNTIF('Trainingsschema 20262027'!E$6:E$26,$A6)>0,"X","") | H6: =IF(COUNTIF('Trainingsschema 20262027'!F$6:F$26,$A6)>0,"X","") | I6: =IF(COUNTIF('Trainingsschema 20262027'!G$6:G$26,$A6)>0,"X","") | J6: =IF(COUNTIF('Trainingsschema 20262027'!H$6:H$26,$A6)>0,"X","") -> X | K6: =IF(COUNTIF('Trainingsschema 20262027'!I$6:I$25,$A6)>0,"X","") | L6: =IF(COUNTIF('Trainingsschema 20262027'!J$6:J$25,$A6)>0,"X","") | M6: =IF(COUNTIF('Trainingsschema 20262027'!K$6:K$26,$A6)>0,"X","") | N6: =IF(COUNTIF('Trainingsschema 20262027'!L$6:L$20,$A6)>0,"X","") | O6: =IF(COUNTIF('Trainingsschema 20262027'!M$6:M$20,$A6)>0,"X","") | P6: =IF(COUNTIF('Trainingsschema 20262027'!N$6:N$25,$A6)>0,"X","") | Q6: =IF(COUNTIF('Trainingsschema 20262027'!O$6:O$25,$A6)>0,"X","") | R6: =IF(COUNTIF('Trainingsschema 20262027'!P$6:P$26,$A6)>0,"X","") | S6: =IF(COUNTIF('Trainingsschema 20262027'!Q$6:Q$26,$A6)>0,"X","") | T6: =IF(COUNTIF('Trainingsschema 20262027'!R$6:R$26,$A6)>0,"X","") | U6: =IF(COUNTIF('Trainingsschema 20262027'!S$6:S$26,$A6)>0,"X","") | V6: =IF(COUNTIF('Trainingsschema 20262027'!T$6:T$26,$A6)>0,"X","") | X6: =IF(COUNTIF('Trainingsschema 20262027'!B$30:B$49,$A6)>0,"X","") | Y6: =IF(COUNTIF('Trainingsschema 20262027'!C$30:C$49,$A6)>0,"X","") | Z6: =IF(COUNTIF('Trainingsschema 20262027'!D$30:D$49,$A6)>0,"X","") | AA6: =IF(COUNTIF('Trainingsschema 20262027'!E$30:E$49,$A6)>0,"X","") | AB6: =IF(COUNTIF('Trainingsschema 20262027'!F$30:F$49,$A6)>0,"X","") | AC6: =IF(COUNTIF('Trainingsschema 20262027'!G$30:G$49,$A6)>0,"X","") | AD6: =IF(COUNTIF('Trainingsschema 20262027'!H$30:H$49,$A6)>0,"X","") | AE6: =IF(COUNTIF('Trainingsschema 20262027'!I$30:I$49,$A6)>0,"X","") | ... AP6: =IF(COUNTIF('Trainingsschema 20262027'!T$30:T$49,$A6)>0,"X","") | AR6: =IF(COUNTIF('Trainingsschema 20262027'!B$53:B$73,$A6)>0,"X","") | AS6: =IF(COUNTIF('Trainingsschema 20262027'!C$53:C$73,$A6)>0,"X","") | AT6: =IF(COUNTIF('Trainingsschema 20262027'!D$53:D$73,$A6)>0,"X","") -> X | AU6: =IF(COUNTIF('Trainingsschema 20262027'!E$53:E$73,$A6)>0,"X","") | AV6: =IF(COUNTIF('Trainingsschema 20262027'!F$53:F$73,$A6)>0,"X","") | AW6: =IF(COUNTIF('Trainingsschema 20262027'!G$53:G$73,$A6)>0,"X","") | AX6: =IF(COUNTIF('Trainingsschema 20262027'!H$53:H$73,$A6)>0,"X","") | AY6: =IF(COUNTIF('Trainingsschema 20262027'!I$53:I$73,$A6)>0,"X","") | AZ6: =IF(COUNTIF('Trainingsschema 20262027'!J$53:J$73,$A6)>0,"X","") | BA6: =IF(COUNTIF('Trainingsschema 20262027'!K$54:K$73,$A6)>0,"X","") | BB6: =IF(COUNTIF('Trainingsschema 20262027'!L$53:L$73,$A6)>0,"X","") | BC6: =IF(COUNTIF('Trainingsschema 20262027'!M$53:M$73,$A6)>0,"X","") | BD6: =IF(COUNTIF('Trainingsschema 20262027'!N$53:N$73,$A6)>0,"X","") | BE6: =IF(COUNTIF('Trainingsschema 20262027'!O$53:O$73,$A6)>0,"X","") | BF6: =IF(COUNTIF('Trainingsschema 20262027'!P$54:P$73,$A6)>0,"X","") | BG6: =IF(COUNTIF('Trainingsschema 20262027'!Q$53:Q$73,$A6)>0,"X","") | BH6: =IF(COUNTIF('Trainingsschema 20262027'!R$53:R$73,$A6)>0,"X","") | BI6: =IF(COUNTIF('Trainingsschema 20262027'!S$53:S$73,$A6)>0,"X","") | BJ6: =IF(COUNTIF('Trainingsschema 20262027'!T$53:T$73,$A6)>0,"X","") | BL6: =IF(COUNTIF('Trainingsschema 20262027'!B$77:B$96,$A6)>0,"X","") | BM6: =IF(COUNTIF('Trainingsschema 20262027'!C$77:C$96,$A6)>0,"X","") | BN6: =IF(COUNTIF('Trainingsschema 20262027'!D$77:D$96,$A6)>0,"X","") | BO6: =IF(COUNTIF('Trainingsschema 20262027'!E$77:E$96,$A6)>0,"X","") | BP6: =IF(COUNTIF('Trainingsschema 20262027'!F$77:F$96,$A6)>0,"X","") | BQ6: =IF(COUNTIF('Trainingsschema 20262027'!G$77:G$96,$A6)>0,"X","") | BR6: =IF(COUNTIF('Trainingsschema 20262027'!H$77:H$96,$A6)>0,"X","") | BS6: =IF(COUNTIF('Trainingsschema 20262027'!I$77:I$96,$A6)>0,"X","") | ... CD6: =IF(COUNTIF('Trainingsschema 20262027'!T$77:T$96,$A6)>0,"X","") | CF6: =IF(COUNTIF('Trainingsschema 20262027'!B$100:B$118,$A6)>0,"X","") | CG6: =IF(COUNTIF('Trainingsschema 20262027'!C$100:C$118,$A6)>0,"X","") | CH6: =IF(COUNTIF('Trainingsschema 20262027'!D$100:D$118,$A6)>0,"X","") | CI6: =IF(COUNTIF('Trainingsschema 20262027'!E$100:E$118,$A6)>0,"X","") | CJ6: =IF(COUNTIF('Trainingsschema 20262027'!F$100:F$118,$A6)>0,"X","") | CK6: =IF(COUNTIF('Trainingsschema 20262027'!G$100:G$118,$A6)>0,"X","") | CL6: =IF(COUNTIF('Trainingsschema 20262027'!H$100:H$118,$A6)>0,"X","") | CM6: =IF(COUNTIF('Trainingsschema 20262027'!I$100:I$118,$A6)>0,"X","") | ... CX6: =IF(COUNTIF('Trainingsschema 20262027'!T$100:T$118,$A6)>0,"X","") | CZ6: =COUNTIF(D6:CX6,"X") -> 2 | DA6: =COUNTIF(X6:AF6,"X")+COUNTIF(AR6:AZ6,"X")+COUNTIF(BL6:BT6,"X")+COUNTIF(CF6:CN6,"X")+COUNTIF(D6:L6,"X") -> 2 | DB6: maandag en woensdag
A7: O8-3 | B7: nieuw | C7: ok | D7: =IF(COUNTIF('Trainingsschema 20262027'!B$6:B$26,$A7)>0,"X","") | E7: =IF(COUNTIF('Trainingsschema 20262027'!C$6:C$26,$A7)>0,"X","") | F7: =IF(COUNTIF('Trainingsschema 20262027'!D$6:D$26,$A7)>0,"X","") | G7: =IF(COUNTIF('Trainingsschema 20262027'!E$6:E$26,$A7)>0,"X","") | H7: =IF(COUNTIF('Trainingsschema 20262027'!F$6:F$26,$A7)>0,"X","") | I7: =IF(COUNTIF('Trainingsschema 20262027'!G$6:G$26,$A7)>0,"X","") | J7: =IF(COUNTIF('Trainingsschema 20262027'!H$6:H$26,$A7)>0,"X","") | K7: =IF(COUNTIF('Trainingsschema 20262027'!I$6:I$25,$A7)>0,"X","") -> X | L7: =IF(COUNTIF('Trainingsschema 20262027'!J$6:J$25,$A7)>0,"X","") | M7: =IF(COUNTIF('Trainingsschema 20262027'!K$6:K$26,$A7)>0,"X","") | N7: =IF(COUNTIF('Trainingsschema 20262027'!L$6:L$20,$A7)>0,"X","") | O7: =IF(COUNTIF('Trainingsschema 20262027'!M$6:M$20,$A7)>0,"X","") | P7: =IF(COUNTIF('Trainingsschema 20262027'!N$6:N$25,$A7)>0,"X","") | Q7: =IF(COUNTIF('Trainingsschema 20262027'!O$6:O$25,$A7)>0,"X","") | R7: =IF(COUNTIF('Trainingsschema 20262027'!P$6:P$26,$A7)>0,"X","") | S7: =IF(COUNTIF('Trainingsschema 20262027'!Q$6:Q$26,$A7)>0,"X","") | T7: =IF(COUNTIF('Trainingsschema 20262027'!R$6:R$26,$A7)>0,"X","") | U7: =IF(COUNTIF('Trainingsschema 20262027'!S$6:S$26,$A7)>0,"X","") | V7: =IF(COUNTIF('Trainingsschema 20262027'!T$6:T$26,$A7)>0,"X","") | X7: =IF(COUNTIF('Trainingsschema 20262027'!B$30:B$49,$A7)>0,"X","") | Y7: =IF(COUNTIF('Trainingsschema 20262027'!C$30:C$49,$A7)>0,"X","") | Z7: =IF(COUNTIF('Trainingsschema 20262027'!D$30:D$49,$A7)>0,"X","") | AA7: =IF(COUNTIF('Trainingsschema 20262027'!E$30:E$49,$A7)>0,"X","") | AB7: =IF(COUNTIF('Trainingsschema 20262027'!F$30:F$49,$A7)>0,"X","") | AC7: =IF(COUNTIF('Trainingsschema 20262027'!G$30:G$49,$A7)>0,"X","") | AD7: =IF(COUNTIF('Trainingsschema 20262027'!H$30:H$49,$A7)>0,"X","") | AE7: =IF(COUNTIF('Trainingsschema 20262027'!I$30:I$49,$A7)>0,"X","") | ... AP7: =IF(COUNTIF('Trainingsschema 20262027'!T$30:T$49,$A7)>0,"X","") | AR7: =IF(COUNTIF('Trainingsschema 20262027'!B$53:B$73,$A7)>0,"X","") | AS7: =IF(COUNTIF('Trainingsschema 20262027'!C$53:C$73,$A7)>0,"X","") | AT7: =IF(COUNTIF('Trainingsschema 20262027'!D$53:D$73,$A7)>0,"X","") | AU7: =IF(COUNTIF('Trainingsschema 20262027'!E$53:E$73,$A7)>0,"X","") -> X | AV7: =IF(COUNTIF('Trainingsschema 20262027'!F$53:F$73,$A7)>0,"X","") | AW7: =IF(COUNTIF('Trainingsschema 20262027'!G$53:G$73,$A7)>0,"X","") | AX7: =IF(COUNTIF('Trainingsschema 20262027'!H$53:H$73,$A7)>0,"X","") | AY7: =IF(COUNTIF('Trainingsschema 20262027'!I$53:I$73,$A7)>0,"X","") | AZ7: =IF(COUNTIF('Trainingsschema 20262027'!J$53:J$73,$A7)>0,"X","") | BA7: =IF(COUNTIF('Trainingsschema 20262027'!K$54:K$73,$A7)>0,"X","") | BB7: =IF(COUNTIF('Trainingsschema 20262027'!L$53:L$73,$A7)>0,"X","") | BC7: =IF(COUNTIF('Trainingsschema 20262027'!M$53:M$73,$A7)>0,"X","") | BD7: =IF(COUNTIF('Trainingsschema 20262027'!N$53:N$73,$A7)>0,"X","") | BE7: =IF(COUNTIF('Trainingsschema 20262027'!O$53:O$73,$A7)>0,"X","") | BF7: =IF(COUNTIF('Trainingsschema 20262027'!P$54:P$73,$A7)>0,"X","") | BG7: =IF(COUNTIF('Trainingsschema 20262027'!Q$53:Q$73,$A7)>0,"X","") | BH7: =IF(COUNTIF('Trainingsschema 20262027'!R$53:R$73,$A7)>0,"X","") | BI7: =IF(COUNTIF('Trainingsschema 20262027'!S$53:S$73,$A7)>0,"X","") | BJ7: =IF(COUNTIF('Trainingsschema 20262027'!T$53:T$73,$A7)>0,"X","") | BL7: =IF(COUNTIF('Trainingsschema 20262027'!B$77:B$96,$A7)>0,"X","") | BM7: =IF(COUNTIF('Trainingsschema 20262027'!C$77:C$96,$A7)>0,"X","") | BN7: =IF(COUNTIF('Trainingsschema 20262027'!D$77:D$96,$A7)>0,"X","") | BO7: =IF(COUNTIF('Trainingsschema 20262027'!E$77:E$96,$A7)>0,"X","") | BP7: =IF(COUNTIF('Trainingsschema 20262027'!F$77:F$96,$A7)>0,"X","") | BQ7: =IF(COUNTIF('Trainingsschema 20262027'!G$77:G$96,$A7)>0,"X","") | BR7: =IF(COUNTIF('Trainingsschema 20262027'!H$77:H$96,$A7)>0,"X","") | BS7: =IF(COUNTIF('Trainingsschema 20262027'!I$77:I$96,$A7)>0,"X","") | ... CD7: =IF(COUNTIF('Trainingsschema 20262027'!T$77:T$96,$A7)>0,"X","") | CF7: =IF(COUNTIF('Trainingsschema 20262027'!B$100:B$118,$A7)>0,"X","") | CG7: =IF(COUNTIF('Trainingsschema 20262027'!C$100:C$118,$A7)>0,"X","") | CH7: =IF(COUNTIF('Trainingsschema 20262027'!D$100:D$118,$A7)>0,"X","") | CI7: =IF(COUNTIF('Trainingsschema 20262027'!E$100:E$118,$A7)>0,"X","") | CJ7: =IF(COUNTIF('Trainingsschema 20262027'!F$100:F$118,$A7)>0,"X","") | CK7: =IF(COUNTIF('Trainingsschema 20262027'!G$100:G$118,$A7)>0,"X","") | CL7: =IF(COUNTIF('Trainingsschema 20262027'!H$100:H$118,$A7)>0,"X","") | CM7: =IF(COUNTIF('Trainingsschema 20262027'!I$100:I$118,$A7)>0,"X","") | ... CX7: =IF(COUNTIF('Trainingsschema 20262027'!T$100:T$118,$A7)>0,"X","") | CZ7: =COUNTIF(D7:CX7,"X") -> 2 | DA7: =COUNTIF(X7:AF7,"X")+COUNTIF(AR7:AZ7,"X")+COUNTIF(BL7:BT7,"X")+COUNTIF(CF7:CN7,"X")+COUNTIF(D7:L7,"X") -> 2 | DB7: maandag en woensdag
A8: O9-1 | B8: JO8-1 | C8: ok | D8: =IF(COUNTIF('Trainingsschema 20262027'!B$6:B$26,$A8)>0,"X","") -> X | E8: =IF(COUNTIF('Trainingsschema 20262027'!C$6:C$26,$A8)>0,"X","") | F8: =IF(COUNTIF('Trainingsschema 20262027'!D$6:D$26,$A8)>0,"X","") | G8: =IF(COUNTIF('Trainingsschema 20262027'!E$6:E$26,$A8)>0,"X","") | H8: =IF(COUNTIF('Trainingsschema 20262027'!F$6:F$26,$A8)>0,"X","") | I8: =IF(COUNTIF('Trainingsschema 20262027'!G$6:G$26,$A8)>0,"X","") | J8: =IF(COUNTIF('Trainingsschema 20262027'!H$6:H$26,$A8)>0,"X","") | K8: =IF(COUNTIF('Trainingsschema 20262027'!I$6:I$25,$A8)>0,"X","") | L8: =IF(COUNTIF('Trainingsschema 20262027'!J$6:J$25,$A8)>0,"X","") | M8: =IF(COUNTIF('Trainingsschema 20262027'!K$6:K$26,$A8)>0,"X","") | N8: =IF(COUNTIF('Trainingsschema 20262027'!L$6:L$20,$A8)>0,"X","") | O8: =IF(COUNTIF('Trainingsschema 20262027'!M$6:M$20,$A8)>0,"X","") | P8: =IF(COUNTIF('Trainingsschema 20262027'!N$6:N$25,$A8)>0,"X","") | Q8: =IF(COUNTIF('Trainingsschema 20262027'!O$6:O$25,$A8)>0,"X","") | R8: =IF(COUNTIF('Trainingsschema 20262027'!P$6:P$26,$A8)>0,"X","") | S8: =IF(COUNTIF('Trainingsschema 20262027'!Q$6:Q$26,$A8)>0,"X","") | T8: =IF(COUNTIF('Trainingsschema 20262027'!R$6:R$26,$A8)>0,"X","") | U8: =IF(COUNTIF('Trainingsschema 20262027'!S$6:S$26,$A8)>0,"X","") | V8: =IF(COUNTIF('Trainingsschema 20262027'!T$6:T$26,$A8)>0,"X","") | X8: =IF(COUNTIF('Trainingsschema 20262027'!B$30:B$49,$A8)>0,"X","") | Y8: =IF(COUNTIF('Trainingsschema 20262027'!C$30:C$49,$A8)>0,"X","") | Z8: =IF(COUNTIF('Trainingsschema 20262027'!D$30:D$49,$A8)>0,"X","") | AA8: =IF(COUNTIF('Trainingsschema 20262027'!E$30:E$49,$A8)>0,"X","") | AB8: =IF(COUNTIF('Trainingsschema 20262027'!F$30:F$49,$A8)>0,"X","") | AC8: =IF(COUNTIF('Trainingsschema 20262027'!G$30:G$49,$A8)>0,"X","") | AD8: =IF(COUNTIF('Trainingsschema 20262027'!H$30:H$49,$A8)>0,"X","") | AE8: =IF(COUNTIF('Trainingsschema 20262027'!I$30:I$49,$A8)>0,"X","") | ... AP8: =IF(COUNTIF('Trainingsschema 20262027'!T$30:T$49,$A8)>0,"X","") | AR8: =IF(COUNTIF('Trainingsschema 20262027'!B$53:B$73,$A8)>0,"X","") | AS8: =IF(COUNTIF('Trainingsschema 20262027'!C$53:C$73,$A8)>0,"X","") | AT8: =IF(COUNTIF('Trainingsschema 20262027'!D$53:D$73,$A8)>0,"X","") | AU8: =IF(COUNTIF('Trainingsschema 20262027'!E$53:E$73,$A8)>0,"X","") | AV8: =IF(COUNTIF('Trainingsschema 20262027'!F$53:F$73,$A8)>0,"X","") | AW8: =IF(COUNTIF('Trainingsschema 20262027'!G$53:G$73,$A8)>0,"X","") | AX8: =IF(COUNTIF('Trainingsschema 20262027'!H$53:H$73,$A8)>0,"X","") -> X | AY8: =IF(COUNTIF('Trainingsschema 20262027'!I$53:I$73,$A8)>0,"X","") | AZ8: =IF(COUNTIF('Trainingsschema 20262027'!J$53:J$73,$A8)>0,"X","") | BA8: =IF(COUNTIF('Trainingsschema 20262027'!K$54:K$73,$A8)>0,"X","") | BB8: =IF(COUNTIF('Trainingsschema 20262027'!L$53:L$73,$A8)>0,"X","") | BC8: =IF(COUNTIF('Trainingsschema 20262027'!M$53:M$73,$A8)>0,"X","") | BD8: =IF(COUNTIF('Trainingsschema 20262027'!N$53:N$73,$A8)>0,"X","") | BE8: =IF(COUNTIF('Trainingsschema 20262027'!O$53:O$73,$A8)>0,"X","") | BF8: =IF(COUNTIF('Trainingsschema 20262027'!P$54:P$73,$A8)>0,"X","") | BG8: =IF(COUNTIF('Trainingsschema 20262027'!Q$53:Q$73,$A8)>0,"X","") | BH8: =IF(COUNTIF('Trainingsschema 20262027'!R$53:R$73,$A8)>0,"X","") | BI8: =IF(COUNTIF('Trainingsschema 20262027'!S$53:S$73,$A8)>0,"X","") | BJ8: =IF(COUNTIF('Trainingsschema 20262027'!T$53:T$73,$A8)>0,"X","") | BL8: =IF(COUNTIF('Trainingsschema 20262027'!B$77:B$96,$A8)>0,"X","") | BM8: =IF(COUNTIF('Trainingsschema 20262027'!C$77:C$96,$A8)>0,"X","") | BN8: =IF(COUNTIF('Trainingsschema 20262027'!D$77:D$96,$A8)>0,"X","") | BO8: =IF(COUNTIF('Trainingsschema 20262027'!E$77:E$96,$A8)>0,"X","") | BP8: =IF(COUNTIF('Trainingsschema 20262027'!F$77:F$96,$A8)>0,"X","") | BQ8: =IF(COUNTIF('Trainingsschema 20262027'!G$77:G$96,$A8)>0,"X","") | BR8: =IF(COUNTIF('Trainingsschema 20262027'!H$77:H$96,$A8)>0,"X","") | BS8: =IF(COUNTIF('Trainingsschema 20262027'!I$77:I$96,$A8)>0,"X","") | ... CD8: =IF(COUNTIF('Trainingsschema 20262027'!T$77:T$96,$A8)>0,"X","") | CF8: =IF(COUNTIF('Trainingsschema 20262027'!B$100:B$118,$A8)>0,"X","") | CG8: =IF(COUNTIF('Trainingsschema 20262027'!C$100:C$118,$A8)>0,"X","") | CH8: =IF(COUNTIF('Trainingsschema 20262027'!D$100:D$118,$A8)>0,"X","") | CI8: =IF(COUNTIF('Trainingsschema 20262027'!E$100:E$118,$A8)>0,"X","") | CJ8: =IF(COUNTIF('Trainingsschema 20262027'!F$100:F$118,$A8)>0,"X","") | CK8: =IF(COUNTIF('Trainingsschema 20262027'!G$100:G$118,$A8)>0,"X","") | CL8: =IF(COUNTIF('Trainingsschema 20262027'!H$100:H$118,$A8)>0,"X","") | CM8: =IF(COUNTIF('Trainingsschema 20262027'!I$100:I$118,$A8)>0,"X","") | ... CX8: =IF(COUNTIF('Trainingsschema 20262027'!T$100:T$118,$A8)>0,"X","") | CZ8: =COUNTIF(D8:CX8,"X") -> 2 | DA8: =COUNTIF(X8:AF8,"X")+COUNTIF(AR8:AZ8,"X")+COUNTIF(BL8:BT8,"X")+COUNTIF(CF8:CN8,"X")+COUNTIF(D8:L8,"X") -> 2 | DB8: ma en woe de nj010-1 en nj09-1 naast elkaar
A9: O9-2 | B9: JO8-2 | C9: ok | D9: =IF(COUNTIF('Trainingsschema 20262027'!B$6:B$26,$A9)>0,"X","") | E9: =IF(COUNTIF('Trainingsschema 20262027'!C$6:C$26,$A9)>0,"X","") | F9: =IF(COUNTIF('Trainingsschema 20262027'!D$6:D$26,$A9)>0,"X","") | G9: =IF(COUNTIF('Trainingsschema 20262027'!E$6:E$26,$A9)>0,"X","") | H9: =IF(COUNTIF('Trainingsschema 20262027'!F$6:F$26,$A9)>0,"X","") | I9: =IF(COUNTIF('Trainingsschema 20262027'!G$6:G$26,$A9)>0,"X","") | J9: =IF(COUNTIF('Trainingsschema 20262027'!H$6:H$26,$A9)>0,"X","") | K9: =IF(COUNTIF('Trainingsschema 20262027'!I$6:I$25,$A9)>0,"X","") | L9: =IF(COUNTIF('Trainingsschema 20262027'!J$6:J$25,$A9)>0,"X","") | M9: =IF(COUNTIF('Trainingsschema 20262027'!K$6:K$26,$A9)>0,"X","") | N9: =IF(COUNTIF('Trainingsschema 20262027'!L$6:L$20,$A9)>0,"X","") | O9: =IF(COUNTIF('Trainingsschema 20262027'!M$6:M$20,$A9)>0,"X","") | P9: =IF(COUNTIF('Trainingsschema 20262027'!N$6:N$25,$A9)>0,"X","") | Q9: =IF(COUNTIF('Trainingsschema 20262027'!O$6:O$25,$A9)>0,"X","") | R9: =IF(COUNTIF('Trainingsschema 20262027'!P$6:P$26,$A9)>0,"X","") | S9: =IF(COUNTIF('Trainingsschema 20262027'!Q$6:Q$26,$A9)>0,"X","") | T9: =IF(COUNTIF('Trainingsschema 20262027'!R$6:R$26,$A9)>0,"X","") | U9: =IF(COUNTIF('Trainingsschema 20262027'!S$6:S$26,$A9)>0,"X","") | V9: =IF(COUNTIF('Trainingsschema 20262027'!T$6:T$26,$A9)>0,"X","") | X9: =IF(COUNTIF('Trainingsschema 20262027'!B$30:B$49,$A9)>0,"X","") -> X | Y9: =IF(COUNTIF('Trainingsschema 20262027'!C$30:C$49,$A9)>0,"X","") | Z9: =IF(COUNTIF('Trainingsschema 20262027'!D$30:D$49,$A9)>0,"X","") | AA9: =IF(COUNTIF('Trainingsschema 20262027'!E$30:E$49,$A9)>0,"X","") | AB9: =IF(COUNTIF('Trainingsschema 20262027'!F$30:F$49,$A9)>0,"X","") | AC9: =IF(COUNTIF('Trainingsschema 20262027'!G$30:G$49,$A9)>0,"X","") | AD9: =IF(COUNTIF('Trainingsschema 20262027'!H$30:H$49,$A9)>0,"X","") | AE9: =IF(COUNTIF('Trainingsschema 20262027'!I$30:I$49,$A9)>0,"X","") | ... AP9: =IF(COUNTIF('Trainingsschema 20262027'!T$30:T$49,$A9)>0,"X","") | AR9: =IF(COUNTIF('Trainingsschema 20262027'!B$53:B$73,$A9)>0,"X","") | AS9: =IF(COUNTIF('Trainingsschema 20262027'!C$53:C$73,$A9)>0,"X","") | AT9: =IF(COUNTIF('Trainingsschema 20262027'!D$53:D$73,$A9)>0,"X","") | AU9: =IF(COUNTIF('Trainingsschema 20262027'!E$53:E$73,$A9)>0,"X","") | AV9: =IF(COUNTIF('Trainingsschema 20262027'!F$53:F$73,$A9)>0,"X","") | AW9: =IF(COUNTIF('Trainingsschema 20262027'!G$53:G$73,$A9)>0,"X","") | AX9: =IF(COUNTIF('Trainingsschema 20262027'!H$53:H$73,$A9)>0,"X","") | AY9: =IF(COUNTIF('Trainingsschema 20262027'!I$53:I$73,$A9)>0,"X","") | AZ9: =IF(COUNTIF('Trainingsschema 20262027'!J$53:J$73,$A9)>0,"X","") | BA9: =IF(COUNTIF('Trainingsschema 20262027'!K$54:K$73,$A9)>0,"X","") | BB9: =IF(COUNTIF('Trainingsschema 20262027'!L$53:L$73,$A9)>0,"X","") | BC9: =IF(COUNTIF('Trainingsschema 20262027'!M$53:M$73,$A9)>0,"X","") | BD9: =IF(COUNTIF('Trainingsschema 20262027'!N$53:N$73,$A9)>0,"X","") | BE9: =IF(COUNTIF('Trainingsschema 20262027'!O$53:O$73,$A9)>0,"X","") | BF9: =IF(COUNTIF('Trainingsschema 20262027'!P$54:P$73,$A9)>0,"X","") | BG9: =IF(COUNTIF('Trainingsschema 20262027'!Q$53:Q$73,$A9)>0,"X","") | BH9: =IF(COUNTIF('Trainingsschema 20262027'!R$53:R$73,$A9)>0,"X","") | BI9: =IF(COUNTIF('Trainingsschema 20262027'!S$53:S$73,$A9)>0,"X","") | BJ9: =IF(COUNTIF('Trainingsschema 20262027'!T$53:T$73,$A9)>0,"X","") | BL9: =IF(COUNTIF('Trainingsschema 20262027'!B$77:B$96,$A9)>0,"X","") | BM9: =IF(COUNTIF('Trainingsschema 20262027'!C$77:C$96,$A9)>0,"X","") | BN9: =IF(COUNTIF('Trainingsschema 20262027'!D$77:D$96,$A9)>0,"X","") | BO9: =IF(COUNTIF('Trainingsschema 20262027'!E$77:E$96,$A9)>0,"X","") | BP9: =IF(COUNTIF('Trainingsschema 20262027'!F$77:F$96,$A9)>0,"X","") | BQ9: =IF(COUNTIF('Trainingsschema 20262027'!G$77:G$96,$A9)>0,"X","") | BR9: =IF(COUNTIF('Trainingsschema 20262027'!H$77:H$96,$A9)>0,"X","") | BS9: =IF(COUNTIF('Trainingsschema 20262027'!I$77:I$96,$A9)>0,"X","") | ... CD9: =IF(COUNTIF('Trainingsschema 20262027'!T$77:T$96,$A9)>0,"X","") | CF9: =IF(COUNTIF('Trainingsschema 20262027'!B$100:B$118,$A9)>0,"X","") | CG9: =IF(COUNTIF('Trainingsschema 20262027'!C$100:C$118,$A9)>0,"X","") | CH9: =IF(COUNTIF('Trainingsschema 20262027'!D$100:D$118,$A9)>0,"X","") | CI9: =IF(COUNTIF('Trainingsschema 20262027'!E$100:E$118,$A9)>0,"X","") | CJ9: =IF(COUNTIF('Trainingsschema 20262027'!F$100:F$118,$A9)>0,"X","") | CK9: =IF(COUNTIF('Trainingsschema 20262027'!G$100:G$118,$A9)>0,"X","") | CL9: =IF(COUNTIF('Trainingsschema 20262027'!H$100:H$118,$A9)>0,"X","") | CM9: =IF(COUNTIF('Trainingsschema 20262027'!I$100:I$118,$A9)>0,"X","") | ... CX9: =IF(COUNTIF('Trainingsschema 20262027'!T$100:T$118,$A9)>0,"X","") | CZ9: =COUNTIF(D9:CX9,"X") -> 2 | DA9: =COUNTIF(X9:AF9,"X")+COUNTIF(AR9:AZ9,"X")+COUNTIF(BL9:BT9,"X")+COUNTIF(CF9:CN9,"X")+COUNTIF(D9:L9,"X") -> 1 | DB9: dinsdag en donderdag met O9-3
A10: O9-3 | B10: JO8-3 | C10: ok | D10: =IF(COUNTIF('Trainingsschema 20262027'!B$6:B$26,$A10)>0,"X","") | E10: =IF(COUNTIF('Trainingsschema 20262027'!C$6:C$26,$A10)>0,"X","") | F10: =IF(COUNTIF('Trainingsschema 20262027'!D$6:D$26,$A10)>0,"X","") | G10: =IF(COUNTIF('Trainingsschema 20262027'!E$6:E$26,$A10)>0,"X","") | H10: =IF(COUNTIF('Trainingsschema 20262027'!F$6:F$26,$A10)>0,"X","") | I10: =IF(COUNTIF('Trainingsschema 20262027'!G$6:G$26,$A10)>0,"X","") | J10: =IF(COUNTIF('Trainingsschema 20262027'!H$6:H$26,$A10)>0,"X","") | K10: =IF(COUNTIF('Trainingsschema 20262027'!I$6:I$25,$A10)>0,"X","") | L10: =IF(COUNTIF('Trainingsschema 20262027'!J$6:J$25,$A10)>0,"X","") | M10: =IF(COUNTIF('Trainingsschema 20262027'!K$6:K$26,$A10)>0,"X","") | N10: =IF(COUNTIF('Trainingsschema 20262027'!L$6:L$20,$A10)>0,"X","") | O10: =IF(COUNTIF('Trainingsschema 20262027'!M$6:M$20,$A10)>0,"X","") | P10: =IF(COUNTIF('Trainingsschema 20262027'!N$6:N$25,$A10)>0,"X","") | Q10: =IF(COUNTIF('Trainingsschema 20262027'!O$6:O$25,$A10)>0,"X","") | R10: =IF(COUNTIF('Trainingsschema 20262027'!P$6:P$26,$A10)>0,"X","") | S10: =IF(COUNTIF('Trainingsschema 20262027'!Q$6:Q$26,$A10)>0,"X","") | T10: =IF(COUNTIF('Trainingsschema 20262027'!R$6:R$26,$A10)>0,"X","") | U10: =IF(COUNTIF('Trainingsschema 20262027'!S$6:S$26,$A10)>0,"X","") | V10: =IF(COUNTIF('Trainingsschema 20262027'!T$6:T$26,$A10)>0,"X","") | X10: =IF(COUNTIF('Trainingsschema 20262027'!B$30:B$49,$A10)>0,"X","") | Y10: =IF(COUNTIF('Trainingsschema 20262027'!C$30:C$49,$A10)>0,"X","") -> X | Z10: =IF(COUNTIF('Trainingsschema 20262027'!D$30:D$49,$A10)>0,"X","") | AA10: =IF(COUNTIF('Trainingsschema 20262027'!E$30:E$49,$A10)>0,"X","") | AB10: =IF(COUNTIF('Trainingsschema 20262027'!F$30:F$49,$A10)>0,"X","") | AC10: =IF(COUNTIF('Trainingsschema 20262027'!G$30:G$49,$A10)>0,"X","") | AD10: =IF(COUNTIF('Trainingsschema 20262027'!H$30:H$49,$A10)>0,"X","") | AE10: =IF(COUNTIF('Trainingsschema 20262027'!I$30:I$49,$A10)>0,"X","") | ... AP10: =IF(COUNTIF('Trainingsschema 20262027'!T$30:T$49,$A10)>0,"X","") | AR10: =IF(COUNTIF('Trainingsschema 20262027'!B$53:B$73,$A10)>0,"X","") | AS10: =IF(COUNTIF('Trainingsschema 20262027'!C$53:C$73,$A10)>0,"X","") | AT10: =IF(COUNTIF('Trainingsschema 20262027'!D$53:D$73,$A10)>0,"X","") | AU10: =IF(COUNTIF('Trainingsschema 20262027'!E$53:E$73,$A10)>0,"X","") | AV10: =IF(COUNTIF('Trainingsschema 20262027'!F$53:F$73,$A10)>0,"X","") | AW10: =IF(COUNTIF('Trainingsschema 20262027'!G$53:G$73,$A10)>0,"X","") | AX10: =IF(COUNTIF('Trainingsschema 20262027'!H$53:H$73,$A10)>0,"X","") | AY10: =IF(COUNTIF('Trainingsschema 20262027'!I$53:I$73,$A10)>0,"X","") | AZ10: =IF(COUNTIF('Trainingsschema 20262027'!J$53:J$73,$A10)>0,"X","") | BA10: =IF(COUNTIF('Trainingsschema 20262027'!K$54:K$73,$A10)>0,"X","") | BB10: =IF(COUNTIF('Trainingsschema 20262027'!L$53:L$73,$A10)>0,"X","") | BC10: =IF(COUNTIF('Trainingsschema 20262027'!M$53:M$73,$A10)>0,"X","") | BD10: =IF(COUNTIF('Trainingsschema 20262027'!N$53:N$73,$A10)>0,"X","") | BE10: =IF(COUNTIF('Trainingsschema 20262027'!O$53:O$73,$A10)>0,"X","") | BF10: =IF(COUNTIF('Trainingsschema 20262027'!P$54:P$73,$A10)>0,"X","") | BG10: =IF(COUNTIF('Trainingsschema 20262027'!Q$53:Q$73,$A10)>0,"X","") | BH10: =IF(COUNTIF('Trainingsschema 20262027'!R$53:R$73,$A10)>0,"X","") | BI10: =IF(COUNTIF('Trainingsschema 20262027'!S$53:S$73,$A10)>0,"X","") | BJ10: =IF(COUNTIF('Trainingsschema 20262027'!T$53:T$73,$A10)>0,"X","") | BL10: =IF(COUNTIF('Trainingsschema 20262027'!B$77:B$96,$A10)>0,"X","") | BM10: =IF(COUNTIF('Trainingsschema 20262027'!C$77:C$96,$A10)>0,"X","") | BN10: =IF(COUNTIF('Trainingsschema 20262027'!D$77:D$96,$A10)>0,"X","") | BO10: =IF(COUNTIF('Trainingsschema 20262027'!E$77:E$96,$A10)>0,"X","") | BP10: =IF(COUNTIF('Trainingsschema 20262027'!F$77:F$96,$A10)>0,"X","") | BQ10: =IF(COUNTIF('Trainingsschema 20262027'!G$77:G$96,$A10)>0,"X","") | BR10: =IF(COUNTIF('Trainingsschema 20262027'!H$77:H$96,$A10)>0,"X","") | BS10: =IF(COUNTIF('Trainingsschema 20262027'!I$77:I$96,$A10)>0,"X","") | ... CD10: =IF(COUNTIF('Trainingsschema 20262027'!T$77:T$96,$A10)>0,"X","") | CF10: =IF(COUNTIF('Trainingsschema 20262027'!B$100:B$118,$A10)>0,"X","") | CG10: =IF(COUNTIF('Trainingsschema 20262027'!C$100:C$118,$A10)>0,"X","") | CH10: =IF(COUNTIF('Trainingsschema 20262027'!D$100:D$118,$A10)>0,"X","") | CI10: =IF(COUNTIF('Trainingsschema 20262027'!E$100:E$118,$A10)>0,"X","") | CJ10: =IF(COUNTIF('Trainingsschema 20262027'!F$100:F$118,$A10)>0,"X","") | CK10: =IF(COUNTIF('Trainingsschema 20262027'!G$100:G$118,$A10)>0,"X","") | CL10: =IF(COUNTIF('Trainingsschema 20262027'!H$100:H$118,$A10)>0,"X","") | CM10: =IF(COUNTIF('Trainingsschema 20262027'!I$100:I$118,$A10)>0,"X","") | ... CX10: =IF(COUNTIF('Trainingsschema 20262027'!T$100:T$118,$A10)>0,"X","") | CZ10: =COUNTIF(D10:CX10,"X") -> 2 | DA10: =COUNTIF(X10:AF10,"X")+COUNTIF(AR10:AZ10,"X")+COUNTIF(BL10:BT10,"X")+COUNTIF(CF10:CN10,"X")+COUNTIF(D10:L10,"X") -> 1 | DB10: dinsdag en donderdag met O9-2
A11: JO9-4 | C11: ok | D11: =IF(COUNTIF('Trainingsschema 20262027'!B$6:B$26,$A11)>0,"X","") | E11: =IF(COUNTIF('Trainingsschema 20262027'!C$6:C$26,$A11)>0,"X","") | F11: =IF(COUNTIF('Trainingsschema 20262027'!D$6:D$26,$A11)>0,"X","") | G11: =IF(COUNTIF('Trainingsschema 20262027'!E$6:E$26,$A11)>0,"X","") | H11: =IF(COUNTIF('Trainingsschema 20262027'!F$6:F$26,$A11)>0,"X","") | I11: =IF(COUNTIF('Trainingsschema 20262027'!G$6:G$26,$A11)>0,"X","") | J11: =IF(COUNTIF('Trainingsschema 20262027'!H$6:H$26,$A11)>0,"X","") | K11: =IF(COUNTIF('Trainingsschema 20262027'!I$6:I$25,$A11)>0,"X","") | L11: =IF(COUNTIF('Trainingsschema 20262027'!J$6:J$25,$A11)>0,"X","") | M11: =IF(COUNTIF('Trainingsschema 20262027'!K$6:K$26,$A11)>0,"X","") | N11: =IF(COUNTIF('Trainingsschema 20262027'!L$6:L$20,$A11)>0,"X","") | O11: =IF(COUNTIF('Trainingsschema 20262027'!M$6:M$20,$A11)>0,"X","") | P11: =IF(COUNTIF('Trainingsschema 20262027'!N$6:N$25,$A11)>0,"X","") | Q11: =IF(COUNTIF('Trainingsschema 20262027'!O$6:O$25,$A11)>0,"X","") | R11: =IF(COUNTIF('Trainingsschema 20262027'!P$6:P$26,$A11)>0,"X","") | S11: =IF(COUNTIF('Trainingsschema 20262027'!Q$6:Q$26,$A11)>0,"X","") | T11: =IF(COUNTIF('Trainingsschema 20262027'!R$6:R$26,$A11)>0,"X","") | U11: =IF(COUNTIF('Trainingsschema 20262027'!S$6:S$26,$A11)>0,"X","") | V11: =IF(COUNTIF('Trainingsschema 20262027'!T$6:T$26,$A11)>0,"X","") | X11: =IF(COUNTIF('Trainingsschema 20262027'!B$30:B$49,$A11)>0,"X","") | Y11: =IF(COUNTIF('Trainingsschema 20262027'!C$30:C$49,$A11)>0,"X","") | Z11: =IF(COUNTIF('Trainingsschema 20262027'!D$30:D$49,$A11)>0,"X","") | AA11: =IF(COUNTIF('Trainingsschema 20262027'!E$30:E$49,$A11)>0,"X","") | AB11: =IF(COUNTIF('Trainingsschema 20262027'!F$30:F$49,$A11)>0,"X","") | AC11: =IF(COUNTIF('Trainingsschema 20262027'!G$30:G$49,$A11)>0,"X","") | AD11: =IF(COUNTIF('Trainingsschema 20262027'!H$30:H$49,$A11)>0,"X","") | AE11: =IF(COUNTIF('Trainingsschema 20262027'!I$30:I$49,$A11)>0,"X","") | ... AP11: =IF(COUNTIF('Trainingsschema 20262027'!T$30:T$49,$A11)>0,"X","") | AR11: =IF(COUNTIF('Trainingsschema 20262027'!B$53:B$73,$A11)>0,"X","") | AS11: =IF(COUNTIF('Trainingsschema 20262027'!C$53:C$73,$A11)>0,"X","") | AT11: =IF(COUNTIF('Trainingsschema 20262027'!D$53:D$73,$A11)>0,"X","") | AU11: =IF(COUNTIF('Trainingsschema 20262027'!E$53:E$73,$A11)>0,"X","") | AV11: =IF(COUNTIF('Trainingsschema 20262027'!F$53:F$73,$A11)>0,"X","") | AW11: =IF(COUNTIF('Trainingsschema 20262027'!G$53:G$73,$A11)>0,"X","") | AX11: =IF(COUNTIF('Trainingsschema 20262027'!H$53:H$73,$A11)>0,"X","") | AY11: =IF(COUNTIF('Trainingsschema 20262027'!I$53:I$73,$A11)>0,"X","") | AZ11: =IF(COUNTIF('Trainingsschema 20262027'!J$53:J$73,$A11)>0,"X","") | BA11: =IF(COUNTIF('Trainingsschema 20262027'!K$54:K$73,$A11)>0,"X","") | BB11: =IF(COUNTIF('Trainingsschema 20262027'!L$53:L$73,$A11)>0,"X","") | BC11: =IF(COUNTIF('Trainingsschema 20262027'!M$53:M$73,$A11)>0,"X","") | BD11: =IF(COUNTIF('Trainingsschema 20262027'!N$53:N$73,$A11)>0,"X","") | BE11: =IF(COUNTIF('Trainingsschema 20262027'!O$53:O$73,$A11)>0,"X","") | BF11: =IF(COUNTIF('Trainingsschema 20262027'!P$54:P$73,$A11)>0,"X","") | BG11: =IF(COUNTIF('Trainingsschema 20262027'!Q$53:Q$73,$A11)>0,"X","") | BH11: =IF(COUNTIF('Trainingsschema 20262027'!R$53:R$73,$A11)>0,"X","") | BI11: =IF(COUNTIF('Trainingsschema 20262027'!S$53:S$73,$A11)>0,"X","") | BJ11: =IF(COUNTIF('Trainingsschema 20262027'!T$53:T$73,$A11)>0,"X","") | BL11: =IF(COUNTIF('Trainingsschema 20262027'!B$77:B$96,$A11)>0,"X","") | BM11: =IF(COUNTIF('Trainingsschema 20262027'!C$77:C$96,$A11)>0,"X","") | BN11: =IF(COUNTIF('Trainingsschema 20262027'!D$77:D$96,$A11)>0,"X","") | BO11: =IF(COUNTIF('Trainingsschema 20262027'!E$77:E$96,$A11)>0,"X","") | BP11: =IF(COUNTIF('Trainingsschema 20262027'!F$77:F$96,$A11)>0,"X","") | BQ11: =IF(COUNTIF('Trainingsschema 20262027'!G$77:G$96,$A11)>0,"X","") | BR11: =IF(COUNTIF('Trainingsschema 20262027'!H$77:H$96,$A11)>0,"X","") | BS11: =IF(COUNTIF('Trainingsschema 20262027'!I$77:I$96,$A11)>0,"X","") | ... CD11: =IF(COUNTIF('Trainingsschema 20262027'!T$77:T$96,$A11)>0,"X","") | CF11: =IF(COUNTIF('Trainingsschema 20262027'!B$100:B$118,$A11)>0,"X","") | CG11: =IF(COUNTIF('Trainingsschema 20262027'!C$100:C$118,$A11)>0,"X","") | CH11: =IF(COUNTIF('Trainingsschema 20262027'!D$100:D$118,$A11)>0,"X","") | CI11: =IF(COUNTIF('Trainingsschema 20262027'!E$100:E$118,$A11)>0,"X","") | CJ11: =IF(COUNTIF('Trainingsschema 20262027'!F$100:F$118,$A11)>0,"X","") | CK11: =IF(COUNTIF('Trainingsschema 20262027'!G$100:G$118,$A11)>0,"X","") | CL11: =IF(COUNTIF('Trainingsschema 20262027'!H$100:H$118,$A11)>0,"X","") | CM11: =IF(COUNTIF('Trainingsschema 20262027'!I$100:I$118,$A11)>0,"X","") | ... CX11: =IF(COUNTIF('Trainingsschema 20262027'!T$100:T$118,$A11)>0,"X","") | CZ11: =COUNTIF(D11:CX11,"X") -> 0 | DA11: =COUNTIF(X11:AF11,"X")+COUNTIF(AR11:AZ11,"X")+COUNTIF(BL11:BT11,"X")+COUNTIF(CF11:CN11,"X")+COUNTIF(D11:L11,"X") -> 0
A12: O10-1 | B12: JO9-1 | C12: ok | D12: =IF(COUNTIF('Trainingsschema 20262027'!B$6:B$26,$A12)>0,"X","") | E12: =IF(COUNTIF('Trainingsschema 20262027'!C$6:C$26,$A12)>0,"X","") -> X | F12: =IF(COUNTIF('Trainingsschema 20262027'!D$6:D$26,$A12)>0,"X","") | G12: =IF(COUNTIF('Trainingsschema 20262027'!E$6:E$26,$A12)>0,"X","") | H12: =IF(COUNTIF('Trainingsschema 20262027'!F$6:F$26,$A12)>0,"X","") | I12: =IF(COUNTIF('Trainingsschema 20262027'!G$6:G$26,$A12)>0,"X","") | J12: =IF(COUNTIF('Trainingsschema 20262027'!H$6:H$26,$A12)>0,"X","") | K12: =IF(COUNTIF('Trainingsschema 20262027'!I$6:I$25,$A12)>0,"X","") | L12: =IF(COUNTIF('Trainingsschema 20262027'!J$6:J$25,$A12)>0,"X","") | M12: =IF(COUNTIF('Trainingsschema 20262027'!K$6:K$26,$A12)>0,"X","") | N12: =IF(COUNTIF('Trainingsschema 20262027'!L$6:L$20,$A12)>0,"X","") | O12: =IF(COUNTIF('Trainingsschema 20262027'!M$6:M$20,$A12)>0,"X","") | P12: =IF(COUNTIF('Trainingsschema 20262027'!N$6:N$25,$A12)>0,"X","") | Q12: =IF(COUNTIF('Trainingsschema 20262027'!O$6:O$25,$A12)>0,"X","") | R12: =IF(COUNTIF('Trainingsschema 20262027'!P$6:P$26,$A12)>0,"X","") | S12: =IF(COUNTIF('Trainingsschema 20262027'!Q$6:Q$26,$A12)>0,"X","") | T12: =IF(COUNTIF('Trainingsschema 20262027'!R$6:R$26,$A12)>0,"X","") | U12: =IF(COUNTIF('Trainingsschema 20262027'!S$6:S$26,$A12)>0,"X","") | V12: =IF(COUNTIF('Trainingsschema 20262027'!T$6:T$26,$A12)>0,"X","") | X12: =IF(COUNTIF('Trainingsschema 20262027'!B$30:B$49,$A12)>0,"X","") | Y12: =IF(COUNTIF('Trainingsschema 20262027'!C$30:C$49,$A12)>0,"X","") | Z12: =IF(COUNTIF('Trainingsschema 20262027'!D$30:D$49,$A12)>0,"X","") | AA12: =IF(COUNTIF('Trainingsschema 20262027'!E$30:E$49,$A12)>0,"X","") | AB12: =IF(COUNTIF('Trainingsschema 20262027'!F$30:F$49,$A12)>0,"X","") | AC12: =IF(COUNTIF('Trainingsschema 20262027'!G$30:G$49,$A12)>0,"X","") | AD12: =IF(COUNTIF('Trainingsschema 20262027'!H$30:H$49,$A12)>0,"X","") | AE12: =IF(COUNTIF('Trainingsschema 20262027'!I$30:I$49,$A12)>0,"X","") | ... AP12: =IF(COUNTIF('Trainingsschema 20262027'!T$30:T$49,$A12)>0,"X","") | AR12: =IF(COUNTIF('Trainingsschema 20262027'!B$53:B$73,$A12)>0,"X","") | AS12: =IF(COUNTIF('Trainingsschema 20262027'!C$53:C$73,$A12)>0,"X","") | AT12: =IF(COUNTIF('Trainingsschema 20262027'!D$53:D$73,$A12)>0,"X","") | AU12: =IF(COUNTIF('Trainingsschema 20262027'!E$53:E$73,$A12)>0,"X","") | AV12: =IF(COUNTIF('Trainingsschema 20262027'!F$53:F$73,$A12)>0,"X","") | AW12: =IF(COUNTIF('Trainingsschema 20262027'!G$53:G$73,$A12)>0,"X","") -> X | AX12: =IF(COUNTIF('Trainingsschema 20262027'!H$53:H$73,$A12)>0,"X","") | AY12: =IF(COUNTIF('Trainingsschema 20262027'!I$53:I$73,$A12)>0,"X","") | AZ12: =IF(COUNTIF('Trainingsschema 20262027'!J$53:J$73,$A12)>0,"X","") | BA12: =IF(COUNTIF('Trainingsschema 20262027'!K$54:K$73,$A12)>0,"X","") | BB12: =IF(COUNTIF('Trainingsschema 20262027'!L$53:L$73,$A12)>0,"X","") | BC12: =IF(COUNTIF('Trainingsschema 20262027'!M$53:M$73,$A12)>0,"X","") | BD12: =IF(COUNTIF('Trainingsschema 20262027'!N$53:N$73,$A12)>0,"X","") | BE12: =IF(COUNTIF('Trainingsschema 20262027'!O$53:O$73,$A12)>0,"X","") | BF12: =IF(COUNTIF('Trainingsschema 20262027'!P$54:P$73,$A12)>0,"X","") | BG12: =IF(COUNTIF('Trainingsschema 20262027'!Q$53:Q$73,$A12)>0,"X","") | BH12: =IF(COUNTIF('Trainingsschema 20262027'!R$53:R$73,$A12)>0,"X","") | BI12: =IF(COUNTIF('Trainingsschema 20262027'!S$53:S$73,$A12)>0,"X","") | BJ12: =IF(COUNTIF('Trainingsschema 20262027'!T$53:T$73,$A12)>0,"X","") | BL12: =IF(COUNTIF('Trainingsschema 20262027'!B$77:B$96,$A12)>0,"X","") | BM12: =IF(COUNTIF('Trainingsschema 20262027'!C$77:C$96,$A12)>0,"X","") | BN12: =IF(COUNTIF('Trainingsschema 20262027'!D$77:D$96,$A12)>0,"X","") | BO12: =IF(COUNTIF('Trainingsschema 20262027'!E$77:E$96,$A12)>0,"X","") | BP12: =IF(COUNTIF('Trainingsschema 20262027'!F$77:F$96,$A12)>0,"X","") | BQ12: =IF(COUNTIF('Trainingsschema 20262027'!G$77:G$96,$A12)>0,"X","") | BR12: =IF(COUNTIF('Trainingsschema 20262027'!H$77:H$96,$A12)>0,"X","") | BS12: =IF(COUNTIF('Trainingsschema 20262027'!I$77:I$96,$A12)>0,"X","") | ... CD12: =IF(COUNTIF('Trainingsschema 20262027'!T$77:T$96,$A12)>0,"X","") | CF12: =IF(COUNTIF('Trainingsschema 20262027'!B$100:B$118,$A12)>0,"X","") | CG12: =IF(COUNTIF('Trainingsschema 20262027'!C$100:C$118,$A12)>0,"X","") | CH12: =IF(COUNTIF('Trainingsschema 20262027'!D$100:D$118,$A12)>0,"X","") | CI12: =IF(COUNTIF('Trainingsschema 20262027'!E$100:E$118,$A12)>0,"X","") | CJ12: =IF(COUNTIF('Trainingsschema 20262027'!F$100:F$118,$A12)>0,"X","") | CK12: =IF(COUNTIF('Trainingsschema 20262027'!G$100:G$118,$A12)>0,"X","") | CL12: =IF(COUNTIF('Trainingsschema 20262027'!H$100:H$118,$A12)>0,"X","") | CM12: =IF(COUNTIF('Trainingsschema 20262027'!I$100:I$118,$A12)>0,"X","") | ... CX12: =IF(COUNTIF('Trainingsschema 20262027'!T$100:T$118,$A12)>0,"X","") | CZ12: =COUNTIF(D12:CX12,"X") -> 3 | DA12: =COUNTIF(X12:AF12,"X")+COUNTIF(AR12:AZ12,"X")+COUNTIF(BL12:BT12,"X")+COUNTIF(CF12:CN12,"X")+COUNTIF(D12:L12,"X") -> 2 | DB12: ma en woe de nj010-1 en nj09-1 naast elkaar
A13: O10-2 | B13: JO9-2 | C13: ok | D13: =IF(COUNTIF('Trainingsschema 20262027'!B$6:B$26,$A13)>0,"X","") | E13: =IF(COUNTIF('Trainingsschema 20262027'!C$6:C$26,$A13)>0,"X","") | F13: =IF(COUNTIF('Trainingsschema 20262027'!D$6:D$26,$A13)>0,"X","") | G13: =IF(COUNTIF('Trainingsschema 20262027'!E$6:E$26,$A13)>0,"X","") | H13: =IF(COUNTIF('Trainingsschema 20262027'!F$6:F$26,$A13)>0,"X","") | I13: =IF(COUNTIF('Trainingsschema 20262027'!G$6:G$26,$A13)>0,"X","") | J13: =IF(COUNTIF('Trainingsschema 20262027'!H$6:H$26,$A13)>0,"X","") | K13: =IF(COUNTIF('Trainingsschema 20262027'!I$6:I$25,$A13)>0,"X","") | L13: =IF(COUNTIF('Trainingsschema 20262027'!J$6:J$25,$A13)>0,"X","") | M13: =IF(COUNTIF('Trainingsschema 20262027'!K$6:K$26,$A13)>0,"X","") | N13: =IF(COUNTIF('Trainingsschema 20262027'!L$6:L$20,$A13)>0,"X","") | O13: =IF(COUNTIF('Trainingsschema 20262027'!M$6:M$20,$A13)>0,"X","") | P13: =IF(COUNTIF('Trainingsschema 20262027'!N$6:N$25,$A13)>0,"X","") | Q13: =IF(COUNTIF('Trainingsschema 20262027'!O$6:O$25,$A13)>0,"X","") | R13: =IF(COUNTIF('Trainingsschema 20262027'!P$6:P$26,$A13)>0,"X","") | S13: =IF(COUNTIF('Trainingsschema 20262027'!Q$6:Q$26,$A13)>0,"X","") | T13: =IF(COUNTIF('Trainingsschema 20262027'!R$6:R$26,$A13)>0,"X","") | U13: =IF(COUNTIF('Trainingsschema 20262027'!S$6:S$26,$A13)>0,"X","") | V13: =IF(COUNTIF('Trainingsschema 20262027'!T$6:T$26,$A13)>0,"X","") | X13: =IF(COUNTIF('Trainingsschema 20262027'!B$30:B$49,$A13)>0,"X","") | Y13: =IF(COUNTIF('Trainingsschema 20262027'!C$30:C$49,$A13)>0,"X","") | Z13: =IF(COUNTIF('Trainingsschema 20262027'!D$30:D$49,$A13)>0,"X","") | AA13: =IF(COUNTIF('Trainingsschema 20262027'!E$30:E$49,$A13)>0,"X","") | AB13: =IF(COUNTIF('Trainingsschema 20262027'!F$30:F$49,$A13)>0,"X","") | AC13: =IF(COUNTIF('Trainingsschema 20262027'!G$30:G$49,$A13)>0,"X","") | AD13: =IF(COUNTIF('Trainingsschema 20262027'!H$30:H$49,$A13)>0,"X","") | AE13: =IF(COUNTIF('Trainingsschema 20262027'!I$30:I$49,$A13)>0,"X","") | ... AP13: =IF(COUNTIF('Trainingsschema 20262027'!T$30:T$49,$A13)>0,"X","") -> X | AR13: =IF(COUNTIF('Trainingsschema 20262027'!B$53:B$73,$A13)>0,"X","") | AS13: =IF(COUNTIF('Trainingsschema 20262027'!C$53:C$73,$A13)>0,"X","") | AT13: =IF(COUNTIF('Trainingsschema 20262027'!D$53:D$73,$A13)>0,"X","") | AU13: =IF(COUNTIF('Trainingsschema 20262027'!E$53:E$73,$A13)>0,"X","") | AV13: =IF(COUNTIF('Trainingsschema 20262027'!F$53:F$73,$A13)>0,"X","") | AW13: =IF(COUNTIF('Trainingsschema 20262027'!G$53:G$73,$A13)>0,"X","") | AX13: =IF(COUNTIF('Trainingsschema 20262027'!H$53:H$73,$A13)>0,"X","") | AY13: =IF(COUNTIF('Trainingsschema 20262027'!I$53:I$73,$A13)>0,"X","") | AZ13: =IF(COUNTIF('Trainingsschema 20262027'!J$53:J$73,$A13)>0,"X","") | BA13: =IF(COUNTIF('Trainingsschema 20262027'!K$54:K$73,$A13)>0,"X","") | BB13: =IF(COUNTIF('Trainingsschema 20262027'!L$53:L$73,$A13)>0,"X","") | BC13: =IF(COUNTIF('Trainingsschema 20262027'!M$53:M$73,$A13)>0,"X","") | BD13: =IF(COUNTIF('Trainingsschema 20262027'!N$53:N$73,$A13)>0,"X","") | BE13: =IF(COUNTIF('Trainingsschema 20262027'!O$53:O$73,$A13)>0,"X","") | BF13: =IF(COUNTIF('Trainingsschema 20262027'!P$54:P$73,$A13)>0,"X","") | BG13: =IF(COUNTIF('Trainingsschema 20262027'!Q$53:Q$73,$A13)>0,"X","") | BH13: =IF(COUNTIF('Trainingsschema 20262027'!R$53:R$73,$A13)>0,"X","") | BI13: =IF(COUNTIF('Trainingsschema 20262027'!S$53:S$73,$A13)>0,"X","") | BJ13: =IF(COUNTIF('Trainingsschema 20262027'!T$53:T$73,$A13)>0,"X","") | BL13: =IF(COUNTIF('Trainingsschema 20262027'!B$77:B$96,$A13)>0,"X","") | BM13: =IF(COUNTIF('Trainingsschema 20262027'!C$77:C$96,$A13)>0,"X","") | BN13: =IF(COUNTIF('Trainingsschema 20262027'!D$77:D$96,$A13)>0,"X","") | BO13: =IF(COUNTIF('Trainingsschema 20262027'!E$77:E$96,$A13)>0,"X","") | BP13: =IF(COUNTIF('Trainingsschema 20262027'!F$77:F$96,$A13)>0,"X","") | BQ13: =IF(COUNTIF('Trainingsschema 20262027'!G$77:G$96,$A13)>0,"X","") | BR13: =IF(COUNTIF('Trainingsschema 20262027'!H$77:H$96,$A13)>0,"X","") | BS13: =IF(COUNTIF('Trainingsschema 20262027'!I$77:I$96,$A13)>0,"X","") -> X | ... CD13: =IF(COUNTIF('Trainingsschema 20262027'!T$77:T$96,$A13)>0,"X","") | CF13: =IF(COUNTIF('Trainingsschema 20262027'!B$100:B$118,$A13)>0,"X","") | CG13: =IF(COUNTIF('Trainingsschema 20262027'!C$100:C$118,$A13)>0,"X","") | CH13: =IF(COUNTIF('Trainingsschema 20262027'!D$100:D$118,$A13)>0,"X","") | CI13: =IF(COUNTIF('Trainingsschema 20262027'!E$100:E$118,$A13)>0,"X","") | CJ13: =IF(COUNTIF('Trainingsschema 20262027'!F$100:F$118,$A13)>0,"X","") | CK13: =IF(COUNTIF('Trainingsschema 20262027'!G$100:G$118,$A13)>0,"X","") | CL13: =IF(COUNTIF('Trainingsschema 20262027'!H$100:H$118,$A13)>0,"X","") | CM13: =IF(COUNTIF('Trainingsschema 20262027'!I$100:I$118,$A13)>0,"X","") | ... CX13: =IF(COUNTIF('Trainingsschema 20262027'!T$100:T$118,$A13)>0,"X","") | CZ13: =COUNTIF(D13:CX13,"X") -> 2 | DA13: =COUNTIF(X13:AF13,"X")+COUNTIF(AR13:AZ13,"X")+COUNTIF(BL13:BT13,"X")+COUNTIF(CF13:CN13,"X")+COUNTIF(D13:L13,"X") -> 1 | DB13: Dezelfde tijd en dag
A14: O10-3 | B14: JO9-3 | C14: ok | D14: =IF(COUNTIF('Trainingsschema 20262027'!B$6:B$26,$A14)>0,"X","") | E14: =IF(COUNTIF('Trainingsschema 20262027'!C$6:C$26,$A14)>0,"X","") | F14: =IF(COUNTIF('Trainingsschema 20262027'!D$6:D$26,$A14)>0,"X","") | G14: =IF(COUNTIF('Trainingsschema 20262027'!E$6:E$26,$A14)>0,"X","") | H14: =IF(COUNTIF('Trainingsschema 20262027'!F$6:F$26,$A14)>0,"X","") | I14: =IF(COUNTIF('Trainingsschema 20262027'!G$6:G$26,$A14)>0,"X","") | J14: =IF(COUNTIF('Trainingsschema 20262027'!H$6:H$26,$A14)>0,"X","") | K14: =IF(COUNTIF('Trainingsschema 20262027'!I$6:I$25,$A14)>0,"X","") | L14: =IF(COUNTIF('Trainingsschema 20262027'!J$6:J$25,$A14)>0,"X","") | M14: =IF(COUNTIF('Trainingsschema 20262027'!K$6:K$26,$A14)>0,"X","") | N14: =IF(COUNTIF('Trainingsschema 20262027'!L$6:L$20,$A14)>0,"X","") | O14: =IF(COUNTIF('Trainingsschema 20262027'!M$6:M$20,$A14)>0,"X","") | P14: =IF(COUNTIF('Trainingsschema 20262027'!N$6:N$25,$A14)>0,"X","") | Q14: =IF(COUNTIF('Trainingsschema 20262027'!O$6:O$25,$A14)>0,"X","") | R14: =IF(COUNTIF('Trainingsschema 20262027'!P$6:P$26,$A14)>0,"X","") | S14: =IF(COUNTIF('Trainingsschema 20262027'!Q$6:Q$26,$A14)>0,"X","") | T14: =IF(COUNTIF('Trainingsschema 20262027'!R$6:R$26,$A14)>0,"X","") | U14: =IF(COUNTIF('Trainingsschema 20262027'!S$6:S$26,$A14)>0,"X","") | V14: =IF(COUNTIF('Trainingsschema 20262027'!T$6:T$26,$A14)>0,"X","") | X14: =IF(COUNTIF('Trainingsschema 20262027'!B$30:B$49,$A14)>0,"X","") | Y14: =IF(COUNTIF('Trainingsschema 20262027'!C$30:C$49,$A14)>0,"X","") | Z14: =IF(COUNTIF('Trainingsschema 20262027'!D$30:D$49,$A14)>0,"X","") | AA14: =IF(COUNTIF('Trainingsschema 20262027'!E$30:E$49,$A14)>0,"X","") | AB14: =IF(COUNTIF('Trainingsschema 20262027'!F$30:F$49,$A14)>0,"X","") | AC14: =IF(COUNTIF('Trainingsschema 20262027'!G$30:G$49,$A14)>0,"X","") | AD14: =IF(COUNTIF('Trainingsschema 20262027'!H$30:H$49,$A14)>0,"X","") | AE14: =IF(COUNTIF('Trainingsschema 20262027'!I$30:I$49,$A14)>0,"X","") | ... AP14: =IF(COUNTIF('Trainingsschema 20262027'!T$30:T$49,$A14)>0,"X","") | AR14: =IF(COUNTIF('Trainingsschema 20262027'!B$53:B$73,$A14)>0,"X","") | AS14: =IF(COUNTIF('Trainingsschema 20262027'!C$53:C$73,$A14)>0,"X","") | AT14: =IF(COUNTIF('Trainingsschema 20262027'!D$53:D$73,$A14)>0,"X","") | AU14: =IF(COUNTIF('Trainingsschema 20262027'!E$53:E$73,$A14)>0,"X","") | AV14: =IF(COUNTIF('Trainingsschema 20262027'!F$53:F$73,$A14)>0,"X","") | AW14: =IF(COUNTIF('Trainingsschema 20262027'!G$53:G$73,$A14)>0,"X","") | AX14: =IF(COUNTIF('Trainingsschema 20262027'!H$53:H$73,$A14)>0,"X","") | AY14: =IF(COUNTIF('Trainingsschema 20262027'!I$53:I$73,$A14)>0,"X","") | AZ14: =IF(COUNTIF('Trainingsschema 20262027'!J$53:J$73,$A14)>0,"X","") | BA14: =IF(COUNTIF('Trainingsschema 20262027'!K$54:K$73,$A14)>0,"X","") | BB14: =IF(COUNTIF('Trainingsschema 20262027'!L$53:L$73,$A14)>0,"X","") | BC14: =IF(COUNTIF('Trainingsschema 20262027'!M$53:M$73,$A14)>0,"X","") | BD14: =IF(COUNTIF('Trainingsschema 20262027'!N$53:N$73,$A14)>0,"X","") | BE14: =IF(COUNTIF('Trainingsschema 20262027'!O$53:O$73,$A14)>0,"X","") | BF14: =IF(COUNTIF('Trainingsschema 20262027'!P$54:P$73,$A14)>0,"X","") | BG14: =IF(COUNTIF('Trainingsschema 20262027'!Q$53:Q$73,$A14)>0,"X","") | BH14: =IF(COUNTIF('Trainingsschema 20262027'!R$53:R$73,$A14)>0,"X","") | BI14: =IF(COUNTIF('Trainingsschema 20262027'!S$53:S$73,$A14)>0,"X","") | BJ14: =IF(COUNTIF('Trainingsschema 20262027'!T$53:T$73,$A14)>0,"X","") | BL14: =IF(COUNTIF('Trainingsschema 20262027'!B$77:B$96,$A14)>0,"X","") -> X | BM14: =IF(COUNTIF('Trainingsschema 20262027'!C$77:C$96,$A14)>0,"X","") | BN14: =IF(COUNTIF('Trainingsschema 20262027'!D$77:D$96,$A14)>0,"X","") | BO14: =IF(COUNTIF('Trainingsschema 20262027'!E$77:E$96,$A14)>0,"X","") | BP14: =IF(COUNTIF('Trainingsschema 20262027'!F$77:F$96,$A14)>0,"X","") | BQ14: =IF(COUNTIF('Trainingsschema 20262027'!G$77:G$96,$A14)>0,"X","") | BR14: =IF(COUNTIF('Trainingsschema 20262027'!H$77:H$96,$A14)>0,"X","") | BS14: =IF(COUNTIF('Trainingsschema 20262027'!I$77:I$96,$A14)>0,"X","") | ... CD14: =IF(COUNTIF('Trainingsschema 20262027'!T$77:T$96,$A14)>0,"X","") | CF14: =IF(COUNTIF('Trainingsschema 20262027'!B$100:B$118,$A14)>0,"X","") | CG14: =IF(COUNTIF('Trainingsschema 20262027'!C$100:C$118,$A14)>0,"X","") | CH14: =IF(COUNTIF('Trainingsschema 20262027'!D$100:D$118,$A14)>0,"X","") | CI14: =IF(COUNTIF('Trainingsschema 20262027'!E$100:E$118,$A14)>0,"X","") | CJ14: =IF(COUNTIF('Trainingsschema 20262027'!F$100:F$118,$A14)>0,"X","") | CK14: =IF(COUNTIF('Trainingsschema 20262027'!G$100:G$118,$A14)>0,"X","") | CL14: =IF(COUNTIF('Trainingsschema 20262027'!H$100:H$118,$A14)>0,"X","") | CM14: =IF(COUNTIF('Trainingsschema 20262027'!I$100:I$118,$A14)>0,"X","") | ... CX14: =IF(COUNTIF('Trainingsschema 20262027'!T$100:T$118,$A14)>0,"X","") | CZ14: =COUNTIF(D14:CX14,"X") -> 2 | DA14: =COUNTIF(X14:AF14,"X")+COUNTIF(AR14:AZ14,"X")+COUNTIF(BL14:BT14,"X")+COUNTIF(CF14:CN14,"X")+COUNTIF(D14:L14,"X") -> 1 | DB14: Dezelfde tijd en dag
A15: O10-4 | B15: JO9-4 | C15: ok | D15: =IF(COUNTIF('Trainingsschema 20262027'!B$6:B$26,$A15)>0,"X","") | E15: =IF(COUNTIF('Trainingsschema 20262027'!C$6:C$26,$A15)>0,"X","") | F15: =IF(COUNTIF('Trainingsschema 20262027'!D$6:D$26,$A15)>0,"X","") | G15: =IF(COUNTIF('Trainingsschema 20262027'!E$6:E$26,$A15)>0,"X","") | H15: =IF(COUNTIF('Trainingsschema 20262027'!F$6:F$26,$A15)>0,"X","") | I15: =IF(COUNTIF('Trainingsschema 20262027'!G$6:G$26,$A15)>0,"X","") | J15: =IF(COUNTIF('Trainingsschema 20262027'!H$6:H$26,$A15)>0,"X","") | K15: =IF(COUNTIF('Trainingsschema 20262027'!I$6:I$25,$A15)>0,"X","") | L15: =IF(COUNTIF('Trainingsschema 20262027'!J$6:J$25,$A15)>0,"X","") | M15: =IF(COUNTIF('Trainingsschema 20262027'!K$6:K$26,$A15)>0,"X","") | N15: =IF(COUNTIF('Trainingsschema 20262027'!L$6:L$20,$A15)>0,"X","") | O15: =IF(COUNTIF('Trainingsschema 20262027'!M$6:M$20,$A15)>0,"X","") | P15: =IF(COUNTIF('Trainingsschema 20262027'!N$6:N$25,$A15)>0,"X","") | Q15: =IF(COUNTIF('Trainingsschema 20262027'!O$6:O$25,$A15)>0,"X","") | R15: =IF(COUNTIF('Trainingsschema 20262027'!P$6:P$26,$A15)>0,"X","") | S15: =IF(COUNTIF('Trainingsschema 20262027'!Q$6:Q$26,$A15)>0,"X","") | T15: =IF(COUNTIF('Trainingsschema 20262027'!R$6:R$26,$A15)>0,"X","") | U15: =IF(COUNTIF('Trainingsschema 20262027'!S$6:S$26,$A15)>0,"X","") | V15: =IF(COUNTIF('Trainingsschema 20262027'!T$6:T$26,$A15)>0,"X","") | X15: =IF(COUNTIF('Trainingsschema 20262027'!B$30:B$49,$A15)>0,"X","") | Y15: =IF(COUNTIF('Trainingsschema 20262027'!C$30:C$49,$A15)>0,"X","") | Z15: =IF(COUNTIF('Trainingsschema 20262027'!D$30:D$49,$A15)>0,"X","") | AA15: =IF(COUNTIF('Trainingsschema 20262027'!E$30:E$49,$A15)>0,"X","") | AB15: =IF(COUNTIF('Trainingsschema 20262027'!F$30:F$49,$A15)>0,"X","") | AC15: =IF(COUNTIF('Trainingsschema 20262027'!G$30:G$49,$A15)>0,"X","") | AD15: =IF(COUNTIF('Trainingsschema 20262027'!H$30:H$49,$A15)>0,"X","") | AE15: =IF(COUNTIF('Trainingsschema 20262027'!I$30:I$49,$A15)>0,"X","") | ... AP15: =IF(COUNTIF('Trainingsschema 20262027'!T$30:T$49,$A15)>0,"X","") | AR15: =IF(COUNTIF('Trainingsschema 20262027'!B$53:B$73,$A15)>0,"X","") | AS15: =IF(COUNTIF('Trainingsschema 20262027'!C$53:C$73,$A15)>0,"X","") | AT15: =IF(COUNTIF('Trainingsschema 20262027'!D$53:D$73,$A15)>0,"X","") | AU15: =IF(COUNTIF('Trainingsschema 20262027'!E$53:E$73,$A15)>0,"X","") | AV15: =IF(COUNTIF('Trainingsschema 20262027'!F$53:F$73,$A15)>0,"X","") | AW15: =IF(COUNTIF('Trainingsschema 20262027'!G$53:G$73,$A15)>0,"X","") | AX15: =IF(COUNTIF('Trainingsschema 20262027'!H$53:H$73,$A15)>0,"X","") | AY15: =IF(COUNTIF('Trainingsschema 20262027'!I$53:I$73,$A15)>0,"X","") | AZ15: =IF(COUNTIF('Trainingsschema 20262027'!J$53:J$73,$A15)>0,"X","") | BA15: =IF(COUNTIF('Trainingsschema 20262027'!K$54:K$73,$A15)>0,"X","") | BB15: =IF(COUNTIF('Trainingsschema 20262027'!L$53:L$73,$A15)>0,"X","") | BC15: =IF(COUNTIF('Trainingsschema 20262027'!M$53:M$73,$A15)>0,"X","") | BD15: =IF(COUNTIF('Trainingsschema 20262027'!N$53:N$73,$A15)>0,"X","") | BE15: =IF(COUNTIF('Trainingsschema 20262027'!O$53:O$73,$A15)>0,"X","") | BF15: =IF(COUNTIF('Trainingsschema 20262027'!P$54:P$73,$A15)>0,"X","") | BG15: =IF(COUNTIF('Trainingsschema 20262027'!Q$53:Q$73,$A15)>0,"X","") | BH15: =IF(COUNTIF('Trainingsschema 20262027'!R$53:R$73,$A15)>0,"X","") | BI15: =IF(COUNTIF('Trainingsschema 20262027'!S$53:S$73,$A15)>0,"X","") | BJ15: =IF(COUNTIF('Trainingsschema 20262027'!T$53:T$73,$A15)>0,"X","") | BL15: =IF(COUNTIF('Trainingsschema 20262027'!B$77:B$96,$A15)>0,"X","") | BM15: =IF(COUNTIF('Trainingsschema 20262027'!C$77:C$96,$A15)>0,"X","") -> X | BN15: =IF(COUNTIF('Trainingsschema 20262027'!D$77:D$96,$A15)>0,"X","") | BO15: =IF(COUNTIF('Trainingsschema 20262027'!E$77:E$96,$A15)>0,"X","") | BP15: =IF(COUNTIF('Trainingsschema 20262027'!F$77:F$96,$A15)>0,"X","") | BQ15: =IF(COUNTIF('Trainingsschema 20262027'!G$77:G$96,$A15)>0,"X","") | BR15: =IF(COUNTIF('Trainingsschema 20262027'!H$77:H$96,$A15)>0,"X","") | BS15: =IF(COUNTIF('Trainingsschema 20262027'!I$77:I$96,$A15)>0,"X","") | ... CD15: =IF(COUNTIF('Trainingsschema 20262027'!T$77:T$96,$A15)>0,"X","") | CF15: =IF(COUNTIF('Trainingsschema 20262027'!B$100:B$118,$A15)>0,"X","") | CG15: =IF(COUNTIF('Trainingsschema 20262027'!C$100:C$118,$A15)>0,"X","") | CH15: =IF(COUNTIF('Trainingsschema 20262027'!D$100:D$118,$A15)>0,"X","") | CI15: =IF(COUNTIF('Trainingsschema 20262027'!E$100:E$118,$A15)>0,"X","") | CJ15: =IF(COUNTIF('Trainingsschema 20262027'!F$100:F$118,$A15)>0,"X","") | CK15: =IF(COUNTIF('Trainingsschema 20262027'!G$100:G$118,$A15)>0,"X","") | CL15: =IF(COUNTIF('Trainingsschema 20262027'!H$100:H$118,$A15)>0,"X","") | CM15: =IF(COUNTIF('Trainingsschema 20262027'!I$100:I$118,$A15)>0,"X","") | ... CX15: =IF(COUNTIF('Trainingsschema 20262027'!T$100:T$118,$A15)>0,"X","") | CZ15: =COUNTIF(D15:CX15,"X") -> 2 | DA15: =COUNTIF(X15:AF15,"X")+COUNTIF(AR15:AZ15,"X")+COUNTIF(BL15:BT15,"X")+COUNTIF(CF15:CN15,"X")+COUNTIF(D15:L15,"X") -> 1 | DB15: Dezelfde tijd en dag
A16: JO10-5 | D16: =IF(COUNTIF('Trainingsschema 20262027'!B$6:B$26,$A16)>0,"X","") | E16: =IF(COUNTIF('Trainingsschema 20262027'!C$6:C$26,$A16)>0,"X","") | F16: =IF(COUNTIF('Trainingsschema 20262027'!D$6:D$26,$A16)>0,"X","") | G16: =IF(COUNTIF('Trainingsschema 20262027'!E$6:E$26,$A16)>0,"X","") | H16: =IF(COUNTIF('Trainingsschema 20262027'!F$6:F$26,$A16)>0,"X","") | I16: =IF(COUNTIF('Trainingsschema 20262027'!G$6:G$26,$A16)>0,"X","") | J16: =IF(COUNTIF('Trainingsschema 20262027'!H$6:H$26,$A16)>0,"X","") | K16: =IF(COUNTIF('Trainingsschema 20262027'!I$6:I$25,$A16)>0,"X","") | L16: =IF(COUNTIF('Trainingsschema 20262027'!J$6:J$25,$A16)>0,"X","") | M16: =IF(COUNTIF('Trainingsschema 20262027'!K$6:K$26,$A16)>0,"X","") | N16: =IF(COUNTIF('Trainingsschema 20262027'!L$6:L$20,$A16)>0,"X","") | O16: =IF(COUNTIF('Trainingsschema 20262027'!M$6:M$20,$A16)>0,"X","") | P16: =IF(COUNTIF('Trainingsschema 20262027'!N$6:N$25,$A16)>0,"X","") | Q16: =IF(COUNTIF('Trainingsschema 20262027'!O$6:O$25,$A16)>0,"X","") | R16: =IF(COUNTIF('Trainingsschema 20262027'!P$6:P$26,$A16)>0,"X","") | S16: =IF(COUNTIF('Trainingsschema 20262027'!Q$6:Q$26,$A16)>0,"X","") | T16: =IF(COUNTIF('Trainingsschema 20262027'!R$6:R$26,$A16)>0,"X","") | U16: =IF(COUNTIF('Trainingsschema 20262027'!S$6:S$26,$A16)>0,"X","") | V16: =IF(COUNTIF('Trainingsschema 20262027'!T$6:T$26,$A16)>0,"X","") | X16: =IF(COUNTIF('Trainingsschema 20262027'!B$30:B$49,$A16)>0,"X","") | Y16: =IF(COUNTIF('Trainingsschema 20262027'!C$30:C$49,$A16)>0,"X","") | Z16: =IF(COUNTIF('Trainingsschema 20262027'!D$30:D$49,$A16)>0,"X","") | AA16: =IF(COUNTIF('Trainingsschema 20262027'!E$30:E$49,$A16)>0,"X","") | AB16: =IF(COUNTIF('Trainingsschema 20262027'!F$30:F$49,$A16)>0,"X","") | AC16: =IF(COUNTIF('Trainingsschema 20262027'!G$30:G$49,$A16)>0,"X","") | AD16: =IF(COUNTIF('Trainingsschema 20262027'!H$30:H$49,$A16)>0,"X","") | AE16: =IF(COUNTIF('Trainingsschema 20262027'!I$30:I$49,$A16)>0,"X","") | ... AP16: =IF(COUNTIF('Trainingsschema 20262027'!T$30:T$49,$A16)>0,"X","") | AR16: =IF(COUNTIF('Trainingsschema 20262027'!B$53:B$73,$A16)>0,"X","") | AS16: =IF(COUNTIF('Trainingsschema 20262027'!C$53:C$73,$A16)>0,"X","") | AT16: =IF(COUNTIF('Trainingsschema 20262027'!D$53:D$73,$A16)>0,"X","") | AU16: =IF(COUNTIF('Trainingsschema 20262027'!E$53:E$73,$A16)>0,"X","") | AV16: =IF(COUNTIF('Trainingsschema 20262027'!F$53:F$73,$A16)>0,"X","") | AW16: =IF(COUNTIF('Trainingsschema 20262027'!G$53:G$73,$A16)>0,"X","") | AX16: =IF(COUNTIF('Trainingsschema 20262027'!H$53:H$73,$A16)>0,"X","") | AY16: =IF(COUNTIF('Trainingsschema 20262027'!I$53:I$73,$A16)>0,"X","") | AZ16: =IF(COUNTIF('Trainingsschema 20262027'!J$53:J$73,$A16)>0,"X","") | BA16: =IF(COUNTIF('Trainingsschema 20262027'!K$54:K$73,$A16)>0,"X","") | BB16: =IF(COUNTIF('Trainingsschema 20262027'!L$53:L$73,$A16)>0,"X","") | BC16: =IF(COUNTIF('Trainingsschema 20262027'!M$53:M$73,$A16)>0,"X","") | BD16: =IF(COUNTIF('Trainingsschema 20262027'!N$53:N$73,$A16)>0,"X","") | BE16: =IF(COUNTIF('Trainingsschema 20262027'!O$53:O$73,$A16)>0,"X","") | BF16: =IF(COUNTIF('Trainingsschema 20262027'!P$54:P$73,$A16)>0,"X","") | BG16: =IF(COUNTIF('Trainingsschema 20262027'!Q$53:Q$73,$A16)>0,"X","") | BH16: =IF(COUNTIF('Trainingsschema 20262027'!R$53:R$73,$A16)>0,"X","") | BI16: =IF(COUNTIF('Trainingsschema 20262027'!S$53:S$73,$A16)>0,"X","") | BJ16: =IF(COUNTIF('Trainingsschema 20262027'!T$53:T$73,$A16)>0,"X","") | BL16: =IF(COUNTIF('Trainingsschema 20262027'!B$77:B$96,$A16)>0,"X","") | BM16: =IF(COUNTIF('Trainingsschema 20262027'!C$77:C$96,$A16)>0,"X","") | BN16: =IF(COUNTIF('Trainingsschema 20262027'!D$77:D$96,$A16)>0,"X","") | BO16: =IF(COUNTIF('Trainingsschema 20262027'!E$77:E$96,$A16)>0,"X","") | BP16: =IF(COUNTIF('Trainingsschema 20262027'!F$77:F$96,$A16)>0,"X","") | BQ16: =IF(COUNTIF('Trainingsschema 20262027'!G$77:G$96,$A16)>0,"X","") | BR16: =IF(COUNTIF('Trainingsschema 20262027'!H$77:H$96,$A16)>0,"X","") | BS16: =IF(COUNTIF('Trainingsschema 20262027'!I$77:I$96,$A16)>0,"X","") | ... CD16: =IF(COUNTIF('Trainingsschema 20262027'!T$77:T$96,$A16)>0,"X","") | CF16: =IF(COUNTIF('Trainingsschema 20262027'!B$100:B$118,$A16)>0,"X","") | CG16: =IF(COUNTIF('Trainingsschema 20262027'!C$100:C$118,$A16)>0,"X","") | CH16: =IF(COUNTIF('Trainingsschema 20262027'!D$100:D$118,$A16)>0,"X","") | CI16: =IF(COUNTIF('Trainingsschema 20262027'!E$100:E$118,$A16)>0,"X","") | CJ16: =IF(COUNTIF('Trainingsschema 20262027'!F$100:F$118,$A16)>0,"X","") | CK16: =IF(COUNTIF('Trainingsschema 20262027'!G$100:G$118,$A16)>0,"X","") | CL16: =IF(COUNTIF('Trainingsschema 20262027'!H$100:H$118,$A16)>0,"X","") | CM16: =IF(COUNTIF('Trainingsschema 20262027'!I$100:I$118,$A16)>0,"X","") | ... CX16: =IF(COUNTIF('Trainingsschema 20262027'!T$100:T$118,$A16)>0,"X","") | CZ16: =COUNTIF(D16:CX16,"X") -> 0 | DA16: =COUNTIF(X16:AF16,"X")+COUNTIF(AR16:AZ16,"X")+COUNTIF(BL16:BT16,"X")+COUNTIF(CF16:CN16,"X")+COUNTIF(D16:L16,"X") -> 0
A17: O11-1 | B17: JO10-1 | C17: ok | D17: =IF(COUNTIF('Trainingsschema 20262027'!B$6:B$26,$A17)>0,"X","") | E17: =IF(COUNTIF('Trainingsschema 20262027'!C$6:C$26,$A17)>0,"X","") | F17: =IF(COUNTIF('Trainingsschema 20262027'!D$6:D$26,$A17)>0,"X","") | G17: =IF(COUNTIF('Trainingsschema 20262027'!E$6:E$26,$A17)>0,"X","") | H17: =IF(COUNTIF('Trainingsschema 20262027'!F$6:F$26,$A17)>0,"X","") | I17: =IF(COUNTIF('Trainingsschema 20262027'!G$6:G$26,$A17)>0,"X","") -> X | J17: =IF(COUNTIF('Trainingsschema 20262027'!H$6:H$26,$A17)>0,"X","") | K17: =IF(COUNTIF('Trainingsschema 20262027'!I$6:I$25,$A17)>0,"X","") | L17: =IF(COUNTIF('Trainingsschema 20262027'!J$6:J$25,$A17)>0,"X","") | M17: =IF(COUNTIF('Trainingsschema 20262027'!K$6:K$26,$A17)>0,"X","") | N17: =IF(COUNTIF('Trainingsschema 20262027'!L$6:L$20,$A17)>0,"X","") | O17: =IF(COUNTIF('Trainingsschema 20262027'!M$6:M$20,$A17)>0,"X","") | P17: =IF(COUNTIF('Trainingsschema 20262027'!N$6:N$25,$A17)>0,"X","") | Q17: =IF(COUNTIF('Trainingsschema 20262027'!O$6:O$25,$A17)>0,"X","") | R17: =IF(COUNTIF('Trainingsschema 20262027'!P$6:P$26,$A17)>0,"X","") | S17: =IF(COUNTIF('Trainingsschema 20262027'!Q$6:Q$26,$A17)>0,"X","") | T17: =IF(COUNTIF('Trainingsschema 20262027'!R$6:R$26,$A17)>0,"X","") | U17: =IF(COUNTIF('Trainingsschema 20262027'!S$6:S$26,$A17)>0,"X","") | V17: =IF(COUNTIF('Trainingsschema 20262027'!T$6:T$26,$A17)>0,"X","") | X17: =IF(COUNTIF('Trainingsschema 20262027'!B$30:B$49,$A17)>0,"X","") | Y17: =IF(COUNTIF('Trainingsschema 20262027'!C$30:C$49,$A17)>0,"X","") | Z17: =IF(COUNTIF('Trainingsschema 20262027'!D$30:D$49,$A17)>0,"X","") | AA17: =IF(COUNTIF('Trainingsschema 20262027'!E$30:E$49,$A17)>0,"X","") | AB17: =IF(COUNTIF('Trainingsschema 20262027'!F$30:F$49,$A17)>0,"X","") | AC17: =IF(COUNTIF('Trainingsschema 20262027'!G$30:G$49,$A17)>0,"X","") | AD17: =IF(COUNTIF('Trainingsschema 20262027'!H$30:H$49,$A17)>0,"X","") | AE17: =IF(COUNTIF('Trainingsschema 20262027'!I$30:I$49,$A17)>0,"X","") | ... AP17: =IF(COUNTIF('Trainingsschema 20262027'!T$30:T$49,$A17)>0,"X","") | AR17: =IF(COUNTIF('Trainingsschema 20262027'!B$53:B$73,$A17)>0,"X","") -> X | AS17: =IF(COUNTIF('Trainingsschema 20262027'!C$53:C$73,$A17)>0,"X","") | AT17: =IF(COUNTIF('Trainingsschema 20262027'!D$53:D$73,$A17)>0,"X","") | AU17: =IF(COUNTIF('Trainingsschema 20262027'!E$53:E$73,$A17)>0,"X","") | AV17: =IF(COUNTIF('Trainingsschema 20262027'!F$53:F$73,$A17)>0,"X","") | AW17: =IF(COUNTIF('Trainingsschema 20262027'!G$53:G$73,$A17)>0,"X","") | AX17: =IF(COUNTIF('Trainingsschema 20262027'!H$53:H$73,$A17)>0,"X","") | AY17: =IF(COUNTIF('Trainingsschema 20262027'!I$53:I$73,$A17)>0,"X","") | AZ17: =IF(COUNTIF('Trainingsschema 20262027'!J$53:J$73,$A17)>0,"X","") | BA17: =IF(COUNTIF('Trainingsschema 20262027'!K$54:K$73,$A17)>0,"X","") | BB17: =IF(COUNTIF('Trainingsschema 20262027'!L$53:L$73,$A17)>0,"X","") | BC17: =IF(COUNTIF('Trainingsschema 20262027'!M$53:M$73,$A17)>0,"X","") | BD17: =IF(COUNTIF('Trainingsschema 20262027'!N$53:N$73,$A17)>0,"X","") | BE17: =IF(COUNTIF('Trainingsschema 20262027'!O$53:O$73,$A17)>0,"X","") | BF17: =IF(COUNTIF('Trainingsschema 20262027'!P$54:P$73,$A17)>0,"X","") | BG17: =IF(COUNTIF('Trainingsschema 20262027'!Q$53:Q$73,$A17)>0,"X","") | BH17: =IF(COUNTIF('Trainingsschema 20262027'!R$53:R$73,$A17)>0,"X","") | BI17: =IF(COUNTIF('Trainingsschema 20262027'!S$53:S$73,$A17)>0,"X","") | BJ17: =IF(COUNTIF('Trainingsschema 20262027'!T$53:T$73,$A17)>0,"X","") | BL17: =IF(COUNTIF('Trainingsschema 20262027'!B$77:B$96,$A17)>0,"X","") | BM17: =IF(COUNTIF('Trainingsschema 20262027'!C$77:C$96,$A17)>0,"X","") | BN17: =IF(COUNTIF('Trainingsschema 20262027'!D$77:D$96,$A17)>0,"X","") | BO17: =IF(COUNTIF('Trainingsschema 20262027'!E$77:E$96,$A17)>0,"X","") | BP17: =IF(COUNTIF('Trainingsschema 20262027'!F$77:F$96,$A17)>0,"X","") | BQ17: =IF(COUNTIF('Trainingsschema 20262027'!G$77:G$96,$A17)>0,"X","") | BR17: =IF(COUNTIF('Trainingsschema 20262027'!H$77:H$96,$A17)>0,"X","") | BS17: =IF(COUNTIF('Trainingsschema 20262027'!I$77:I$96,$A17)>0,"X","") | ... CD17: =IF(COUNTIF('Trainingsschema 20262027'!T$77:T$96,$A17)>0,"X","") | CF17: =IF(COUNTIF('Trainingsschema 20262027'!B$100:B$118,$A17)>0,"X","") | CG17: =IF(COUNTIF('Trainingsschema 20262027'!C$100:C$118,$A17)>0,"X","") | CH17: =IF(COUNTIF('Trainingsschema 20262027'!D$100:D$118,$A17)>0,"X","") | CI17: =IF(COUNTIF('Trainingsschema 20262027'!E$100:E$118,$A17)>0,"X","") | CJ17: =IF(COUNTIF('Trainingsschema 20262027'!F$100:F$118,$A17)>0,"X","") | CK17: =IF(COUNTIF('Trainingsschema 20262027'!G$100:G$118,$A17)>0,"X","") | CL17: =IF(COUNTIF('Trainingsschema 20262027'!H$100:H$118,$A17)>0,"X","") | CM17: =IF(COUNTIF('Trainingsschema 20262027'!I$100:I$118,$A17)>0,"X","") | ... CX17: =IF(COUNTIF('Trainingsschema 20262027'!T$100:T$118,$A17)>0,"X","") | CZ17: =COUNTIF(D17:CX17,"X") -> 3 | DA17: =COUNTIF(X17:AF17,"X")+COUNTIF(AR17:AZ17,"X")+COUNTIF(BL17:BT17,"X")+COUNTIF(CF17:CN17,"X")+COUNTIF(D17:L17,"X") -> 2
A18: O11-2 | B18: JO10-2 | C18: ok | D18: =IF(COUNTIF('Trainingsschema 20262027'!B$6:B$26,$A18)>0,"X","") | E18: =IF(COUNTIF('Trainingsschema 20262027'!C$6:C$26,$A18)>0,"X","") | F18: =IF(COUNTIF('Trainingsschema 20262027'!D$6:D$26,$A18)>0,"X","") | G18: =IF(COUNTIF('Trainingsschema 20262027'!E$6:E$26,$A18)>0,"X","") | H18: =IF(COUNTIF('Trainingsschema 20262027'!F$6:F$26,$A18)>0,"X","") | I18: =IF(COUNTIF('Trainingsschema 20262027'!G$6:G$26,$A18)>0,"X","") | J18: =IF(COUNTIF('Trainingsschema 20262027'!H$6:H$26,$A18)>0,"X","") | K18: =IF(COUNTIF('Trainingsschema 20262027'!I$6:I$25,$A18)>0,"X","") | L18: =IF(COUNTIF('Trainingsschema 20262027'!J$6:J$25,$A18)>0,"X","") | M18: =IF(COUNTIF('Trainingsschema 20262027'!K$6:K$26,$A18)>0,"X","") | N18: =IF(COUNTIF('Trainingsschema 20262027'!L$6:L$20,$A18)>0,"X","") | O18: =IF(COUNTIF('Trainingsschema 20262027'!M$6:M$20,$A18)>0,"X","") | P18: =IF(COUNTIF('Trainingsschema 20262027'!N$6:N$25,$A18)>0,"X","") | Q18: =IF(COUNTIF('Trainingsschema 20262027'!O$6:O$25,$A18)>0,"X","") | R18: =IF(COUNTIF('Trainingsschema 20262027'!P$6:P$26,$A18)>0,"X","") | S18: =IF(COUNTIF('Trainingsschema 20262027'!Q$6:Q$26,$A18)>0,"X","") | T18: =IF(COUNTIF('Trainingsschema 20262027'!R$6:R$26,$A18)>0,"X","") | U18: =IF(COUNTIF('Trainingsschema 20262027'!S$6:S$26,$A18)>0,"X","") | V18: =IF(COUNTIF('Trainingsschema 20262027'!T$6:T$26,$A18)>0,"X","") | X18: =IF(COUNTIF('Trainingsschema 20262027'!B$30:B$49,$A18)>0,"X","") | Y18: =IF(COUNTIF('Trainingsschema 20262027'!C$30:C$49,$A18)>0,"X","") | Z18: =IF(COUNTIF('Trainingsschema 20262027'!D$30:D$49,$A18)>0,"X","") | AA18: =IF(COUNTIF('Trainingsschema 20262027'!E$30:E$49,$A18)>0,"X","") -> X | AB18: =IF(COUNTIF('Trainingsschema 20262027'!F$30:F$49,$A18)>0,"X","") | AC18: =IF(COUNTIF('Trainingsschema 20262027'!G$30:G$49,$A18)>0,"X","") | AD18: =IF(COUNTIF('Trainingsschema 20262027'!H$30:H$49,$A18)>0,"X","") | AE18: =IF(COUNTIF('Trainingsschema 20262027'!I$30:I$49,$A18)>0,"X","") | ... AP18: =IF(COUNTIF('Trainingsschema 20262027'!T$30:T$49,$A18)>0,"X","") | AR18: =IF(COUNTIF('Trainingsschema 20262027'!B$53:B$73,$A18)>0,"X","") | AS18: =IF(COUNTIF('Trainingsschema 20262027'!C$53:C$73,$A18)>0,"X","") | AT18: =IF(COUNTIF('Trainingsschema 20262027'!D$53:D$73,$A18)>0,"X","") | AU18: =IF(COUNTIF('Trainingsschema 20262027'!E$53:E$73,$A18)>0,"X","") | AV18: =IF(COUNTIF('Trainingsschema 20262027'!F$53:F$73,$A18)>0,"X","") | AW18: =IF(COUNTIF('Trainingsschema 20262027'!G$53:G$73,$A18)>0,"X","") | AX18: =IF(COUNTIF('Trainingsschema 20262027'!H$53:H$73,$A18)>0,"X","") | AY18: =IF(COUNTIF('Trainingsschema 20262027'!I$53:I$73,$A18)>0,"X","") | AZ18: =IF(COUNTIF('Trainingsschema 20262027'!J$53:J$73,$A18)>0,"X","") | BA18: =IF(COUNTIF('Trainingsschema 20262027'!K$54:K$73,$A18)>0,"X","") | BB18: =IF(COUNTIF('Trainingsschema 20262027'!L$53:L$73,$A18)>0,"X","") | BC18: =IF(COUNTIF('Trainingsschema 20262027'!M$53:M$73,$A18)>0,"X","") | BD18: =IF(COUNTIF('Trainingsschema 20262027'!N$53:N$73,$A18)>0,"X","") | BE18: =IF(COUNTIF('Trainingsschema 20262027'!O$53:O$73,$A18)>0,"X","") | BF18: =IF(COUNTIF('Trainingsschema 20262027'!P$54:P$73,$A18)>0,"X","") | BG18: =IF(COUNTIF('Trainingsschema 20262027'!Q$53:Q$73,$A18)>0,"X","") | BH18: =IF(COUNTIF('Trainingsschema 20262027'!R$53:R$73,$A18)>0,"X","") | BI18: =IF(COUNTIF('Trainingsschema 20262027'!S$53:S$73,$A18)>0,"X","") | BJ18: =IF(COUNTIF('Trainingsschema 20262027'!T$53:T$73,$A18)>0,"X","") | BL18: =IF(COUNTIF('Trainingsschema 20262027'!B$77:B$96,$A18)>0,"X","") | BM18: =IF(COUNTIF('Trainingsschema 20262027'!C$77:C$96,$A18)>0,"X","") | BN18: =IF(COUNTIF('Trainingsschema 20262027'!D$77:D$96,$A18)>0,"X","") | BO18: =IF(COUNTIF('Trainingsschema 20262027'!E$77:E$96,$A18)>0,"X","") | BP18: =IF(COUNTIF('Trainingsschema 20262027'!F$77:F$96,$A18)>0,"X","") | BQ18: =IF(COUNTIF('Trainingsschema 20262027'!G$77:G$96,$A18)>0,"X","") | BR18: =IF(COUNTIF('Trainingsschema 20262027'!H$77:H$96,$A18)>0,"X","") | BS18: =IF(COUNTIF('Trainingsschema 20262027'!I$77:I$96,$A18)>0,"X","") | ... CD18: =IF(COUNTIF('Trainingsschema 20262027'!T$77:T$96,$A18)>0,"X","") | CF18: =IF(COUNTIF('Trainingsschema 20262027'!B$100:B$118,$A18)>0,"X","") | CG18: =IF(COUNTIF('Trainingsschema 20262027'!C$100:C$118,$A18)>0,"X","") | CH18: =IF(COUNTIF('Trainingsschema 20262027'!D$100:D$118,$A18)>0,"X","") | CI18: =IF(COUNTIF('Trainingsschema 20262027'!E$100:E$118,$A18)>0,"X","") | CJ18: =IF(COUNTIF('Trainingsschema 20262027'!F$100:F$118,$A18)>0,"X","") | CK18: =IF(COUNTIF('Trainingsschema 20262027'!G$100:G$118,$A18)>0,"X","") | CL18: =IF(COUNTIF('Trainingsschema 20262027'!H$100:H$118,$A18)>0,"X","") | CM18: =IF(COUNTIF('Trainingsschema 20262027'!I$100:I$118,$A18)>0,"X","") | ... CX18: =IF(COUNTIF('Trainingsschema 20262027'!T$100:T$118,$A18)>0,"X","") | CZ18: =COUNTIF(D18:CX18,"X") -> 2 | DA18: =COUNTIF(X18:AF18,"X")+COUNTIF(AR18:AZ18,"X")+COUNTIF(BL18:BT18,"X")+COUNTIF(CF18:CN18,"X")+COUNTIF(D18:L18,"X") -> 1 | DB18: di + do 17:30 t/m 18:45
A19: O11-3 | B19: JO10-3 | C19: ok | D19: =IF(COUNTIF('Trainingsschema 20262027'!B$6:B$26,$A19)>0,"X","") | E19: =IF(COUNTIF('Trainingsschema 20262027'!C$6:C$26,$A19)>0,"X","") | F19: =IF(COUNTIF('Trainingsschema 20262027'!D$6:D$26,$A19)>0,"X","") | G19: =IF(COUNTIF('Trainingsschema 20262027'!E$6:E$26,$A19)>0,"X","") | H19: =IF(COUNTIF('Trainingsschema 20262027'!F$6:F$26,$A19)>0,"X","") | I19: =IF(COUNTIF('Trainingsschema 20262027'!G$6:G$26,$A19)>0,"X","") | J19: =IF(COUNTIF('Trainingsschema 20262027'!H$6:H$26,$A19)>0,"X","") | K19: =IF(COUNTIF('Trainingsschema 20262027'!I$6:I$25,$A19)>0,"X","") | L19: =IF(COUNTIF('Trainingsschema 20262027'!J$6:J$25,$A19)>0,"X","") | M19: =IF(COUNTIF('Trainingsschema 20262027'!K$6:K$26,$A19)>0,"X","") | N19: =IF(COUNTIF('Trainingsschema 20262027'!L$6:L$20,$A19)>0,"X","") | O19: =IF(COUNTIF('Trainingsschema 20262027'!M$6:M$20,$A19)>0,"X","") | P19: =IF(COUNTIF('Trainingsschema 20262027'!N$6:N$25,$A19)>0,"X","") | Q19: =IF(COUNTIF('Trainingsschema 20262027'!O$6:O$25,$A19)>0,"X","") | R19: =IF(COUNTIF('Trainingsschema 20262027'!P$6:P$26,$A19)>0,"X","") | S19: =IF(COUNTIF('Trainingsschema 20262027'!Q$6:Q$26,$A19)>0,"X","") | T19: =IF(COUNTIF('Trainingsschema 20262027'!R$6:R$26,$A19)>0,"X","") | U19: =IF(COUNTIF('Trainingsschema 20262027'!S$6:S$26,$A19)>0,"X","") | V19: =IF(COUNTIF('Trainingsschema 20262027'!T$6:T$26,$A19)>0,"X","") | X19: =IF(COUNTIF('Trainingsschema 20262027'!B$30:B$49,$A19)>0,"X","") | Y19: =IF(COUNTIF('Trainingsschema 20262027'!C$30:C$49,$A19)>0,"X","") | Z19: =IF(COUNTIF('Trainingsschema 20262027'!D$30:D$49,$A19)>0,"X","") | AA19: =IF(COUNTIF('Trainingsschema 20262027'!E$30:E$49,$A19)>0,"X","") | AB19: =IF(COUNTIF('Trainingsschema 20262027'!F$30:F$49,$A19)>0,"X","") | AC19: =IF(COUNTIF('Trainingsschema 20262027'!G$30:G$49,$A19)>0,"X","") -> X | AD19: =IF(COUNTIF('Trainingsschema 20262027'!H$30:H$49,$A19)>0,"X","") | AE19: =IF(COUNTIF('Trainingsschema 20262027'!I$30:I$49,$A19)>0,"X","") | ... AP19: =IF(COUNTIF('Trainingsschema 20262027'!T$30:T$49,$A19)>0,"X","") | AR19: =IF(COUNTIF('Trainingsschema 20262027'!B$53:B$73,$A19)>0,"X","") | AS19: =IF(COUNTIF('Trainingsschema 20262027'!C$53:C$73,$A19)>0,"X","") | AT19: =IF(COUNTIF('Trainingsschema 20262027'!D$53:D$73,$A19)>0,"X","") | AU19: =IF(COUNTIF('Trainingsschema 20262027'!E$53:E$73,$A19)>0,"X","") | AV19: =IF(COUNTIF('Trainingsschema 20262027'!F$53:F$73,$A19)>0,"X","") | AW19: =IF(COUNTIF('Trainingsschema 20262027'!G$53:G$73,$A19)>0,"X","") | AX19: =IF(COUNTIF('Trainingsschema 20262027'!H$53:H$73,$A19)>0,"X","") | AY19: =IF(COUNTIF('Trainingsschema 20262027'!I$53:I$73,$A19)>0,"X","") | AZ19: =IF(COUNTIF('Trainingsschema 20262027'!J$53:J$73,$A19)>0,"X","") | BA19: =IF(COUNTIF('Trainingsschema 20262027'!K$54:K$73,$A19)>0,"X","") | BB19: =IF(COUNTIF('Trainingsschema 20262027'!L$53:L$73,$A19)>0,"X","") | BC19: =IF(COUNTIF('Trainingsschema 20262027'!M$53:M$73,$A19)>0,"X","") | BD19: =IF(COUNTIF('Trainingsschema 20262027'!N$53:N$73,$A19)>0,"X","") | BE19: =IF(COUNTIF('Trainingsschema 20262027'!O$53:O$73,$A19)>0,"X","") | BF19: =IF(COUNTIF('Trainingsschema 20262027'!P$54:P$73,$A19)>0,"X","") | BG19: =IF(COUNTIF('Trainingsschema 20262027'!Q$53:Q$73,$A19)>0,"X","") | BH19: =IF(COUNTIF('Trainingsschema 20262027'!R$53:R$73,$A19)>0,"X","") | BI19: =IF(COUNTIF('Trainingsschema 20262027'!S$53:S$73,$A19)>0,"X","") | BJ19: =IF(COUNTIF('Trainingsschema 20262027'!T$53:T$73,$A19)>0,"X","") | BL19: =IF(COUNTIF('Trainingsschema 20262027'!B$77:B$96,$A19)>0,"X","") | BM19: =IF(COUNTIF('Trainingsschema 20262027'!C$77:C$96,$A19)>0,"X","") | BN19: =IF(COUNTIF('Trainingsschema 20262027'!D$77:D$96,$A19)>0,"X","") | BO19: =IF(COUNTIF('Trainingsschema 20262027'!E$77:E$96,$A19)>0,"X","") | BP19: =IF(COUNTIF('Trainingsschema 20262027'!F$77:F$96,$A19)>0,"X","") | BQ19: =IF(COUNTIF('Trainingsschema 20262027'!G$77:G$96,$A19)>0,"X","") | BR19: =IF(COUNTIF('Trainingsschema 20262027'!H$77:H$96,$A19)>0,"X","") | BS19: =IF(COUNTIF('Trainingsschema 20262027'!I$77:I$96,$A19)>0,"X","") | ... CD19: =IF(COUNTIF('Trainingsschema 20262027'!T$77:T$96,$A19)>0,"X","") | CF19: =IF(COUNTIF('Trainingsschema 20262027'!B$100:B$118,$A19)>0,"X","") | CG19: =IF(COUNTIF('Trainingsschema 20262027'!C$100:C$118,$A19)>0,"X","") | CH19: =IF(COUNTIF('Trainingsschema 20262027'!D$100:D$118,$A19)>0,"X","") | CI19: =IF(COUNTIF('Trainingsschema 20262027'!E$100:E$118,$A19)>0,"X","") | CJ19: =IF(COUNTIF('Trainingsschema 20262027'!F$100:F$118,$A19)>0,"X","") | CK19: =IF(COUNTIF('Trainingsschema 20262027'!G$100:G$118,$A19)>0,"X","") | CL19: =IF(COUNTIF('Trainingsschema 20262027'!H$100:H$118,$A19)>0,"X","") | CM19: =IF(COUNTIF('Trainingsschema 20262027'!I$100:I$118,$A19)>0,"X","") | ... CX19: =IF(COUNTIF('Trainingsschema 20262027'!T$100:T$118,$A19)>0,"X","") | CZ19: =COUNTIF(D19:CX19,"X") -> 2 | DA19: =COUNTIF(X19:AF19,"X")+COUNTIF(AR19:AZ19,"X")+COUNTIF(BL19:BT19,"X")+COUNTIF(CF19:CN19,"X")+COUNTIF(D19:L19,"X") -> 1 | DB19: di + do
A20: O11-4 | B20: JO10-4 | C20: ok | D20: =IF(COUNTIF('Trainingsschema 20262027'!B$6:B$26,$A20)>0,"X","") | E20: =IF(COUNTIF('Trainingsschema 20262027'!C$6:C$26,$A20)>0,"X","") | F20: =IF(COUNTIF('Trainingsschema 20262027'!D$6:D$26,$A20)>0,"X","") | G20: =IF(COUNTIF('Trainingsschema 20262027'!E$6:E$26,$A20)>0,"X","") | H20: =IF(COUNTIF('Trainingsschema 20262027'!F$6:F$26,$A20)>0,"X","") | I20: =IF(COUNTIF('Trainingsschema 20262027'!G$6:G$26,$A20)>0,"X","") | J20: =IF(COUNTIF('Trainingsschema 20262027'!H$6:H$26,$A20)>0,"X","") | K20: =IF(COUNTIF('Trainingsschema 20262027'!I$6:I$25,$A20)>0,"X","") | L20: =IF(COUNTIF('Trainingsschema 20262027'!J$6:J$25,$A20)>0,"X","") | M20: =IF(COUNTIF('Trainingsschema 20262027'!K$6:K$26,$A20)>0,"X","") | N20: =IF(COUNTIF('Trainingsschema 20262027'!L$6:L$20,$A20)>0,"X","") | O20: =IF(COUNTIF('Trainingsschema 20262027'!M$6:M$20,$A20)>0,"X","") | P20: =IF(COUNTIF('Trainingsschema 20262027'!N$6:N$25,$A20)>0,"X","") | Q20: =IF(COUNTIF('Trainingsschema 20262027'!O$6:O$25,$A20)>0,"X","") | R20: =IF(COUNTIF('Trainingsschema 20262027'!P$6:P$26,$A20)>0,"X","") | S20: =IF(COUNTIF('Trainingsschema 20262027'!Q$6:Q$26,$A20)>0,"X","") | T20: =IF(COUNTIF('Trainingsschema 20262027'!R$6:R$26,$A20)>0,"X","") | U20: =IF(COUNTIF('Trainingsschema 20262027'!S$6:S$26,$A20)>0,"X","") | V20: =IF(COUNTIF('Trainingsschema 20262027'!T$6:T$26,$A20)>0,"X","") | X20: =IF(COUNTIF('Trainingsschema 20262027'!B$30:B$49,$A20)>0,"X","") | Y20: =IF(COUNTIF('Trainingsschema 20262027'!C$30:C$49,$A20)>0,"X","") | Z20: =IF(COUNTIF('Trainingsschema 20262027'!D$30:D$49,$A20)>0,"X","") | AA20: =IF(COUNTIF('Trainingsschema 20262027'!E$30:E$49,$A20)>0,"X","") | AB20: =IF(COUNTIF('Trainingsschema 20262027'!F$30:F$49,$A20)>0,"X","") | AC20: =IF(COUNTIF('Trainingsschema 20262027'!G$30:G$49,$A20)>0,"X","") | AD20: =IF(COUNTIF('Trainingsschema 20262027'!H$30:H$49,$A20)>0,"X","") -> X | AE20: =IF(COUNTIF('Trainingsschema 20262027'!I$30:I$49,$A20)>0,"X","") | ... AP20: =IF(COUNTIF('Trainingsschema 20262027'!T$30:T$49,$A20)>0,"X","") | AR20: =IF(COUNTIF('Trainingsschema 20262027'!B$53:B$73,$A20)>0,"X","") | AS20: =IF(COUNTIF('Trainingsschema 20262027'!C$53:C$73,$A20)>0,"X","") | AT20: =IF(COUNTIF('Trainingsschema 20262027'!D$53:D$73,$A20)>0,"X","") | AU20: =IF(COUNTIF('Trainingsschema 20262027'!E$53:E$73,$A20)>0,"X","") | AV20: =IF(COUNTIF('Trainingsschema 20262027'!F$53:F$73,$A20)>0,"X","") | AW20: =IF(COUNTIF('Trainingsschema 20262027'!G$53:G$73,$A20)>0,"X","") | AX20: =IF(COUNTIF('Trainingsschema 20262027'!H$53:H$73,$A20)>0,"X","") | AY20: =IF(COUNTIF('Trainingsschema 20262027'!I$53:I$73,$A20)>0,"X","") | AZ20: =IF(COUNTIF('Trainingsschema 20262027'!J$53:J$73,$A20)>0,"X","") | BA20: =IF(COUNTIF('Trainingsschema 20262027'!K$54:K$73,$A20)>0,"X","") | BB20: =IF(COUNTIF('Trainingsschema 20262027'!L$53:L$73,$A20)>0,"X","") | BC20: =IF(COUNTIF('Trainingsschema 20262027'!M$53:M$73,$A20)>0,"X","") | BD20: =IF(COUNTIF('Trainingsschema 20262027'!N$53:N$73,$A20)>0,"X","") | BE20: =IF(COUNTIF('Trainingsschema 20262027'!O$53:O$73,$A20)>0,"X","") | BF20: =IF(COUNTIF('Trainingsschema 20262027'!P$54:P$73,$A20)>0,"X","") | BG20: =IF(COUNTIF('Trainingsschema 20262027'!Q$53:Q$73,$A20)>0,"X","") | BH20: =IF(COUNTIF('Trainingsschema 20262027'!R$53:R$73,$A20)>0,"X","") | BI20: =IF(COUNTIF('Trainingsschema 20262027'!S$53:S$73,$A20)>0,"X","") | BJ20: =IF(COUNTIF('Trainingsschema 20262027'!T$53:T$73,$A20)>0,"X","") | BL20: =IF(COUNTIF('Trainingsschema 20262027'!B$77:B$96,$A20)>0,"X","") | BM20: =IF(COUNTIF('Trainingsschema 20262027'!C$77:C$96,$A20)>0,"X","") | BN20: =IF(COUNTIF('Trainingsschema 20262027'!D$77:D$96,$A20)>0,"X","") | BO20: =IF(COUNTIF('Trainingsschema 20262027'!E$77:E$96,$A20)>0,"X","") | BP20: =IF(COUNTIF('Trainingsschema 20262027'!F$77:F$96,$A20)>0,"X","") | BQ20: =IF(COUNTIF('Trainingsschema 20262027'!G$77:G$96,$A20)>0,"X","") | BR20: =IF(COUNTIF('Trainingsschema 20262027'!H$77:H$96,$A20)>0,"X","") | BS20: =IF(COUNTIF('Trainingsschema 20262027'!I$77:I$96,$A20)>0,"X","") | ... CD20: =IF(COUNTIF('Trainingsschema 20262027'!T$77:T$96,$A20)>0,"X","") -> X | CF20: =IF(COUNTIF('Trainingsschema 20262027'!B$100:B$118,$A20)>0,"X","") | CG20: =IF(COUNTIF('Trainingsschema 20262027'!C$100:C$118,$A20)>0,"X","") | CH20: =IF(COUNTIF('Trainingsschema 20262027'!D$100:D$118,$A20)>0,"X","") | CI20: =IF(COUNTIF('Trainingsschema 20262027'!E$100:E$118,$A20)>0,"X","") | CJ20: =IF(COUNTIF('Trainingsschema 20262027'!F$100:F$118,$A20)>0,"X","") | CK20: =IF(COUNTIF('Trainingsschema 20262027'!G$100:G$118,$A20)>0,"X","") | CL20: =IF(COUNTIF('Trainingsschema 20262027'!H$100:H$118,$A20)>0,"X","") | CM20: =IF(COUNTIF('Trainingsschema 20262027'!I$100:I$118,$A20)>0,"X","") | ... CX20: =IF(COUNTIF('Trainingsschema 20262027'!T$100:T$118,$A20)>0,"X","") | CZ20: =COUNTIF(D20:CX20,"X") -> 2 | DA20: =COUNTIF(X20:AF20,"X")+COUNTIF(AR20:AZ20,"X")+COUNTIF(BL20:BT20,"X")+COUNTIF(CF20:CN20,"X")+COUNTIF(D20:L20,"X") -> 1 | DB20: di + do
A21: JO11-5 | B21: JO10-5 | C21: ok | D21: =IF(COUNTIF('Trainingsschema 20262027'!B$6:B$26,$A21)>0,"X","") | E21: =IF(COUNTIF('Trainingsschema 20262027'!C$6:C$26,$A21)>0,"X","") | F21: =IF(COUNTIF('Trainingsschema 20262027'!D$6:D$26,$A21)>0,"X","") | G21: =IF(COUNTIF('Trainingsschema 20262027'!E$6:E$26,$A21)>0,"X","") | H21: =IF(COUNTIF('Trainingsschema 20262027'!F$6:F$26,$A21)>0,"X","") | I21: =IF(COUNTIF('Trainingsschema 20262027'!G$6:G$26,$A21)>0,"X","") | J21: =IF(COUNTIF('Trainingsschema 20262027'!H$6:H$26,$A21)>0,"X","") | K21: =IF(COUNTIF('Trainingsschema 20262027'!I$6:I$25,$A21)>0,"X","") | L21: =IF(COUNTIF('Trainingsschema 20262027'!J$6:J$25,$A21)>0,"X","") | M21: =IF(COUNTIF('Trainingsschema 20262027'!K$6:K$26,$A21)>0,"X","") | N21: =IF(COUNTIF('Trainingsschema 20262027'!L$6:L$20,$A21)>0,"X","") | O21: =IF(COUNTIF('Trainingsschema 20262027'!M$6:M$20,$A21)>0,"X","") | P21: =IF(COUNTIF('Trainingsschema 20262027'!N$6:N$25,$A21)>0,"X","") | Q21: =IF(COUNTIF('Trainingsschema 20262027'!O$6:O$25,$A21)>0,"X","") | R21: =IF(COUNTIF('Trainingsschema 20262027'!P$6:P$26,$A21)>0,"X","") | S21: =IF(COUNTIF('Trainingsschema 20262027'!Q$6:Q$26,$A21)>0,"X","") | T21: =IF(COUNTIF('Trainingsschema 20262027'!R$6:R$26,$A21)>0,"X","") | U21: =IF(COUNTIF('Trainingsschema 20262027'!S$6:S$26,$A21)>0,"X","") | V21: =IF(COUNTIF('Trainingsschema 20262027'!T$6:T$26,$A21)>0,"X","") | X21: =IF(COUNTIF('Trainingsschema 20262027'!B$30:B$49,$A21)>0,"X","") | Y21: =IF(COUNTIF('Trainingsschema 20262027'!C$30:C$49,$A21)>0,"X","") | Z21: =IF(COUNTIF('Trainingsschema 20262027'!D$30:D$49,$A21)>0,"X","") | AA21: =IF(COUNTIF('Trainingsschema 20262027'!E$30:E$49,$A21)>0,"X","") | AB21: =IF(COUNTIF('Trainingsschema 20262027'!F$30:F$49,$A21)>0,"X","") | AC21: =IF(COUNTIF('Trainingsschema 20262027'!G$30:G$49,$A21)>0,"X","") | AD21: =IF(COUNTIF('Trainingsschema 20262027'!H$30:H$49,$A21)>0,"X","") | AE21: =IF(COUNTIF('Trainingsschema 20262027'!I$30:I$49,$A21)>0,"X","") | ... AP21: =IF(COUNTIF('Trainingsschema 20262027'!T$30:T$49,$A21)>0,"X","") | AR21: =IF(COUNTIF('Trainingsschema 20262027'!B$53:B$73,$A21)>0,"X","") | AS21: =IF(COUNTIF('Trainingsschema 20262027'!C$53:C$73,$A21)>0,"X","") | AT21: =IF(COUNTIF('Trainingsschema 20262027'!D$53:D$73,$A21)>0,"X","") | AU21: =IF(COUNTIF('Trainingsschema 20262027'!E$53:E$73,$A21)>0,"X","") | AV21: =IF(COUNTIF('Trainingsschema 20262027'!F$53:F$73,$A21)>0,"X","") | AW21: =IF(COUNTIF('Trainingsschema 20262027'!G$53:G$73,$A21)>0,"X","") | AX21: =IF(COUNTIF('Trainingsschema 20262027'!H$53:H$73,$A21)>0,"X","") | AY21: =IF(COUNTIF('Trainingsschema 20262027'!I$53:I$73,$A21)>0,"X","") | AZ21: =IF(COUNTIF('Trainingsschema 20262027'!J$53:J$73,$A21)>0,"X","") | BA21: =IF(COUNTIF('Trainingsschema 20262027'!K$54:K$73,$A21)>0,"X","") | BB21: =IF(COUNTIF('Trainingsschema 20262027'!L$53:L$73,$A21)>0,"X","") | BC21: =IF(COUNTIF('Trainingsschema 20262027'!M$53:M$73,$A21)>0,"X","") | BD21: =IF(COUNTIF('Trainingsschema 20262027'!N$53:N$73,$A21)>0,"X","") | BE21: =IF(COUNTIF('Trainingsschema 20262027'!O$53:O$73,$A21)>0,"X","") | BF21: =IF(COUNTIF('Trainingsschema 20262027'!P$54:P$73,$A21)>0,"X","") | BG21: =IF(COUNTIF('Trainingsschema 20262027'!Q$53:Q$73,$A21)>0,"X","") | BH21: =IF(COUNTIF('Trainingsschema 20262027'!R$53:R$73,$A21)>0,"X","") | BI21: =IF(COUNTIF('Trainingsschema 20262027'!S$53:S$73,$A21)>0,"X","") | BJ21: =IF(COUNTIF('Trainingsschema 20262027'!T$53:T$73,$A21)>0,"X","") | BL21: =IF(COUNTIF('Trainingsschema 20262027'!B$77:B$96,$A21)>0,"X","") | BM21: =IF(COUNTIF('Trainingsschema 20262027'!C$77:C$96,$A21)>0,"X","") | BN21: =IF(COUNTIF('Trainingsschema 20262027'!D$77:D$96,$A21)>0,"X","") | BO21: =IF(COUNTIF('Trainingsschema 20262027'!E$77:E$96,$A21)>0,"X","") | BP21: =IF(COUNTIF('Trainingsschema 20262027'!F$77:F$96,$A21)>0,"X","") | BQ21: =IF(COUNTIF('Trainingsschema 20262027'!G$77:G$96,$A21)>0,"X","") | BR21: =IF(COUNTIF('Trainingsschema 20262027'!H$77:H$96,$A21)>0,"X","") | BS21: =IF(COUNTIF('Trainingsschema 20262027'!I$77:I$96,$A21)>0,"X","") | ... CD21: =IF(COUNTIF('Trainingsschema 20262027'!T$77:T$96,$A21)>0,"X","") | CF21: =IF(COUNTIF('Trainingsschema 20262027'!B$100:B$118,$A21)>0,"X","") | CG21: =IF(COUNTIF('Trainingsschema 20262027'!C$100:C$118,$A21)>0,"X","") | CH21: =IF(COUNTIF('Trainingsschema 20262027'!D$100:D$118,$A21)>0,"X","") | CI21: =IF(COUNTIF('Trainingsschema 20262027'!E$100:E$118,$A21)>0,"X","") | CJ21: =IF(COUNTIF('Trainingsschema 20262027'!F$100:F$118,$A21)>0,"X","") | CK21: =IF(COUNTIF('Trainingsschema 20262027'!G$100:G$118,$A21)>0,"X","") | CL21: =IF(COUNTIF('Trainingsschema 20262027'!H$100:H$118,$A21)>0,"X","") | CM21: =IF(COUNTIF('Trainingsschema 20262027'!I$100:I$118,$A21)>0,"X","") | ... CX21: =IF(COUNTIF('Trainingsschema 20262027'!T$100:T$118,$A21)>0,"X","") | CZ21: =COUNTIF(D21:CX21,"X") -> 0 | DA21: =COUNTIF(X21:AF21,"X")+COUNTIF(AR21:AZ21,"X")+COUNTIF(BL21:BT21,"X")+COUNTIF(CF21:CN21,"X")+COUNTIF(D21:L21,"X") -> 0
A22: JO11-6 | C22: ok | D22: =IF(COUNTIF('Trainingsschema 20262027'!B$6:B$26,$A22)>0,"X","") | E22: =IF(COUNTIF('Trainingsschema 20262027'!C$6:C$26,$A22)>0,"X","") | F22: =IF(COUNTIF('Trainingsschema 20262027'!D$6:D$26,$A22)>0,"X","") | G22: =IF(COUNTIF('Trainingsschema 20262027'!E$6:E$26,$A22)>0,"X","") | H22: =IF(COUNTIF('Trainingsschema 20262027'!F$6:F$26,$A22)>0,"X","") | I22: =IF(COUNTIF('Trainingsschema 20262027'!G$6:G$26,$A22)>0,"X","") | J22: =IF(COUNTIF('Trainingsschema 20262027'!H$6:H$26,$A22)>0,"X","") | K22: =IF(COUNTIF('Trainingsschema 20262027'!I$6:I$25,$A22)>0,"X","") | L22: =IF(COUNTIF('Trainingsschema 20262027'!J$6:J$25,$A22)>0,"X","") | M22: =IF(COUNTIF('Trainingsschema 20262027'!K$6:K$26,$A22)>0,"X","") | N22: =IF(COUNTIF('Trainingsschema 20262027'!L$6:L$20,$A22)>0,"X","") | O22: =IF(COUNTIF('Trainingsschema 20262027'!M$6:M$20,$A22)>0,"X","") | P22: =IF(COUNTIF('Trainingsschema 20262027'!N$6:N$25,$A22)>0,"X","") | Q22: =IF(COUNTIF('Trainingsschema 20262027'!O$6:O$25,$A22)>0,"X","") | R22: =IF(COUNTIF('Trainingsschema 20262027'!P$6:P$26,$A22)>0,"X","") | S22: =IF(COUNTIF('Trainingsschema 20262027'!Q$6:Q$26,$A22)>0,"X","") | T22: =IF(COUNTIF('Trainingsschema 20262027'!R$6:R$26,$A22)>0,"X","") | U22: =IF(COUNTIF('Trainingsschema 20262027'!S$6:S$26,$A22)>0,"X","") | V22: =IF(COUNTIF('Trainingsschema 20262027'!T$6:T$26,$A22)>0,"X","") | X22: =IF(COUNTIF('Trainingsschema 20262027'!B$30:B$49,$A22)>0,"X","") | Y22: =IF(COUNTIF('Trainingsschema 20262027'!C$30:C$49,$A22)>0,"X","") | Z22: =IF(COUNTIF('Trainingsschema 20262027'!D$30:D$49,$A22)>0,"X","") | AA22: =IF(COUNTIF('Trainingsschema 20262027'!E$30:E$49,$A22)>0,"X","") | AB22: =IF(COUNTIF('Trainingsschema 20262027'!F$30:F$49,$A22)>0,"X","") | AC22: =IF(COUNTIF('Trainingsschema 20262027'!G$30:G$49,$A22)>0,"X","") | AD22: =IF(COUNTIF('Trainingsschema 20262027'!H$30:H$49,$A22)>0,"X","") | AE22: =IF(COUNTIF('Trainingsschema 20262027'!I$30:I$49,$A22)>0,"X","") | ... AP22: =IF(COUNTIF('Trainingsschema 20262027'!T$30:T$49,$A22)>0,"X","") | AR22: =IF(COUNTIF('Trainingsschema 20262027'!B$53:B$73,$A22)>0,"X","") | AS22: =IF(COUNTIF('Trainingsschema 20262027'!C$53:C$73,$A22)>0,"X","") | AT22: =IF(COUNTIF('Trainingsschema 20262027'!D$53:D$73,$A22)>0,"X","") | AU22: =IF(COUNTIF('Trainingsschema 20262027'!E$53:E$73,$A22)>0,"X","") | AV22: =IF(COUNTIF('Trainingsschema 20262027'!F$53:F$73,$A22)>0,"X","") | AW22: =IF(COUNTIF('Trainingsschema 20262027'!G$53:G$73,$A22)>0,"X","") | AX22: =IF(COUNTIF('Trainingsschema 20262027'!H$53:H$73,$A22)>0,"X","") | AY22: =IF(COUNTIF('Trainingsschema 20262027'!I$53:I$73,$A22)>0,"X","") | AZ22: =IF(COUNTIF('Trainingsschema 20262027'!J$53:J$73,$A22)>0,"X","") | BA22: =IF(COUNTIF('Trainingsschema 20262027'!K$54:K$73,$A22)>0,"X","") | BB22: =IF(COUNTIF('Trainingsschema 20262027'!L$53:L$73,$A22)>0,"X","") | BC22: =IF(COUNTIF('Trainingsschema 20262027'!M$53:M$73,$A22)>0,"X","") | BD22: =IF(COUNTIF('Trainingsschema 20262027'!N$53:N$73,$A22)>0,"X","") | BE22: =IF(COUNTIF('Trainingsschema 20262027'!O$53:O$73,$A22)>0,"X","") | BF22: =IF(COUNTIF('Trainingsschema 20262027'!P$54:P$73,$A22)>0,"X","") | BG22: =IF(COUNTIF('Trainingsschema 20262027'!Q$53:Q$73,$A22)>0,"X","") | BH22: =IF(COUNTIF('Trainingsschema 20262027'!R$53:R$73,$A22)>0,"X","") | BI22: =IF(COUNTIF('Trainingsschema 20262027'!S$53:S$73,$A22)>0,"X","") | BJ22: =IF(COUNTIF('Trainingsschema 20262027'!T$53:T$73,$A22)>0,"X","") | BL22: =IF(COUNTIF('Trainingsschema 20262027'!B$77:B$96,$A22)>0,"X","") | BM22: =IF(COUNTIF('Trainingsschema 20262027'!C$77:C$96,$A22)>0,"X","") | BN22: =IF(COUNTIF('Trainingsschema 20262027'!D$77:D$96,$A22)>0,"X","") | BO22: =IF(COUNTIF('Trainingsschema 20262027'!E$77:E$96,$A22)>0,"X","") | BP22: =IF(COUNTIF('Trainingsschema 20262027'!F$77:F$96,$A22)>0,"X","") | BQ22: =IF(COUNTIF('Trainingsschema 20262027'!G$77:G$96,$A22)>0,"X","") | BR22: =IF(COUNTIF('Trainingsschema 20262027'!H$77:H$96,$A22)>0,"X","") | BS22: =IF(COUNTIF('Trainingsschema 20262027'!I$77:I$96,$A22)>0,"X","") | ... CD22: =IF(COUNTIF('Trainingsschema 20262027'!T$77:T$96,$A22)>0,"X","") | CF22: =IF(COUNTIF('Trainingsschema 20262027'!B$100:B$118,$A22)>0,"X","") | CG22: =IF(COUNTIF('Trainingsschema 20262027'!C$100:C$118,$A22)>0,"X","") | CH22: =IF(COUNTIF('Trainingsschema 20262027'!D$100:D$118,$A22)>0,"X","") | CI22: =IF(COUNTIF('Trainingsschema 20262027'!E$100:E$118,$A22)>0,"X","") | CJ22: =IF(COUNTIF('Trainingsschema 20262027'!F$100:F$118,$A22)>0,"X","") | CK22: =IF(COUNTIF('Trainingsschema 20262027'!G$100:G$118,$A22)>0,"X","") | CL22: =IF(COUNTIF('Trainingsschema 20262027'!H$100:H$118,$A22)>0,"X","") | CM22: =IF(COUNTIF('Trainingsschema 20262027'!I$100:I$118,$A22)>0,"X","") | ... CX22: =IF(COUNTIF('Trainingsschema 20262027'!T$100:T$118,$A22)>0,"X","") | CZ22: =COUNTIF(D22:CX22,"X") -> 0 | DA22: =COUNTIF(X22:AF22,"X")+COUNTIF(AR22:AZ22,"X")+COUNTIF(BL22:BT22,"X")+COUNTIF(CF22:CN22,"X")+COUNTIF(D22:L22,"X") -> 0
A23: O12-1 | B23: JO11-6 | C23: ok | D23: =IF(COUNTIF('Trainingsschema 20262027'!B$6:B$26,$A23)>0,"X","") | E23: =IF(COUNTIF('Trainingsschema 20262027'!C$6:C$26,$A23)>0,"X","") | F23: =IF(COUNTIF('Trainingsschema 20262027'!D$6:D$26,$A23)>0,"X","") | G23: =IF(COUNTIF('Trainingsschema 20262027'!E$6:E$26,$A23)>0,"X","") | H23: =IF(COUNTIF('Trainingsschema 20262027'!F$6:F$26,$A23)>0,"X","") | I23: =IF(COUNTIF('Trainingsschema 20262027'!G$6:G$26,$A23)>0,"X","") | J23: =IF(COUNTIF('Trainingsschema 20262027'!H$6:H$26,$A23)>0,"X","") | K23: =IF(COUNTIF('Trainingsschema 20262027'!I$6:I$25,$A23)>0,"X","") | L23: =IF(COUNTIF('Trainingsschema 20262027'!J$6:J$25,$A23)>0,"X","") | M23: =IF(COUNTIF('Trainingsschema 20262027'!K$6:K$26,$A23)>0,"X","") | N23: =IF(COUNTIF('Trainingsschema 20262027'!L$6:L$20,$A23)>0,"X","") | O23: =IF(COUNTIF('Trainingsschema 20262027'!M$6:M$20,$A23)>0,"X","") | P23: =IF(COUNTIF('Trainingsschema 20262027'!N$6:N$25,$A23)>0,"X","") | Q23: =IF(COUNTIF('Trainingsschema 20262027'!O$6:O$25,$A23)>0,"X","") | R23: =IF(COUNTIF('Trainingsschema 20262027'!P$6:P$26,$A23)>0,"X","") | S23: =IF(COUNTIF('Trainingsschema 20262027'!Q$6:Q$26,$A23)>0,"X","") | T23: =IF(COUNTIF('Trainingsschema 20262027'!R$6:R$26,$A23)>0,"X","") | U23: =IF(COUNTIF('Trainingsschema 20262027'!S$6:S$26,$A23)>0,"X","") | V23: =IF(COUNTIF('Trainingsschema 20262027'!T$6:T$26,$A23)>0,"X","") | X23: =IF(COUNTIF('Trainingsschema 20262027'!B$30:B$49,$A23)>0,"X","") | Y23: =IF(COUNTIF('Trainingsschema 20262027'!C$30:C$49,$A23)>0,"X","") | Z23: =IF(COUNTIF('Trainingsschema 20262027'!D$30:D$49,$A23)>0,"X","") -> X | AA23: =IF(COUNTIF('Trainingsschema 20262027'!E$30:E$49,$A23)>0,"X","") | AB23: =IF(COUNTIF('Trainingsschema 20262027'!F$30:F$49,$A23)>0,"X","") | AC23: =IF(COUNTIF('Trainingsschema 20262027'!G$30:G$49,$A23)>0,"X","") | AD23: =IF(COUNTIF('Trainingsschema 20262027'!H$30:H$49,$A23)>0,"X","") | AE23: =IF(COUNTIF('Trainingsschema 20262027'!I$30:I$49,$A23)>0,"X","") | ... AP23: =IF(COUNTIF('Trainingsschema 20262027'!T$30:T$49,$A23)>0,"X","") | AR23: =IF(COUNTIF('Trainingsschema 20262027'!B$53:B$73,$A23)>0,"X","") | AS23: =IF(COUNTIF('Trainingsschema 20262027'!C$53:C$73,$A23)>0,"X","") | AT23: =IF(COUNTIF('Trainingsschema 20262027'!D$53:D$73,$A23)>0,"X","") | AU23: =IF(COUNTIF('Trainingsschema 20262027'!E$53:E$73,$A23)>0,"X","") | AV23: =IF(COUNTIF('Trainingsschema 20262027'!F$53:F$73,$A23)>0,"X","") | AW23: =IF(COUNTIF('Trainingsschema 20262027'!G$53:G$73,$A23)>0,"X","") | AX23: =IF(COUNTIF('Trainingsschema 20262027'!H$53:H$73,$A23)>0,"X","") | AY23: =IF(COUNTIF('Trainingsschema 20262027'!I$53:I$73,$A23)>0,"X","") | AZ23: =IF(COUNTIF('Trainingsschema 20262027'!J$53:J$73,$A23)>0,"X","") | BA23: =IF(COUNTIF('Trainingsschema 20262027'!K$54:K$73,$A23)>0,"X","") | BB23: =IF(COUNTIF('Trainingsschema 20262027'!L$53:L$73,$A23)>0,"X","") | BC23: =IF(COUNTIF('Trainingsschema 20262027'!M$53:M$73,$A23)>0,"X","") | BD23: =IF(COUNTIF('Trainingsschema 20262027'!N$53:N$73,$A23)>0,"X","") | BE23: =IF(COUNTIF('Trainingsschema 20262027'!O$53:O$73,$A23)>0,"X","") | BF23: =IF(COUNTIF('Trainingsschema 20262027'!P$54:P$73,$A23)>0,"X","") | BG23: =IF(COUNTIF('Trainingsschema 20262027'!Q$53:Q$73,$A23)>0,"X","") | BH23: =IF(COUNTIF('Trainingsschema 20262027'!R$53:R$73,$A23)>0,"X","") | BI23: =IF(COUNTIF('Trainingsschema 20262027'!S$53:S$73,$A23)>0,"X","") | BJ23: =IF(COUNTIF('Trainingsschema 20262027'!T$53:T$73,$A23)>0,"X","") | BL23: =IF(COUNTIF('Trainingsschema 20262027'!B$77:B$96,$A23)>0,"X","") | BM23: =IF(COUNTIF('Trainingsschema 20262027'!C$77:C$96,$A23)>0,"X","") | BN23: =IF(COUNTIF('Trainingsschema 20262027'!D$77:D$96,$A23)>0,"X","") | BO23: =IF(COUNTIF('Trainingsschema 20262027'!E$77:E$96,$A23)>0,"X","") | BP23: =IF(COUNTIF('Trainingsschema 20262027'!F$77:F$96,$A23)>0,"X","") | BQ23: =IF(COUNTIF('Trainingsschema 20262027'!G$77:G$96,$A23)>0,"X","") | BR23: =IF(COUNTIF('Trainingsschema 20262027'!H$77:H$96,$A23)>0,"X","") | BS23: =IF(COUNTIF('Trainingsschema 20262027'!I$77:I$96,$A23)>0,"X","") | ... CD23: =IF(COUNTIF('Trainingsschema 20262027'!T$77:T$96,$A23)>0,"X","") | CF23: =IF(COUNTIF('Trainingsschema 20262027'!B$100:B$118,$A23)>0,"X","") | CG23: =IF(COUNTIF('Trainingsschema 20262027'!C$100:C$118,$A23)>0,"X","") | CH23: =IF(COUNTIF('Trainingsschema 20262027'!D$100:D$118,$A23)>0,"X","") | CI23: =IF(COUNTIF('Trainingsschema 20262027'!E$100:E$118,$A23)>0,"X","") | CJ23: =IF(COUNTIF('Trainingsschema 20262027'!F$100:F$118,$A23)>0,"X","") | CK23: =IF(COUNTIF('Trainingsschema 20262027'!G$100:G$118,$A23)>0,"X","") | CL23: =IF(COUNTIF('Trainingsschema 20262027'!H$100:H$118,$A23)>0,"X","") | CM23: =IF(COUNTIF('Trainingsschema 20262027'!I$100:I$118,$A23)>0,"X","") | ... CX23: =IF(COUNTIF('Trainingsschema 20262027'!T$100:T$118,$A23)>0,"X","") | CZ23: =COUNTIF(D23:CX23,"X") -> 2 | DA23: =COUNTIF(X23:AF23,"X")+COUNTIF(AR23:AZ23,"X")+COUNTIF(BL23:BT23,"X")+COUNTIF(CF23:CN23,"X")+COUNTIF(D23:L23,"X") -> 1 | DB23: Dinsdag - donderdag 17.30 u
A24: JO12-2 | D24: =IF(COUNTIF('Trainingsschema 20262027'!B$6:B$26,$A24)>0,"X","") | E24: =IF(COUNTIF('Trainingsschema 20262027'!C$6:C$26,$A24)>0,"X","") | F24: =IF(COUNTIF('Trainingsschema 20262027'!D$6:D$26,$A24)>0,"X","") | G24: =IF(COUNTIF('Trainingsschema 20262027'!E$6:E$26,$A24)>0,"X","") | H24: =IF(COUNTIF('Trainingsschema 20262027'!F$6:F$26,$A24)>0,"X","") | I24: =IF(COUNTIF('Trainingsschema 20262027'!G$6:G$26,$A24)>0,"X","") | J24: =IF(COUNTIF('Trainingsschema 20262027'!H$6:H$26,$A24)>0,"X","") | K24: =IF(COUNTIF('Trainingsschema 20262027'!I$6:I$25,$A24)>0,"X","") | L24: =IF(COUNTIF('Trainingsschema 20262027'!J$6:J$25,$A24)>0,"X","") | M24: =IF(COUNTIF('Trainingsschema 20262027'!K$6:K$26,$A24)>0,"X","") | N24: =IF(COUNTIF('Trainingsschema 20262027'!L$6:L$20,$A24)>0,"X","") | O24: =IF(COUNTIF('Trainingsschema 20262027'!M$6:M$20,$A24)>0,"X","") | P24: =IF(COUNTIF('Trainingsschema 20262027'!N$6:N$25,$A24)>0,"X","") | Q24: =IF(COUNTIF('Trainingsschema 20262027'!O$6:O$25,$A24)>0,"X","") | R24: =IF(COUNTIF('Trainingsschema 20262027'!P$6:P$26,$A24)>0,"X","") | S24: =IF(COUNTIF('Trainingsschema 20262027'!Q$6:Q$26,$A24)>0,"X","") | T24: =IF(COUNTIF('Trainingsschema 20262027'!R$6:R$26,$A24)>0,"X","") | U24: =IF(COUNTIF('Trainingsschema 20262027'!S$6:S$26,$A24)>0,"X","") | V24: =IF(COUNTIF('Trainingsschema 20262027'!T$6:T$26,$A24)>0,"X","") | X24: =IF(COUNTIF('Trainingsschema 20262027'!B$30:B$49,$A24)>0,"X","") | Y24: =IF(COUNTIF('Trainingsschema 20262027'!C$30:C$49,$A24)>0,"X","") | Z24: =IF(COUNTIF('Trainingsschema 20262027'!D$30:D$49,$A24)>0,"X","") | AA24: =IF(COUNTIF('Trainingsschema 20262027'!E$30:E$49,$A24)>0,"X","") | AB24: =IF(COUNTIF('Trainingsschema 20262027'!F$30:F$49,$A24)>0,"X","") | AC24: =IF(COUNTIF('Trainingsschema 20262027'!G$30:G$49,$A24)>0,"X","") | AD24: =IF(COUNTIF('Trainingsschema 20262027'!H$30:H$49,$A24)>0,"X","") | AE24: =IF(COUNTIF('Trainingsschema 20262027'!I$30:I$49,$A24)>0,"X","") | ... AP24: =IF(COUNTIF('Trainingsschema 20262027'!T$30:T$49,$A24)>0,"X","") | AR24: =IF(COUNTIF('Trainingsschema 20262027'!B$53:B$73,$A24)>0,"X","") | AS24: =IF(COUNTIF('Trainingsschema 20262027'!C$53:C$73,$A24)>0,"X","") | AT24: =IF(COUNTIF('Trainingsschema 20262027'!D$53:D$73,$A24)>0,"X","") | AU24: =IF(COUNTIF('Trainingsschema 20262027'!E$53:E$73,$A24)>0,"X","") | AV24: =IF(COUNTIF('Trainingsschema 20262027'!F$53:F$73,$A24)>0,"X","") | AW24: =IF(COUNTIF('Trainingsschema 20262027'!G$53:G$73,$A24)>0,"X","") | AX24: =IF(COUNTIF('Trainingsschema 20262027'!H$53:H$73,$A24)>0,"X","") | AY24: =IF(COUNTIF('Trainingsschema 20262027'!I$53:I$73,$A24)>0,"X","") | AZ24: =IF(COUNTIF('Trainingsschema 20262027'!J$53:J$73,$A24)>0,"X","") | BA24: =IF(COUNTIF('Trainingsschema 20262027'!K$54:K$73,$A24)>0,"X","") | BB24: =IF(COUNTIF('Trainingsschema 20262027'!L$53:L$73,$A24)>0,"X","") | BC24: =IF(COUNTIF('Trainingsschema 20262027'!M$53:M$73,$A24)>0,"X","") | BD24: =IF(COUNTIF('Trainingsschema 20262027'!N$53:N$73,$A24)>0,"X","") | BE24: =IF(COUNTIF('Trainingsschema 20262027'!O$53:O$73,$A24)>0,"X","") | BF24: =IF(COUNTIF('Trainingsschema 20262027'!P$54:P$73,$A24)>0,"X","") | BG24: =IF(COUNTIF('Trainingsschema 20262027'!Q$53:Q$73,$A24)>0,"X","") | BH24: =IF(COUNTIF('Trainingsschema 20262027'!R$53:R$73,$A24)>0,"X","") | BI24: =IF(COUNTIF('Trainingsschema 20262027'!S$53:S$73,$A24)>0,"X","") | BJ24: =IF(COUNTIF('Trainingsschema 20262027'!T$53:T$73,$A24)>0,"X","") | BL24: =IF(COUNTIF('Trainingsschema 20262027'!B$77:B$96,$A24)>0,"X","") | BM24: =IF(COUNTIF('Trainingsschema 20262027'!C$77:C$96,$A24)>0,"X","") | BN24: =IF(COUNTIF('Trainingsschema 20262027'!D$77:D$96,$A24)>0,"X","") | BO24: =IF(COUNTIF('Trainingsschema 20262027'!E$77:E$96,$A24)>0,"X","") | BP24: =IF(COUNTIF('Trainingsschema 20262027'!F$77:F$96,$A24)>0,"X","") | BQ24: =IF(COUNTIF('Trainingsschema 20262027'!G$77:G$96,$A24)>0,"X","") | BR24: =IF(COUNTIF('Trainingsschema 20262027'!H$77:H$96,$A24)>0,"X","") | BS24: =IF(COUNTIF('Trainingsschema 20262027'!I$77:I$96,$A24)>0,"X","") | ... CD24: =IF(COUNTIF('Trainingsschema 20262027'!T$77:T$96,$A24)>0,"X","") | CF24: =IF(COUNTIF('Trainingsschema 20262027'!B$100:B$118,$A24)>0,"X","") | CG24: =IF(COUNTIF('Trainingsschema 20262027'!C$100:C$118,$A24)>0,"X","") | CH24: =IF(COUNTIF('Trainingsschema 20262027'!D$100:D$118,$A24)>0,"X","") | CI24: =IF(COUNTIF('Trainingsschema 20262027'!E$100:E$118,$A24)>0,"X","") | CJ24: =IF(COUNTIF('Trainingsschema 20262027'!F$100:F$118,$A24)>0,"X","") | CK24: =IF(COUNTIF('Trainingsschema 20262027'!G$100:G$118,$A24)>0,"X","") | CL24: =IF(COUNTIF('Trainingsschema 20262027'!H$100:H$118,$A24)>0,"X","") | CM24: =IF(COUNTIF('Trainingsschema 20262027'!I$100:I$118,$A24)>0,"X","") | ... CX24: =IF(COUNTIF('Trainingsschema 20262027'!T$100:T$118,$A24)>0,"X","") | CZ24: =COUNTIF(D24:CX24,"X") -> 0 | DA24: =COUNTIF(X24:AF24,"X")+COUNTIF(AR24:AZ24,"X")+COUNTIF(BL24:BT24,"X")+COUNTIF(CF24:CN24,"X")+COUNTIF(D24:L24,"X") -> 0
A25: O13-1 | B25: JO13-1 | C25: ok | D25: =IF(COUNTIF('Trainingsschema 20262027'!B$6:B$26,$A25)>0,"X","") | E25: =IF(COUNTIF('Trainingsschema 20262027'!C$6:C$26,$A25)>0,"X","") | F25: =IF(COUNTIF('Trainingsschema 20262027'!D$6:D$26,$A25)>0,"X","") | G25: =IF(COUNTIF('Trainingsschema 20262027'!E$6:E$26,$A25)>0,"X","") | H25: =IF(COUNTIF('Trainingsschema 20262027'!F$6:F$26,$A25)>0,"X","") | I25: =IF(COUNTIF('Trainingsschema 20262027'!G$6:G$26,$A25)>0,"X","") | J25: =IF(COUNTIF('Trainingsschema 20262027'!H$6:H$26,$A25)>0,"X","") | K25: =IF(COUNTIF('Trainingsschema 20262027'!I$6:I$25,$A25)>0,"X","") -> X | L25: =IF(COUNTIF('Trainingsschema 20262027'!J$6:J$25,$A25)>0,"X","") -> X | M25: =IF(COUNTIF('Trainingsschema 20262027'!K$6:K$26,$A25)>0,"X","") | N25: =IF(COUNTIF('Trainingsschema 20262027'!L$6:L$20,$A25)>0,"X","") | O25: =IF(COUNTIF('Trainingsschema 20262027'!M$6:M$20,$A25)>0,"X","") | P25: =IF(COUNTIF('Trainingsschema 20262027'!N$6:N$25,$A25)>0,"X","") | Q25: =IF(COUNTIF('Trainingsschema 20262027'!O$6:O$25,$A25)>0,"X","") | R25: =IF(COUNTIF('Trainingsschema 20262027'!P$6:P$26,$A25)>0,"X","") | S25: =IF(COUNTIF('Trainingsschema 20262027'!Q$6:Q$26,$A25)>0,"X","") | T25: =IF(COUNTIF('Trainingsschema 20262027'!R$6:R$26,$A25)>0,"X","") | U25: =IF(COUNTIF('Trainingsschema 20262027'!S$6:S$26,$A25)>0,"X","") | V25: =IF(COUNTIF('Trainingsschema 20262027'!T$6:T$26,$A25)>0,"X","") | X25: =IF(COUNTIF('Trainingsschema 20262027'!B$30:B$49,$A25)>0,"X","") | Y25: =IF(COUNTIF('Trainingsschema 20262027'!C$30:C$49,$A25)>0,"X","") | Z25: =IF(COUNTIF('Trainingsschema 20262027'!D$30:D$49,$A25)>0,"X","") | AA25: =IF(COUNTIF('Trainingsschema 20262027'!E$30:E$49,$A25)>0,"X","") | AB25: =IF(COUNTIF('Trainingsschema 20262027'!F$30:F$49,$A25)>0,"X","") | AC25: =IF(COUNTIF('Trainingsschema 20262027'!G$30:G$49,$A25)>0,"X","") | AD25: =IF(COUNTIF('Trainingsschema 20262027'!H$30:H$49,$A25)>0,"X","") | AE25: =IF(COUNTIF('Trainingsschema 20262027'!I$30:I$49,$A25)>0,"X","") | ... AP25: =IF(COUNTIF('Trainingsschema 20262027'!T$30:T$49,$A25)>0,"X","") | AR25: =IF(COUNTIF('Trainingsschema 20262027'!B$53:B$73,$A25)>0,"X","") | AS25: =IF(COUNTIF('Trainingsschema 20262027'!C$53:C$73,$A25)>0,"X","") | AT25: =IF(COUNTIF('Trainingsschema 20262027'!D$53:D$73,$A25)>0,"X","") -> X | AU25: =IF(COUNTIF('Trainingsschema 20262027'!E$53:E$73,$A25)>0,"X","") -> X | AV25: =IF(COUNTIF('Trainingsschema 20262027'!F$53:F$73,$A25)>0,"X","") | AW25: =IF(COUNTIF('Trainingsschema 20262027'!G$53:G$73,$A25)>0,"X","") | AX25: =IF(COUNTIF('Trainingsschema 20262027'!H$53:H$73,$A25)>0,"X","") | AY25: =IF(COUNTIF('Trainingsschema 20262027'!I$53:I$73,$A25)>0,"X","") | AZ25: =IF(COUNTIF('Trainingsschema 20262027'!J$53:J$73,$A25)>0,"X","") | BA25: =IF(COUNTIF('Trainingsschema 20262027'!K$54:K$73,$A25)>0,"X","") | BB25: =IF(COUNTIF('Trainingsschema 20262027'!L$53:L$73,$A25)>0,"X","") | BC25: =IF(COUNTIF('Trainingsschema 20262027'!M$53:M$73,$A25)>0,"X","") | BD25: =IF(COUNTIF('Trainingsschema 20262027'!N$53:N$73,$A25)>0,"X","") | BE25: =IF(COUNTIF('Trainingsschema 20262027'!O$53:O$73,$A25)>0,"X","") | BF25: =IF(COUNTIF('Trainingsschema 20262027'!P$54:P$73,$A25)>0,"X","") | BG25: =IF(COUNTIF('Trainingsschema 20262027'!Q$53:Q$73,$A25)>0,"X","") | BH25: =IF(COUNTIF('Trainingsschema 20262027'!R$53:R$73,$A25)>0,"X","") | BI25: =IF(COUNTIF('Trainingsschema 20262027'!S$53:S$73,$A25)>0,"X","") | BJ25: =IF(COUNTIF('Trainingsschema 20262027'!T$53:T$73,$A25)>0,"X","") | BL25: =IF(COUNTIF('Trainingsschema 20262027'!B$77:B$96,$A25)>0,"X","") | BM25: =IF(COUNTIF('Trainingsschema 20262027'!C$77:C$96,$A25)>0,"X","") | BN25: =IF(COUNTIF('Trainingsschema 20262027'!D$77:D$96,$A25)>0,"X","") | BO25: =IF(COUNTIF('Trainingsschema 20262027'!E$77:E$96,$A25)>0,"X","") | BP25: =IF(COUNTIF('Trainingsschema 20262027'!F$77:F$96,$A25)>0,"X","") | BQ25: =IF(COUNTIF('Trainingsschema 20262027'!G$77:G$96,$A25)>0,"X","") | BR25: =IF(COUNTIF('Trainingsschema 20262027'!H$77:H$96,$A25)>0,"X","") | BS25: =IF(COUNTIF('Trainingsschema 20262027'!I$77:I$96,$A25)>0,"X","") | ... CD25: =IF(COUNTIF('Trainingsschema 20262027'!T$77:T$96,$A25)>0,"X","") | CF25: =IF(COUNTIF('Trainingsschema 20262027'!B$100:B$118,$A25)>0,"X","") | CG25: =IF(COUNTIF('Trainingsschema 20262027'!C$100:C$118,$A25)>0,"X","") | CH25: =IF(COUNTIF('Trainingsschema 20262027'!D$100:D$118,$A25)>0,"X","") -> X | CI25: =IF(COUNTIF('Trainingsschema 20262027'!E$100:E$118,$A25)>0,"X","") -> X | CJ25: =IF(COUNTIF('Trainingsschema 20262027'!F$100:F$118,$A25)>0,"X","") | CK25: =IF(COUNTIF('Trainingsschema 20262027'!G$100:G$118,$A25)>0,"X","") | CL25: =IF(COUNTIF('Trainingsschema 20262027'!H$100:H$118,$A25)>0,"X","") | CM25: =IF(COUNTIF('Trainingsschema 20262027'!I$100:I$118,$A25)>0,"X","") | ... CX25: =IF(COUNTIF('Trainingsschema 20262027'!T$100:T$118,$A25)>0,"X","") | CZ25: =COUNTIF(D25:CX25,"X") -> 6 | DA25: =COUNTIF(X25:AF25,"X")+COUNTIF(AR25:AZ25,"X")+COUNTIF(BL25:BT25,"X")+COUNTIF(CF25:CN25,"X")+COUNTIF(D25:L25,"X") -> 6
A26: O13-2 | B26: JO13-2 | C26: ok | D26: =IF(COUNTIF('Trainingsschema 20262027'!B$6:B$26,$A26)>0,"X","") | E26: =IF(COUNTIF('Trainingsschema 20262027'!C$6:C$26,$A26)>0,"X","") | F26: =IF(COUNTIF('Trainingsschema 20262027'!D$6:D$26,$A26)>0,"X","") | G26: =IF(COUNTIF('Trainingsschema 20262027'!E$6:E$26,$A26)>0,"X","") | H26: =IF(COUNTIF('Trainingsschema 20262027'!F$6:F$26,$A26)>0,"X","") | I26: =IF(COUNTIF('Trainingsschema 20262027'!G$6:G$26,$A26)>0,"X","") -> X | J26: =IF(COUNTIF('Trainingsschema 20262027'!H$6:H$26,$A26)>0,"X","") -> X | K26: =IF(COUNTIF('Trainingsschema 20262027'!I$6:I$25,$A26)>0,"X","") | L26: =IF(COUNTIF('Trainingsschema 20262027'!J$6:J$25,$A26)>0,"X","") | M26: =IF(COUNTIF('Trainingsschema 20262027'!K$6:K$26,$A26)>0,"X","") | N26: =IF(COUNTIF('Trainingsschema 20262027'!L$6:L$20,$A26)>0,"X","") | O26: =IF(COUNTIF('Trainingsschema 20262027'!M$6:M$20,$A26)>0,"X","") | P26: =IF(COUNTIF('Trainingsschema 20262027'!N$6:N$25,$A26)>0,"X","") | Q26: =IF(COUNTIF('Trainingsschema 20262027'!O$6:O$25,$A26)>0,"X","") | R26: =IF(COUNTIF('Trainingsschema 20262027'!P$6:P$26,$A26)>0,"X","") | S26: =IF(COUNTIF('Trainingsschema 20262027'!Q$6:Q$26,$A26)>0,"X","") | T26: =IF(COUNTIF('Trainingsschema 20262027'!R$6:R$26,$A26)>0,"X","") | U26: =IF(COUNTIF('Trainingsschema 20262027'!S$6:S$26,$A26)>0,"X","") | V26: =IF(COUNTIF('Trainingsschema 20262027'!T$6:T$26,$A26)>0,"X","") | X26: =IF(COUNTIF('Trainingsschema 20262027'!B$30:B$49,$A26)>0,"X","") | Y26: =IF(COUNTIF('Trainingsschema 20262027'!C$30:C$49,$A26)>0,"X","") | Z26: =IF(COUNTIF('Trainingsschema 20262027'!D$30:D$49,$A26)>0,"X","") | AA26: =IF(COUNTIF('Trainingsschema 20262027'!E$30:E$49,$A26)>0,"X","") | AB26: =IF(COUNTIF('Trainingsschema 20262027'!F$30:F$49,$A26)>0,"X","") | AC26: =IF(COUNTIF('Trainingsschema 20262027'!G$30:G$49,$A26)>0,"X","") | AD26: =IF(COUNTIF('Trainingsschema 20262027'!H$30:H$49,$A26)>0,"X","") | AE26: =IF(COUNTIF('Trainingsschema 20262027'!I$30:I$49,$A26)>0,"X","") | ... AP26: =IF(COUNTIF('Trainingsschema 20262027'!T$30:T$49,$A26)>0,"X","") | AR26: =IF(COUNTIF('Trainingsschema 20262027'!B$53:B$73,$A26)>0,"X","") -> X | AS26: =IF(COUNTIF('Trainingsschema 20262027'!C$53:C$73,$A26)>0,"X","") -> X | AT26: =IF(COUNTIF('Trainingsschema 20262027'!D$53:D$73,$A26)>0,"X","") | AU26: =IF(COUNTIF('Trainingsschema 20262027'!E$53:E$73,$A26)>0,"X","") | AV26: =IF(COUNTIF('Trainingsschema 20262027'!F$53:F$73,$A26)>0,"X","") | AW26: =IF(COUNTIF('Trainingsschema 20262027'!G$53:G$73,$A26)>0,"X","") | AX26: =IF(COUNTIF('Trainingsschema 20262027'!H$53:H$73,$A26)>0,"X","") | AY26: =IF(COUNTIF('Trainingsschema 20262027'!I$53:I$73,$A26)>0,"X","") | AZ26: =IF(COUNTIF('Trainingsschema 20262027'!J$53:J$73,$A26)>0,"X","") | BA26: =IF(COUNTIF('Trainingsschema 20262027'!K$54:K$73,$A26)>0,"X","") | BB26: =IF(COUNTIF('Trainingsschema 20262027'!L$53:L$73,$A26)>0,"X","") | BC26: =IF(COUNTIF('Trainingsschema 20262027'!M$53:M$73,$A26)>0,"X","") | BD26: =IF(COUNTIF('Trainingsschema 20262027'!N$53:N$73,$A26)>0,"X","") | BE26: =IF(COUNTIF('Trainingsschema 20262027'!O$53:O$73,$A26)>0,"X","") | BF26: =IF(COUNTIF('Trainingsschema 20262027'!P$54:P$73,$A26)>0,"X","") | BG26: =IF(COUNTIF('Trainingsschema 20262027'!Q$53:Q$73,$A26)>0,"X","") | BH26: =IF(COUNTIF('Trainingsschema 20262027'!R$53:R$73,$A26)>0,"X","") | BI26: =IF(COUNTIF('Trainingsschema 20262027'!S$53:S$73,$A26)>0,"X","") | BJ26: =IF(COUNTIF('Trainingsschema 20262027'!T$53:T$73,$A26)>0,"X","") | BL26: =IF(COUNTIF('Trainingsschema 20262027'!B$77:B$96,$A26)>0,"X","") | BM26: =IF(COUNTIF('Trainingsschema 20262027'!C$77:C$96,$A26)>0,"X","") | BN26: =IF(COUNTIF('Trainingsschema 20262027'!D$77:D$96,$A26)>0,"X","") | BO26: =IF(COUNTIF('Trainingsschema 20262027'!E$77:E$96,$A26)>0,"X","") | BP26: =IF(COUNTIF('Trainingsschema 20262027'!F$77:F$96,$A26)>0,"X","") | BQ26: =IF(COUNTIF('Trainingsschema 20262027'!G$77:G$96,$A26)>0,"X","") | BR26: =IF(COUNTIF('Trainingsschema 20262027'!H$77:H$96,$A26)>0,"X","") | BS26: =IF(COUNTIF('Trainingsschema 20262027'!I$77:I$96,$A26)>0,"X","") | ... CD26: =IF(COUNTIF('Trainingsschema 20262027'!T$77:T$96,$A26)>0,"X","") | CF26: =IF(COUNTIF('Trainingsschema 20262027'!B$100:B$118,$A26)>0,"X","") | CG26: =IF(COUNTIF('Trainingsschema 20262027'!C$100:C$118,$A26)>0,"X","") | CH26: =IF(COUNTIF('Trainingsschema 20262027'!D$100:D$118,$A26)>0,"X","") | CI26: =IF(COUNTIF('Trainingsschema 20262027'!E$100:E$118,$A26)>0,"X","") | CJ26: =IF(COUNTIF('Trainingsschema 20262027'!F$100:F$118,$A26)>0,"X","") | CK26: =IF(COUNTIF('Trainingsschema 20262027'!G$100:G$118,$A26)>0,"X","") | CL26: =IF(COUNTIF('Trainingsschema 20262027'!H$100:H$118,$A26)>0,"X","") | CM26: =IF(COUNTIF('Trainingsschema 20262027'!I$100:I$118,$A26)>0,"X","") | ... CX26: =IF(COUNTIF('Trainingsschema 20262027'!T$100:T$118,$A26)>0,"X","") | CZ26: =COUNTIF(D26:CX26,"X") -> 6 | DA26: =COUNTIF(X26:AF26,"X")+COUNTIF(AR26:AZ26,"X")+COUNTIF(BL26:BT26,"X")+COUNTIF(CF26:CN26,"X")+COUNTIF(D26:L26,"X") -> 4
A27: O13-3 | B27: JO11-2/3 | C27: ok? | D27: =IF(COUNTIF('Trainingsschema 20262027'!B$6:B$26,$A27)>0,"X","") | E27: =IF(COUNTIF('Trainingsschema 20262027'!C$6:C$26,$A27)>0,"X","") | F27: =IF(COUNTIF('Trainingsschema 20262027'!D$6:D$26,$A27)>0,"X","") -> X | G27: =IF(COUNTIF('Trainingsschema 20262027'!E$6:E$26,$A27)>0,"X","") -> X | H27: =IF(COUNTIF('Trainingsschema 20262027'!F$6:F$26,$A27)>0,"X","") | I27: =IF(COUNTIF('Trainingsschema 20262027'!G$6:G$26,$A27)>0,"X","") | J27: =IF(COUNTIF('Trainingsschema 20262027'!H$6:H$26,$A27)>0,"X","") | K27: =IF(COUNTIF('Trainingsschema 20262027'!I$6:I$25,$A27)>0,"X","") | L27: =IF(COUNTIF('Trainingsschema 20262027'!J$6:J$25,$A27)>0,"X","") | M27: =IF(COUNTIF('Trainingsschema 20262027'!K$6:K$26,$A27)>0,"X","") | N27: =IF(COUNTIF('Trainingsschema 20262027'!L$6:L$20,$A27)>0,"X","") | O27: =IF(COUNTIF('Trainingsschema 20262027'!M$6:M$20,$A27)>0,"X","") | P27: =IF(COUNTIF('Trainingsschema 20262027'!N$6:N$25,$A27)>0,"X","") | Q27: =IF(COUNTIF('Trainingsschema 20262027'!O$6:O$25,$A27)>0,"X","") | R27: =IF(COUNTIF('Trainingsschema 20262027'!P$6:P$26,$A27)>0,"X","") | S27: =IF(COUNTIF('Trainingsschema 20262027'!Q$6:Q$26,$A27)>0,"X","") | T27: =IF(COUNTIF('Trainingsschema 20262027'!R$6:R$26,$A27)>0,"X","") | U27: =IF(COUNTIF('Trainingsschema 20262027'!S$6:S$26,$A27)>0,"X","") | V27: =IF(COUNTIF('Trainingsschema 20262027'!T$6:T$26,$A27)>0,"X","") | X27: =IF(COUNTIF('Trainingsschema 20262027'!B$30:B$49,$A27)>0,"X","") | Y27: =IF(COUNTIF('Trainingsschema 20262027'!C$30:C$49,$A27)>0,"X","") | Z27: =IF(COUNTIF('Trainingsschema 20262027'!D$30:D$49,$A27)>0,"X","") | AA27: =IF(COUNTIF('Trainingsschema 20262027'!E$30:E$49,$A27)>0,"X","") | AB27: =IF(COUNTIF('Trainingsschema 20262027'!F$30:F$49,$A27)>0,"X","") | AC27: =IF(COUNTIF('Trainingsschema 20262027'!G$30:G$49,$A27)>0,"X","") | AD27: =IF(COUNTIF('Trainingsschema 20262027'!H$30:H$49,$A27)>0,"X","") | AE27: =IF(COUNTIF('Trainingsschema 20262027'!I$30:I$49,$A27)>0,"X","") | ... AP27: =IF(COUNTIF('Trainingsschema 20262027'!T$30:T$49,$A27)>0,"X","") | AR27: =IF(COUNTIF('Trainingsschema 20262027'!B$53:B$73,$A27)>0,"X","") | AS27: =IF(COUNTIF('Trainingsschema 20262027'!C$53:C$73,$A27)>0,"X","") | AT27: =IF(COUNTIF('Trainingsschema 20262027'!D$53:D$73,$A27)>0,"X","") | AU27: =IF(COUNTIF('Trainingsschema 20262027'!E$53:E$73,$A27)>0,"X","") | AV27: =IF(COUNTIF('Trainingsschema 20262027'!F$53:F$73,$A27)>0,"X","") | AW27: =IF(COUNTIF('Trainingsschema 20262027'!G$53:G$73,$A27)>0,"X","") | AX27: =IF(COUNTIF('Trainingsschema 20262027'!H$53:H$73,$A27)>0,"X","") | AY27: =IF(COUNTIF('Trainingsschema 20262027'!I$53:I$73,$A27)>0,"X","") | AZ27: =IF(COUNTIF('Trainingsschema 20262027'!J$53:J$73,$A27)>0,"X","") | BA27: =IF(COUNTIF('Trainingsschema 20262027'!K$54:K$73,$A27)>0,"X","") | BB27: =IF(COUNTIF('Trainingsschema 20262027'!L$53:L$73,$A27)>0,"X","") | BC27: =IF(COUNTIF('Trainingsschema 20262027'!M$53:M$73,$A27)>0,"X","") | BD27: =IF(COUNTIF('Trainingsschema 20262027'!N$53:N$73,$A27)>0,"X","") | BE27: =IF(COUNTIF('Trainingsschema 20262027'!O$53:O$73,$A27)>0,"X","") | BF27: =IF(COUNTIF('Trainingsschema 20262027'!P$54:P$73,$A27)>0,"X","") | BG27: =IF(COUNTIF('Trainingsschema 20262027'!Q$53:Q$73,$A27)>0,"X","") -> X | BH27: =IF(COUNTIF('Trainingsschema 20262027'!R$53:R$73,$A27)>0,"X","") -> X | BI27: =IF(COUNTIF('Trainingsschema 20262027'!S$53:S$73,$A27)>0,"X","") | BJ27: =IF(COUNTIF('Trainingsschema 20262027'!T$53:T$73,$A27)>0,"X","") | BL27: =IF(COUNTIF('Trainingsschema 20262027'!B$77:B$96,$A27)>0,"X","") | BM27: =IF(COUNTIF('Trainingsschema 20262027'!C$77:C$96,$A27)>0,"X","") | BN27: =IF(COUNTIF('Trainingsschema 20262027'!D$77:D$96,$A27)>0,"X","") | BO27: =IF(COUNTIF('Trainingsschema 20262027'!E$77:E$96,$A27)>0,"X","") | BP27: =IF(COUNTIF('Trainingsschema 20262027'!F$77:F$96,$A27)>0,"X","") | BQ27: =IF(COUNTIF('Trainingsschema 20262027'!G$77:G$96,$A27)>0,"X","") | BR27: =IF(COUNTIF('Trainingsschema 20262027'!H$77:H$96,$A27)>0,"X","") | BS27: =IF(COUNTIF('Trainingsschema 20262027'!I$77:I$96,$A27)>0,"X","") | ... CD27: =IF(COUNTIF('Trainingsschema 20262027'!T$77:T$96,$A27)>0,"X","") | CF27: =IF(COUNTIF('Trainingsschema 20262027'!B$100:B$118,$A27)>0,"X","") | CG27: =IF(COUNTIF('Trainingsschema 20262027'!C$100:C$118,$A27)>0,"X","") | CH27: =IF(COUNTIF('Trainingsschema 20262027'!D$100:D$118,$A27)>0,"X","") | CI27: =IF(COUNTIF('Trainingsschema 20262027'!E$100:E$118,$A27)>0,"X","") | CJ27: =IF(COUNTIF('Trainingsschema 20262027'!F$100:F$118,$A27)>0,"X","") | CK27: =IF(COUNTIF('Trainingsschema 20262027'!G$100:G$118,$A27)>0,"X","") | CL27: =IF(COUNTIF('Trainingsschema 20262027'!H$100:H$118,$A27)>0,"X","") | CM27: =IF(COUNTIF('Trainingsschema 20262027'!I$100:I$118,$A27)>0,"X","") | ... CX27: =IF(COUNTIF('Trainingsschema 20262027'!T$100:T$118,$A27)>0,"X","") | CZ27: =COUNTIF(D27:CX27,"X") -> 4 | DA27: =COUNTIF(X27:AF27,"X")+COUNTIF(AR27:AZ27,"X")+COUNTIF(BL27:BT27,"X")+COUNTIF(CF27:CN27,"X")+COUNTIF(D27:L27,"X") -> 2 | DB27: Ma en Di ???
A28: O13-4 | B28: JO12-1/2 | C28: ok | D28: =IF(COUNTIF('Trainingsschema 20262027'!B$6:B$26,$A28)>0,"X","") | E28: =IF(COUNTIF('Trainingsschema 20262027'!C$6:C$26,$A28)>0,"X","") | F28: =IF(COUNTIF('Trainingsschema 20262027'!D$6:D$26,$A28)>0,"X","") | G28: =IF(COUNTIF('Trainingsschema 20262027'!E$6:E$26,$A28)>0,"X","") | H28: =IF(COUNTIF('Trainingsschema 20262027'!F$6:F$26,$A28)>0,"X","") | I28: =IF(COUNTIF('Trainingsschema 20262027'!G$6:G$26,$A28)>0,"X","") | J28: =IF(COUNTIF('Trainingsschema 20262027'!H$6:H$26,$A28)>0,"X","") | K28: =IF(COUNTIF('Trainingsschema 20262027'!I$6:I$25,$A28)>0,"X","") | L28: =IF(COUNTIF('Trainingsschema 20262027'!J$6:J$25,$A28)>0,"X","") | M28: =IF(COUNTIF('Trainingsschema 20262027'!K$6:K$26,$A28)>0,"X","") | N28: =IF(COUNTIF('Trainingsschema 20262027'!L$6:L$20,$A28)>0,"X","") -> X | O28: =IF(COUNTIF('Trainingsschema 20262027'!M$6:M$20,$A28)>0,"X","") -> X | P28: =IF(COUNTIF('Trainingsschema 20262027'!N$6:N$25,$A28)>0,"X","") | Q28: =IF(COUNTIF('Trainingsschema 20262027'!O$6:O$25,$A28)>0,"X","") | R28: =IF(COUNTIF('Trainingsschema 20262027'!P$6:P$26,$A28)>0,"X","") | S28: =IF(COUNTIF('Trainingsschema 20262027'!Q$6:Q$26,$A28)>0,"X","") | T28: =IF(COUNTIF('Trainingsschema 20262027'!R$6:R$26,$A28)>0,"X","") | U28: =IF(COUNTIF('Trainingsschema 20262027'!S$6:S$26,$A28)>0,"X","") | V28: =IF(COUNTIF('Trainingsschema 20262027'!T$6:T$26,$A28)>0,"X","") | X28: =IF(COUNTIF('Trainingsschema 20262027'!B$30:B$49,$A28)>0,"X","") | Y28: =IF(COUNTIF('Trainingsschema 20262027'!C$30:C$49,$A28)>0,"X","") | Z28: =IF(COUNTIF('Trainingsschema 20262027'!D$30:D$49,$A28)>0,"X","") | AA28: =IF(COUNTIF('Trainingsschema 20262027'!E$30:E$49,$A28)>0,"X","") | AB28: =IF(COUNTIF('Trainingsschema 20262027'!F$30:F$49,$A28)>0,"X","") | AC28: =IF(COUNTIF('Trainingsschema 20262027'!G$30:G$49,$A28)>0,"X","") | AD28: =IF(COUNTIF('Trainingsschema 20262027'!H$30:H$49,$A28)>0,"X","") | AE28: =IF(COUNTIF('Trainingsschema 20262027'!I$30:I$49,$A28)>0,"X","") | ... AP28: =IF(COUNTIF('Trainingsschema 20262027'!T$30:T$49,$A28)>0,"X","") | AR28: =IF(COUNTIF('Trainingsschema 20262027'!B$53:B$73,$A28)>0,"X","") | AS28: =IF(COUNTIF('Trainingsschema 20262027'!C$53:C$73,$A28)>0,"X","") | AT28: =IF(COUNTIF('Trainingsschema 20262027'!D$53:D$73,$A28)>0,"X","") | AU28: =IF(COUNTIF('Trainingsschema 20262027'!E$53:E$73,$A28)>0,"X","") | AV28: =IF(COUNTIF('Trainingsschema 20262027'!F$53:F$73,$A28)>0,"X","") | AW28: =IF(COUNTIF('Trainingsschema 20262027'!G$53:G$73,$A28)>0,"X","") | AX28: =IF(COUNTIF('Trainingsschema 20262027'!H$53:H$73,$A28)>0,"X","") | AY28: =IF(COUNTIF('Trainingsschema 20262027'!I$53:I$73,$A28)>0,"X","") -> X | AZ28: =IF(COUNTIF('Trainingsschema 20262027'!J$53:J$73,$A28)>0,"X","") -> X | BA28: =IF(COUNTIF('Trainingsschema 20262027'!K$54:K$73,$A28)>0,"X","") | BB28: =IF(COUNTIF('Trainingsschema 20262027'!L$53:L$73,$A28)>0,"X","") | BC28: =IF(COUNTIF('Trainingsschema 20262027'!M$53:M$73,$A28)>0,"X","") | BD28: =IF(COUNTIF('Trainingsschema 20262027'!N$53:N$73,$A28)>0,"X","") | BE28: =IF(COUNTIF('Trainingsschema 20262027'!O$53:O$73,$A28)>0,"X","") | BF28: =IF(COUNTIF('Trainingsschema 20262027'!P$54:P$73,$A28)>0,"X","") | BG28: =IF(COUNTIF('Trainingsschema 20262027'!Q$53:Q$73,$A28)>0,"X","") | BH28: =IF(COUNTIF('Trainingsschema 20262027'!R$53:R$73,$A28)>0,"X","") | BI28: =IF(COUNTIF('Trainingsschema 20262027'!S$53:S$73,$A28)>0,"X","") | BJ28: =IF(COUNTIF('Trainingsschema 20262027'!T$53:T$73,$A28)>0,"X","") | BL28: =IF(COUNTIF('Trainingsschema 20262027'!B$77:B$96,$A28)>0,"X","") | BM28: =IF(COUNTIF('Trainingsschema 20262027'!C$77:C$96,$A28)>0,"X","") | BN28: =IF(COUNTIF('Trainingsschema 20262027'!D$77:D$96,$A28)>0,"X","") | BO28: =IF(COUNTIF('Trainingsschema 20262027'!E$77:E$96,$A28)>0,"X","") | BP28: =IF(COUNTIF('Trainingsschema 20262027'!F$77:F$96,$A28)>0,"X","") | BQ28: =IF(COUNTIF('Trainingsschema 20262027'!G$77:G$96,$A28)>0,"X","") | BR28: =IF(COUNTIF('Trainingsschema 20262027'!H$77:H$96,$A28)>0,"X","") | BS28: =IF(COUNTIF('Trainingsschema 20262027'!I$77:I$96,$A28)>0,"X","") | ... CD28: =IF(COUNTIF('Trainingsschema 20262027'!T$77:T$96,$A28)>0,"X","") | CF28: =IF(COUNTIF('Trainingsschema 20262027'!B$100:B$118,$A28)>0,"X","") | CG28: =IF(COUNTIF('Trainingsschema 20262027'!C$100:C$118,$A28)>0,"X","") | CH28: =IF(COUNTIF('Trainingsschema 20262027'!D$100:D$118,$A28)>0,"X","") | CI28: =IF(COUNTIF('Trainingsschema 20262027'!E$100:E$118,$A28)>0,"X","") | CJ28: =IF(COUNTIF('Trainingsschema 20262027'!F$100:F$118,$A28)>0,"X","") | CK28: =IF(COUNTIF('Trainingsschema 20262027'!G$100:G$118,$A28)>0,"X","") | CL28: =IF(COUNTIF('Trainingsschema 20262027'!H$100:H$118,$A28)>0,"X","") | CM28: =IF(COUNTIF('Trainingsschema 20262027'!I$100:I$118,$A28)>0,"X","") | ... CX28: =IF(COUNTIF('Trainingsschema 20262027'!T$100:T$118,$A28)>0,"X","") | CZ28: =COUNTIF(D28:CX28,"X") -> 4 | DA28: =COUNTIF(X28:AF28,"X")+COUNTIF(AR28:AZ28,"X")+COUNTIF(BL28:BT28,"X")+COUNTIF(CF28:CN28,"X")+COUNTIF(D28:L28,"X") -> 2 | DB28: maandag en woensdag vanaf 18.45 uur
A29: O13-5 | C29: ok | D29: =IF(COUNTIF('Trainingsschema 20262027'!B$6:B$26,$A29)>0,"X","") | E29: =IF(COUNTIF('Trainingsschema 20262027'!C$6:C$26,$A29)>0,"X","") | F29: =IF(COUNTIF('Trainingsschema 20262027'!D$6:D$26,$A29)>0,"X","") | G29: =IF(COUNTIF('Trainingsschema 20262027'!E$6:E$26,$A29)>0,"X","") | H29: =IF(COUNTIF('Trainingsschema 20262027'!F$6:F$26,$A29)>0,"X","") | I29: =IF(COUNTIF('Trainingsschema 20262027'!G$6:G$26,$A29)>0,"X","") | J29: =IF(COUNTIF('Trainingsschema 20262027'!H$6:H$26,$A29)>0,"X","") | K29: =IF(COUNTIF('Trainingsschema 20262027'!I$6:I$25,$A29)>0,"X","") | L29: =IF(COUNTIF('Trainingsschema 20262027'!J$6:J$25,$A29)>0,"X","") | M29: =IF(COUNTIF('Trainingsschema 20262027'!K$6:K$26,$A29)>0,"X","") | N29: =IF(COUNTIF('Trainingsschema 20262027'!L$6:L$20,$A29)>0,"X","") | O29: =IF(COUNTIF('Trainingsschema 20262027'!M$6:M$20,$A29)>0,"X","") | P29: =IF(COUNTIF('Trainingsschema 20262027'!N$6:N$25,$A29)>0,"X","") | Q29: =IF(COUNTIF('Trainingsschema 20262027'!O$6:O$25,$A29)>0,"X","") | R29: =IF(COUNTIF('Trainingsschema 20262027'!P$6:P$26,$A29)>0,"X","") | S29: =IF(COUNTIF('Trainingsschema 20262027'!Q$6:Q$26,$A29)>0,"X","") | T29: =IF(COUNTIF('Trainingsschema 20262027'!R$6:R$26,$A29)>0,"X","") | U29: =IF(COUNTIF('Trainingsschema 20262027'!S$6:S$26,$A29)>0,"X","") | V29: =IF(COUNTIF('Trainingsschema 20262027'!T$6:T$26,$A29)>0,"X","") | X29: =IF(COUNTIF('Trainingsschema 20262027'!B$30:B$49,$A29)>0,"X","") | Y29: =IF(COUNTIF('Trainingsschema 20262027'!C$30:C$49,$A29)>0,"X","") | Z29: =IF(COUNTIF('Trainingsschema 20262027'!D$30:D$49,$A29)>0,"X","") | AA29: =IF(COUNTIF('Trainingsschema 20262027'!E$30:E$49,$A29)>0,"X","") | AB29: =IF(COUNTIF('Trainingsschema 20262027'!F$30:F$49,$A29)>0,"X","") | AC29: =IF(COUNTIF('Trainingsschema 20262027'!G$30:G$49,$A29)>0,"X","") | AD29: =IF(COUNTIF('Trainingsschema 20262027'!H$30:H$49,$A29)>0,"X","") | AE29: =IF(COUNTIF('Trainingsschema 20262027'!I$30:I$49,$A29)>0,"X","") -> X | ... AP29: =IF(COUNTIF('Trainingsschema 20262027'!T$30:T$49,$A29)>0,"X","") | AR29: =IF(COUNTIF('Trainingsschema 20262027'!B$53:B$73,$A29)>0,"X","") | AS29: =IF(COUNTIF('Trainingsschema 20262027'!C$53:C$73,$A29)>0,"X","") | AT29: =IF(COUNTIF('Trainingsschema 20262027'!D$53:D$73,$A29)>0,"X","") | AU29: =IF(COUNTIF('Trainingsschema 20262027'!E$53:E$73,$A29)>0,"X","") | AV29: =IF(COUNTIF('Trainingsschema 20262027'!F$53:F$73,$A29)>0,"X","") | AW29: =IF(COUNTIF('Trainingsschema 20262027'!G$53:G$73,$A29)>0,"X","") | AX29: =IF(COUNTIF('Trainingsschema 20262027'!H$53:H$73,$A29)>0,"X","") | AY29: =IF(COUNTIF('Trainingsschema 20262027'!I$53:I$73,$A29)>0,"X","") | AZ29: =IF(COUNTIF('Trainingsschema 20262027'!J$53:J$73,$A29)>0,"X","") | BA29: =IF(COUNTIF('Trainingsschema 20262027'!K$54:K$73,$A29)>0,"X","") | BB29: =IF(COUNTIF('Trainingsschema 20262027'!L$53:L$73,$A29)>0,"X","") | BC29: =IF(COUNTIF('Trainingsschema 20262027'!M$53:M$73,$A29)>0,"X","") | BD29: =IF(COUNTIF('Trainingsschema 20262027'!N$53:N$73,$A29)>0,"X","") | BE29: =IF(COUNTIF('Trainingsschema 20262027'!O$53:O$73,$A29)>0,"X","") | BF29: =IF(COUNTIF('Trainingsschema 20262027'!P$54:P$73,$A29)>0,"X","") | BG29: =IF(COUNTIF('Trainingsschema 20262027'!Q$53:Q$73,$A29)>0,"X","") | BH29: =IF(COUNTIF('Trainingsschema 20262027'!R$53:R$73,$A29)>0,"X","") | BI29: =IF(COUNTIF('Trainingsschema 20262027'!S$53:S$73,$A29)>0,"X","") | BJ29: =IF(COUNTIF('Trainingsschema 20262027'!T$53:T$73,$A29)>0,"X","") | BL29: =IF(COUNTIF('Trainingsschema 20262027'!B$77:B$96,$A29)>0,"X","") | BM29: =IF(COUNTIF('Trainingsschema 20262027'!C$77:C$96,$A29)>0,"X","") | BN29: =IF(COUNTIF('Trainingsschema 20262027'!D$77:D$96,$A29)>0,"X","") | BO29: =IF(COUNTIF('Trainingsschema 20262027'!E$77:E$96,$A29)>0,"X","") | BP29: =IF(COUNTIF('Trainingsschema 20262027'!F$77:F$96,$A29)>0,"X","") | BQ29: =IF(COUNTIF('Trainingsschema 20262027'!G$77:G$96,$A29)>0,"X","") | BR29: =IF(COUNTIF('Trainingsschema 20262027'!H$77:H$96,$A29)>0,"X","") | BS29: =IF(COUNTIF('Trainingsschema 20262027'!I$77:I$96,$A29)>0,"X","") | ... CD29: =IF(COUNTIF('Trainingsschema 20262027'!T$77:T$96,$A29)>0,"X","") | CF29: =IF(COUNTIF('Trainingsschema 20262027'!B$100:B$118,$A29)>0,"X","") | CG29: =IF(COUNTIF('Trainingsschema 20262027'!C$100:C$118,$A29)>0,"X","") | CH29: =IF(COUNTIF('Trainingsschema 20262027'!D$100:D$118,$A29)>0,"X","") | CI29: =IF(COUNTIF('Trainingsschema 20262027'!E$100:E$118,$A29)>0,"X","") | CJ29: =IF(COUNTIF('Trainingsschema 20262027'!F$100:F$118,$A29)>0,"X","") | CK29: =IF(COUNTIF('Trainingsschema 20262027'!G$100:G$118,$A29)>0,"X","") | CL29: =IF(COUNTIF('Trainingsschema 20262027'!H$100:H$118,$A29)>0,"X","") | CM29: =IF(COUNTIF('Trainingsschema 20262027'!I$100:I$118,$A29)>0,"X","") | ... CX29: =IF(COUNTIF('Trainingsschema 20262027'!T$100:T$118,$A29)>0,"X","") | CZ29: =COUNTIF(D29:CX29,"X") -> 2 | DA29: =COUNTIF(X29:AF29,"X")+COUNTIF(AR29:AZ29,"X")+COUNTIF(BL29:BT29,"X")+COUNTIF(CF29:CN29,"X")+COUNTIF(D29:L29,"X") -> 2 | DB29: dinsdag - donderdag 18.30 u.
A30: O13-6 | B30: JO11-5 | C30: ok | D30: =IF(COUNTIF('Trainingsschema 20262027'!B$6:B$26,$A30)>0,"X","") | E30: =IF(COUNTIF('Trainingsschema 20262027'!C$6:C$26,$A30)>0,"X","") | F30: =IF(COUNTIF('Trainingsschema 20262027'!D$6:D$26,$A30)>0,"X","") | G30: =IF(COUNTIF('Trainingsschema 20262027'!E$6:E$26,$A30)>0,"X","") | H30: =IF(COUNTIF('Trainingsschema 20262027'!F$6:F$26,$A30)>0,"X","") | I30: =IF(COUNTIF('Trainingsschema 20262027'!G$6:G$26,$A30)>0,"X","") | J30: =IF(COUNTIF('Trainingsschema 20262027'!H$6:H$26,$A30)>0,"X","") | K30: =IF(COUNTIF('Trainingsschema 20262027'!I$6:I$25,$A30)>0,"X","") | L30: =IF(COUNTIF('Trainingsschema 20262027'!J$6:J$25,$A30)>0,"X","") | M30: =IF(COUNTIF('Trainingsschema 20262027'!K$6:K$26,$A30)>0,"X","") | N30: =IF(COUNTIF('Trainingsschema 20262027'!L$6:L$20,$A30)>0,"X","") | O30: =IF(COUNTIF('Trainingsschema 20262027'!M$6:M$20,$A30)>0,"X","") | P30: =IF(COUNTIF('Trainingsschema 20262027'!N$6:N$25,$A30)>0,"X","") | Q30: =IF(COUNTIF('Trainingsschema 20262027'!O$6:O$25,$A30)>0,"X","") | R30: =IF(COUNTIF('Trainingsschema 20262027'!P$6:P$26,$A30)>0,"X","") | S30: =IF(COUNTIF('Trainingsschema 20262027'!Q$6:Q$26,$A30)>0,"X","") | T30: =IF(COUNTIF('Trainingsschema 20262027'!R$6:R$26,$A30)>0,"X","") | U30: =IF(COUNTIF('Trainingsschema 20262027'!S$6:S$26,$A30)>0,"X","") | V30: =IF(COUNTIF('Trainingsschema 20262027'!T$6:T$26,$A30)>0,"X","") | X30: =IF(COUNTIF('Trainingsschema 20262027'!B$30:B$49,$A30)>0,"X","") | Y30: =IF(COUNTIF('Trainingsschema 20262027'!C$30:C$49,$A30)>0,"X","") | Z30: =IF(COUNTIF('Trainingsschema 20262027'!D$30:D$49,$A30)>0,"X","") | AA30: =IF(COUNTIF('Trainingsschema 20262027'!E$30:E$49,$A30)>0,"X","") | AB30: =IF(COUNTIF('Trainingsschema 20262027'!F$30:F$49,$A30)>0,"X","") | AC30: =IF(COUNTIF('Trainingsschema 20262027'!G$30:G$49,$A30)>0,"X","") | AD30: =IF(COUNTIF('Trainingsschema 20262027'!H$30:H$49,$A30)>0,"X","") | AE30: =IF(COUNTIF('Trainingsschema 20262027'!I$30:I$49,$A30)>0,"X","") | ... AP30: =IF(COUNTIF('Trainingsschema 20262027'!T$30:T$49,$A30)>0,"X","") | AR30: =IF(COUNTIF('Trainingsschema 20262027'!B$53:B$73,$A30)>0,"X","") | AS30: =IF(COUNTIF('Trainingsschema 20262027'!C$53:C$73,$A30)>0,"X","") | AT30: =IF(COUNTIF('Trainingsschema 20262027'!D$53:D$73,$A30)>0,"X","") | AU30: =IF(COUNTIF('Trainingsschema 20262027'!E$53:E$73,$A30)>0,"X","") | AV30: =IF(COUNTIF('Trainingsschema 20262027'!F$53:F$73,$A30)>0,"X","") | AW30: =IF(COUNTIF('Trainingsschema 20262027'!G$53:G$73,$A30)>0,"X","") | AX30: =IF(COUNTIF('Trainingsschema 20262027'!H$53:H$73,$A30)>0,"X","") | AY30: =IF(COUNTIF('Trainingsschema 20262027'!I$53:I$73,$A30)>0,"X","") | AZ30: =IF(COUNTIF('Trainingsschema 20262027'!J$53:J$73,$A30)>0,"X","") | BA30: =IF(COUNTIF('Trainingsschema 20262027'!K$54:K$73,$A30)>0,"X","") | BB30: =IF(COUNTIF('Trainingsschema 20262027'!L$53:L$73,$A30)>0,"X","") | BC30: =IF(COUNTIF('Trainingsschema 20262027'!M$53:M$73,$A30)>0,"X","") | BD30: =IF(COUNTIF('Trainingsschema 20262027'!N$53:N$73,$A30)>0,"X","") | BE30: =IF(COUNTIF('Trainingsschema 20262027'!O$53:O$73,$A30)>0,"X","") | BF30: =IF(COUNTIF('Trainingsschema 20262027'!P$54:P$73,$A30)>0,"X","") | BG30: =IF(COUNTIF('Trainingsschema 20262027'!Q$53:Q$73,$A30)>0,"X","") | BH30: =IF(COUNTIF('Trainingsschema 20262027'!R$53:R$73,$A30)>0,"X","") | BI30: =IF(COUNTIF('Trainingsschema 20262027'!S$53:S$73,$A30)>0,"X","") | BJ30: =IF(COUNTIF('Trainingsschema 20262027'!T$53:T$73,$A30)>0,"X","") | BL30: =IF(COUNTIF('Trainingsschema 20262027'!B$77:B$96,$A30)>0,"X","") | BM30: =IF(COUNTIF('Trainingsschema 20262027'!C$77:C$96,$A30)>0,"X","") | BN30: =IF(COUNTIF('Trainingsschema 20262027'!D$77:D$96,$A30)>0,"X","") -> X | BO30: =IF(COUNTIF('Trainingsschema 20262027'!E$77:E$96,$A30)>0,"X","") -> X | BP30: =IF(COUNTIF('Trainingsschema 20262027'!F$77:F$96,$A30)>0,"X","") | BQ30: =IF(COUNTIF('Trainingsschema 20262027'!G$77:G$96,$A30)>0,"X","") | BR30: =IF(COUNTIF('Trainingsschema 20262027'!H$77:H$96,$A30)>0,"X","") | BS30: =IF(COUNTIF('Trainingsschema 20262027'!I$77:I$96,$A30)>0,"X","") | ... CD30: =IF(COUNTIF('Trainingsschema 20262027'!T$77:T$96,$A30)>0,"X","") | CF30: =IF(COUNTIF('Trainingsschema 20262027'!B$100:B$118,$A30)>0,"X","") | CG30: =IF(COUNTIF('Trainingsschema 20262027'!C$100:C$118,$A30)>0,"X","") | CH30: =IF(COUNTIF('Trainingsschema 20262027'!D$100:D$118,$A30)>0,"X","") | CI30: =IF(COUNTIF('Trainingsschema 20262027'!E$100:E$118,$A30)>0,"X","") | CJ30: =IF(COUNTIF('Trainingsschema 20262027'!F$100:F$118,$A30)>0,"X","") | CK30: =IF(COUNTIF('Trainingsschema 20262027'!G$100:G$118,$A30)>0,"X","") | CL30: =IF(COUNTIF('Trainingsschema 20262027'!H$100:H$118,$A30)>0,"X","") | CM30: =IF(COUNTIF('Trainingsschema 20262027'!I$100:I$118,$A30)>0,"X","") | ... CX30: =IF(COUNTIF('Trainingsschema 20262027'!T$100:T$118,$A30)>0,"X","") | CZ30: =COUNTIF(D30:CX30,"X") -> 4 | DA30: =COUNTIF(X30:AF30,"X")+COUNTIF(AR30:AZ30,"X")+COUNTIF(BL30:BT30,"X")+COUNTIF(CF30:CN30,"X")+COUNTIF(D30:L30,"X") -> 2 | DB30: dinsdag - donderdag 18.30 u.
A31: O14-1 | B31: JO14-1 | C31: ok | D31: =IF(COUNTIF('Trainingsschema 20262027'!B$6:B$26,$A31)>0,"X","") | E31: =IF(COUNTIF('Trainingsschema 20262027'!C$6:C$26,$A31)>0,"X","") | F31: =IF(COUNTIF('Trainingsschema 20262027'!D$6:D$26,$A31)>0,"X","") | G31: =IF(COUNTIF('Trainingsschema 20262027'!E$6:E$26,$A31)>0,"X","") | H31: =IF(COUNTIF('Trainingsschema 20262027'!F$6:F$26,$A31)>0,"X","") | I31: =IF(COUNTIF('Trainingsschema 20262027'!G$6:G$26,$A31)>0,"X","") | J31: =IF(COUNTIF('Trainingsschema 20262027'!H$6:H$26,$A31)>0,"X","") | K31: =IF(COUNTIF('Trainingsschema 20262027'!I$6:I$25,$A31)>0,"X","") | L31: =IF(COUNTIF('Trainingsschema 20262027'!J$6:J$25,$A31)>0,"X","") | M31: =IF(COUNTIF('Trainingsschema 20262027'!K$6:K$26,$A31)>0,"X","") | N31: =IF(COUNTIF('Trainingsschema 20262027'!L$6:L$20,$A31)>0,"X","") -> X | O31: =IF(COUNTIF('Trainingsschema 20262027'!M$6:M$20,$A31)>0,"X","") -> X | P31: =IF(COUNTIF('Trainingsschema 20262027'!N$6:N$25,$A31)>0,"X","") | Q31: =IF(COUNTIF('Trainingsschema 20262027'!O$6:O$25,$A31)>0,"X","") | R31: =IF(COUNTIF('Trainingsschema 20262027'!P$6:P$26,$A31)>0,"X","") | S31: =IF(COUNTIF('Trainingsschema 20262027'!Q$6:Q$26,$A31)>0,"X","") | T31: =IF(COUNTIF('Trainingsschema 20262027'!R$6:R$26,$A31)>0,"X","") | U31: =IF(COUNTIF('Trainingsschema 20262027'!S$6:S$26,$A31)>0,"X","") | V31: =IF(COUNTIF('Trainingsschema 20262027'!T$6:T$26,$A31)>0,"X","") | X31: =IF(COUNTIF('Trainingsschema 20262027'!B$30:B$49,$A31)>0,"X","") -> X | Y31: =IF(COUNTIF('Trainingsschema 20262027'!C$30:C$49,$A31)>0,"X","") -> X | Z31: =IF(COUNTIF('Trainingsschema 20262027'!D$30:D$49,$A31)>0,"X","") | AA31: =IF(COUNTIF('Trainingsschema 20262027'!E$30:E$49,$A31)>0,"X","") | AB31: =IF(COUNTIF('Trainingsschema 20262027'!F$30:F$49,$A31)>0,"X","") | AC31: =IF(COUNTIF('Trainingsschema 20262027'!G$30:G$49,$A31)>0,"X","") | AD31: =IF(COUNTIF('Trainingsschema 20262027'!H$30:H$49,$A31)>0,"X","") | AE31: =IF(COUNTIF('Trainingsschema 20262027'!I$30:I$49,$A31)>0,"X","") | ... AP31: =IF(COUNTIF('Trainingsschema 20262027'!T$30:T$49,$A31)>0,"X","") | AR31: =IF(COUNTIF('Trainingsschema 20262027'!B$53:B$73,$A31)>0,"X","") | AS31: =IF(COUNTIF('Trainingsschema 20262027'!C$53:C$73,$A31)>0,"X","") | AT31: =IF(COUNTIF('Trainingsschema 20262027'!D$53:D$73,$A31)>0,"X","") | AU31: =IF(COUNTIF('Trainingsschema 20262027'!E$53:E$73,$A31)>0,"X","") | AV31: =IF(COUNTIF('Trainingsschema 20262027'!F$53:F$73,$A31)>0,"X","") | AW31: =IF(COUNTIF('Trainingsschema 20262027'!G$53:G$73,$A31)>0,"X","") | AX31: =IF(COUNTIF('Trainingsschema 20262027'!H$53:H$73,$A31)>0,"X","") | AY31: =IF(COUNTIF('Trainingsschema 20262027'!I$53:I$73,$A31)>0,"X","") | AZ31: =IF(COUNTIF('Trainingsschema 20262027'!J$53:J$73,$A31)>0,"X","") | BA31: =IF(COUNTIF('Trainingsschema 20262027'!K$54:K$73,$A31)>0,"X","") | BB31: =IF(COUNTIF('Trainingsschema 20262027'!L$53:L$73,$A31)>0,"X","") | BC31: =IF(COUNTIF('Trainingsschema 20262027'!M$53:M$73,$A31)>0,"X","") | BD31: =IF(COUNTIF('Trainingsschema 20262027'!N$53:N$73,$A31)>0,"X","") | BE31: =IF(COUNTIF('Trainingsschema 20262027'!O$53:O$73,$A31)>0,"X","") | BF31: =IF(COUNTIF('Trainingsschema 20262027'!P$54:P$73,$A31)>0,"X","") | BG31: =IF(COUNTIF('Trainingsschema 20262027'!Q$53:Q$73,$A31)>0,"X","") | BH31: =IF(COUNTIF('Trainingsschema 20262027'!R$53:R$73,$A31)>0,"X","") | BI31: =IF(COUNTIF('Trainingsschema 20262027'!S$53:S$73,$A31)>0,"X","") | BJ31: =IF(COUNTIF('Trainingsschema 20262027'!T$53:T$73,$A31)>0,"X","") | BL31: =IF(COUNTIF('Trainingsschema 20262027'!B$77:B$96,$A31)>0,"X","") -> X | BM31: =IF(COUNTIF('Trainingsschema 20262027'!C$77:C$96,$A31)>0,"X","") -> X | BN31: =IF(COUNTIF('Trainingsschema 20262027'!D$77:D$96,$A31)>0,"X","") | BO31: =IF(COUNTIF('Trainingsschema 20262027'!E$77:E$96,$A31)>0,"X","") | BP31: =IF(COUNTIF('Trainingsschema 20262027'!F$77:F$96,$A31)>0,"X","") | BQ31: =IF(COUNTIF('Trainingsschema 20262027'!G$77:G$96,$A31)>0,"X","") | BR31: =IF(COUNTIF('Trainingsschema 20262027'!H$77:H$96,$A31)>0,"X","") | BS31: =IF(COUNTIF('Trainingsschema 20262027'!I$77:I$96,$A31)>0,"X","") | ... CD31: =IF(COUNTIF('Trainingsschema 20262027'!T$77:T$96,$A31)>0,"X","") | CF31: =IF(COUNTIF('Trainingsschema 20262027'!B$100:B$118,$A31)>0,"X","") | CG31: =IF(COUNTIF('Trainingsschema 20262027'!C$100:C$118,$A31)>0,"X","") | CH31: =IF(COUNTIF('Trainingsschema 20262027'!D$100:D$118,$A31)>0,"X","") | CI31: =IF(COUNTIF('Trainingsschema 20262027'!E$100:E$118,$A31)>0,"X","") | CJ31: =IF(COUNTIF('Trainingsschema 20262027'!F$100:F$118,$A31)>0,"X","") | CK31: =IF(COUNTIF('Trainingsschema 20262027'!G$100:G$118,$A31)>0,"X","") | CL31: =IF(COUNTIF('Trainingsschema 20262027'!H$100:H$118,$A31)>0,"X","") | CM31: =IF(COUNTIF('Trainingsschema 20262027'!I$100:I$118,$A31)>0,"X","") | ... CX31: =IF(COUNTIF('Trainingsschema 20262027'!T$100:T$118,$A31)>0,"X","") | CZ31: =COUNTIF(D31:CX31,"X") -> 6 | DA31: =COUNTIF(X31:AF31,"X")+COUNTIF(AR31:AZ31,"X")+COUNTIF(BL31:BT31,"X")+COUNTIF(CF31:CN31,"X")+COUNTIF(D31:L31,"X") -> 4
A32: O14-2 | B32: JO13-3 | C32: ok | D32: =IF(COUNTIF('Trainingsschema 20262027'!B$6:B$26,$A32)>0,"X","") | E32: =IF(COUNTIF('Trainingsschema 20262027'!C$6:C$26,$A32)>0,"X","") | F32: =IF(COUNTIF('Trainingsschema 20262027'!D$6:D$26,$A32)>0,"X","") | G32: =IF(COUNTIF('Trainingsschema 20262027'!E$6:E$26,$A32)>0,"X","") | H32: =IF(COUNTIF('Trainingsschema 20262027'!F$6:F$26,$A32)>0,"X","") | I32: =IF(COUNTIF('Trainingsschema 20262027'!G$6:G$26,$A32)>0,"X","") | J32: =IF(COUNTIF('Trainingsschema 20262027'!H$6:H$26,$A32)>0,"X","") | K32: =IF(COUNTIF('Trainingsschema 20262027'!I$6:I$25,$A32)>0,"X","") | L32: =IF(COUNTIF('Trainingsschema 20262027'!J$6:J$25,$A32)>0,"X","") | M32: =IF(COUNTIF('Trainingsschema 20262027'!K$6:K$26,$A32)>0,"X","") | N32: =IF(COUNTIF('Trainingsschema 20262027'!L$6:L$20,$A32)>0,"X","") | O32: =IF(COUNTIF('Trainingsschema 20262027'!M$6:M$20,$A32)>0,"X","") | P32: =IF(COUNTIF('Trainingsschema 20262027'!N$6:N$25,$A32)>0,"X","") | Q32: =IF(COUNTIF('Trainingsschema 20262027'!O$6:O$25,$A32)>0,"X","") | R32: =IF(COUNTIF('Trainingsschema 20262027'!P$6:P$26,$A32)>0,"X","") | S32: =IF(COUNTIF('Trainingsschema 20262027'!Q$6:Q$26,$A32)>0,"X","") | T32: =IF(COUNTIF('Trainingsschema 20262027'!R$6:R$26,$A32)>0,"X","") | U32: =IF(COUNTIF('Trainingsschema 20262027'!S$6:S$26,$A32)>0,"X","") | V32: =IF(COUNTIF('Trainingsschema 20262027'!T$6:T$26,$A32)>0,"X","") | X32: =IF(COUNTIF('Trainingsschema 20262027'!B$30:B$49,$A32)>0,"X","") | Y32: =IF(COUNTIF('Trainingsschema 20262027'!C$30:C$49,$A32)>0,"X","") | Z32: =IF(COUNTIF('Trainingsschema 20262027'!D$30:D$49,$A32)>0,"X","") | AA32: =IF(COUNTIF('Trainingsschema 20262027'!E$30:E$49,$A32)>0,"X","") | AB32: =IF(COUNTIF('Trainingsschema 20262027'!F$30:F$49,$A32)>0,"X","") | AC32: =IF(COUNTIF('Trainingsschema 20262027'!G$30:G$49,$A32)>0,"X","") | AD32: =IF(COUNTIF('Trainingsschema 20262027'!H$30:H$49,$A32)>0,"X","") | AE32: =IF(COUNTIF('Trainingsschema 20262027'!I$30:I$49,$A32)>0,"X","") | ... AP32: =IF(COUNTIF('Trainingsschema 20262027'!T$30:T$49,$A32)>0,"X","") | AR32: =IF(COUNTIF('Trainingsschema 20262027'!B$53:B$73,$A32)>0,"X","") | AS32: =IF(COUNTIF('Trainingsschema 20262027'!C$53:C$73,$A32)>0,"X","") | AT32: =IF(COUNTIF('Trainingsschema 20262027'!D$53:D$73,$A32)>0,"X","") | AU32: =IF(COUNTIF('Trainingsschema 20262027'!E$53:E$73,$A32)>0,"X","") | AV32: =IF(COUNTIF('Trainingsschema 20262027'!F$53:F$73,$A32)>0,"X","") | AW32: =IF(COUNTIF('Trainingsschema 20262027'!G$53:G$73,$A32)>0,"X","") | AX32: =IF(COUNTIF('Trainingsschema 20262027'!H$53:H$73,$A32)>0,"X","") | AY32: =IF(COUNTIF('Trainingsschema 20262027'!I$53:I$73,$A32)>0,"X","") | AZ32: =IF(COUNTIF('Trainingsschema 20262027'!J$53:J$73,$A32)>0,"X","") | BA32: =IF(COUNTIF('Trainingsschema 20262027'!K$54:K$73,$A32)>0,"X","") | BB32: =IF(COUNTIF('Trainingsschema 20262027'!L$53:L$73,$A32)>0,"X","") | BC32: =IF(COUNTIF('Trainingsschema 20262027'!M$53:M$73,$A32)>0,"X","") | BD32: =IF(COUNTIF('Trainingsschema 20262027'!N$53:N$73,$A32)>0,"X","") | BE32: =IF(COUNTIF('Trainingsschema 20262027'!O$53:O$73,$A32)>0,"X","") | BF32: =IF(COUNTIF('Trainingsschema 20262027'!P$54:P$73,$A32)>0,"X","") | BG32: =IF(COUNTIF('Trainingsschema 20262027'!Q$53:Q$73,$A32)>0,"X","") | BH32: =IF(COUNTIF('Trainingsschema 20262027'!R$53:R$73,$A32)>0,"X","") | BI32: =IF(COUNTIF('Trainingsschema 20262027'!S$53:S$73,$A32)>0,"X","") | BJ32: =IF(COUNTIF('Trainingsschema 20262027'!T$53:T$73,$A32)>0,"X","") | BL32: =IF(COUNTIF('Trainingsschema 20262027'!B$77:B$96,$A32)>0,"X","") | BM32: =IF(COUNTIF('Trainingsschema 20262027'!C$77:C$96,$A32)>0,"X","") | BN32: =IF(COUNTIF('Trainingsschema 20262027'!D$77:D$96,$A32)>0,"X","") | BO32: =IF(COUNTIF('Trainingsschema 20262027'!E$77:E$96,$A32)>0,"X","") | BP32: =IF(COUNTIF('Trainingsschema 20262027'!F$77:F$96,$A32)>0,"X","") | BQ32: =IF(COUNTIF('Trainingsschema 20262027'!G$77:G$96,$A32)>0,"X","") -> X | BR32: =IF(COUNTIF('Trainingsschema 20262027'!H$77:H$96,$A32)>0,"X","") -> X | BS32: =IF(COUNTIF('Trainingsschema 20262027'!I$77:I$96,$A32)>0,"X","") | ... CD32: =IF(COUNTIF('Trainingsschema 20262027'!T$77:T$96,$A32)>0,"X","") | CF32: =IF(COUNTIF('Trainingsschema 20262027'!B$100:B$118,$A32)>0,"X","") | CG32: =IF(COUNTIF('Trainingsschema 20262027'!C$100:C$118,$A32)>0,"X","") | CH32: =IF(COUNTIF('Trainingsschema 20262027'!D$100:D$118,$A32)>0,"X","") | CI32: =IF(COUNTIF('Trainingsschema 20262027'!E$100:E$118,$A32)>0,"X","") | CJ32: =IF(COUNTIF('Trainingsschema 20262027'!F$100:F$118,$A32)>0,"X","") | CK32: =IF(COUNTIF('Trainingsschema 20262027'!G$100:G$118,$A32)>0,"X","") | CL32: =IF(COUNTIF('Trainingsschema 20262027'!H$100:H$118,$A32)>0,"X","") | CM32: =IF(COUNTIF('Trainingsschema 20262027'!I$100:I$118,$A32)>0,"X","") | ... CX32: =IF(COUNTIF('Trainingsschema 20262027'!T$100:T$118,$A32)>0,"X","") | CZ32: =COUNTIF(D32:CX32,"X") -> 4 | DA32: =COUNTIF(X32:AF32,"X")+COUNTIF(AR32:AZ32,"X")+COUNTIF(BL32:BT32,"X")+COUNTIF(CF32:CN32,"X")+COUNTIF(D32:L32,"X") -> 2
A33: O14-3 | B33: JO13-4 | C33: ok | D33: =IF(COUNTIF('Trainingsschema 20262027'!B$6:B$26,$A33)>0,"X","") | E33: =IF(COUNTIF('Trainingsschema 20262027'!C$6:C$26,$A33)>0,"X","") | F33: =IF(COUNTIF('Trainingsschema 20262027'!D$6:D$26,$A33)>0,"X","") | G33: =IF(COUNTIF('Trainingsschema 20262027'!E$6:E$26,$A33)>0,"X","") | H33: =IF(COUNTIF('Trainingsschema 20262027'!F$6:F$26,$A33)>0,"X","") | I33: =IF(COUNTIF('Trainingsschema 20262027'!G$6:G$26,$A33)>0,"X","") | J33: =IF(COUNTIF('Trainingsschema 20262027'!H$6:H$26,$A33)>0,"X","") | K33: =IF(COUNTIF('Trainingsschema 20262027'!I$6:I$25,$A33)>0,"X","") | L33: =IF(COUNTIF('Trainingsschema 20262027'!J$6:J$25,$A33)>0,"X","") | M33: =IF(COUNTIF('Trainingsschema 20262027'!K$6:K$26,$A33)>0,"X","") | N33: =IF(COUNTIF('Trainingsschema 20262027'!L$6:L$20,$A33)>0,"X","") | O33: =IF(COUNTIF('Trainingsschema 20262027'!M$6:M$20,$A33)>0,"X","") | P33: =IF(COUNTIF('Trainingsschema 20262027'!N$6:N$25,$A33)>0,"X","") | Q33: =IF(COUNTIF('Trainingsschema 20262027'!O$6:O$25,$A33)>0,"X","") | R33: =IF(COUNTIF('Trainingsschema 20262027'!P$6:P$26,$A33)>0,"X","") | S33: =IF(COUNTIF('Trainingsschema 20262027'!Q$6:Q$26,$A33)>0,"X","") | T33: =IF(COUNTIF('Trainingsschema 20262027'!R$6:R$26,$A33)>0,"X","") | U33: =IF(COUNTIF('Trainingsschema 20262027'!S$6:S$26,$A33)>0,"X","") | V33: =IF(COUNTIF('Trainingsschema 20262027'!T$6:T$26,$A33)>0,"X","") | X33: =IF(COUNTIF('Trainingsschema 20262027'!B$30:B$49,$A33)>0,"X","") | Y33: =IF(COUNTIF('Trainingsschema 20262027'!C$30:C$49,$A33)>0,"X","") | Z33: =IF(COUNTIF('Trainingsschema 20262027'!D$30:D$49,$A33)>0,"X","") -> X | AA33: =IF(COUNTIF('Trainingsschema 20262027'!E$30:E$49,$A33)>0,"X","") -> X | AB33: =IF(COUNTIF('Trainingsschema 20262027'!F$30:F$49,$A33)>0,"X","") | AC33: =IF(COUNTIF('Trainingsschema 20262027'!G$30:G$49,$A33)>0,"X","") | AD33: =IF(COUNTIF('Trainingsschema 20262027'!H$30:H$49,$A33)>0,"X","") | AE33: =IF(COUNTIF('Trainingsschema 20262027'!I$30:I$49,$A33)>0,"X","") | ... AP33: =IF(COUNTIF('Trainingsschema 20262027'!T$30:T$49,$A33)>0,"X","") | AR33: =IF(COUNTIF('Trainingsschema 20262027'!B$53:B$73,$A33)>0,"X","") | AS33: =IF(COUNTIF('Trainingsschema 20262027'!C$53:C$73,$A33)>0,"X","") | AT33: =IF(COUNTIF('Trainingsschema 20262027'!D$53:D$73,$A33)>0,"X","") | AU33: =IF(COUNTIF('Trainingsschema 20262027'!E$53:E$73,$A33)>0,"X","") | AV33: =IF(COUNTIF('Trainingsschema 20262027'!F$53:F$73,$A33)>0,"X","") | AW33: =IF(COUNTIF('Trainingsschema 20262027'!G$53:G$73,$A33)>0,"X","") | AX33: =IF(COUNTIF('Trainingsschema 20262027'!H$53:H$73,$A33)>0,"X","") | AY33: =IF(COUNTIF('Trainingsschema 20262027'!I$53:I$73,$A33)>0,"X","") | AZ33: =IF(COUNTIF('Trainingsschema 20262027'!J$53:J$73,$A33)>0,"X","") | BA33: =IF(COUNTIF('Trainingsschema 20262027'!K$54:K$73,$A33)>0,"X","") | BB33: =IF(COUNTIF('Trainingsschema 20262027'!L$53:L$73,$A33)>0,"X","") | BC33: =IF(COUNTIF('Trainingsschema 20262027'!M$53:M$73,$A33)>0,"X","") | BD33: =IF(COUNTIF('Trainingsschema 20262027'!N$53:N$73,$A33)>0,"X","") | BE33: =IF(COUNTIF('Trainingsschema 20262027'!O$53:O$73,$A33)>0,"X","") | BF33: =IF(COUNTIF('Trainingsschema 20262027'!P$54:P$73,$A33)>0,"X","") | BG33: =IF(COUNTIF('Trainingsschema 20262027'!Q$53:Q$73,$A33)>0,"X","") | BH33: =IF(COUNTIF('Trainingsschema 20262027'!R$53:R$73,$A33)>0,"X","") | BI33: =IF(COUNTIF('Trainingsschema 20262027'!S$53:S$73,$A33)>0,"X","") | BJ33: =IF(COUNTIF('Trainingsschema 20262027'!T$53:T$73,$A33)>0,"X","") | BL33: =IF(COUNTIF('Trainingsschema 20262027'!B$77:B$96,$A33)>0,"X","") | BM33: =IF(COUNTIF('Trainingsschema 20262027'!C$77:C$96,$A33)>0,"X","") | BN33: =IF(COUNTIF('Trainingsschema 20262027'!D$77:D$96,$A33)>0,"X","") | BO33: =IF(COUNTIF('Trainingsschema 20262027'!E$77:E$96,$A33)>0,"X","") | BP33: =IF(COUNTIF('Trainingsschema 20262027'!F$77:F$96,$A33)>0,"X","") | BQ33: =IF(COUNTIF('Trainingsschema 20262027'!G$77:G$96,$A33)>0,"X","") | BR33: =IF(COUNTIF('Trainingsschema 20262027'!H$77:H$96,$A33)>0,"X","") | BS33: =IF(COUNTIF('Trainingsschema 20262027'!I$77:I$96,$A33)>0,"X","") | ... CD33: =IF(COUNTIF('Trainingsschema 20262027'!T$77:T$96,$A33)>0,"X","") | CF33: =IF(COUNTIF('Trainingsschema 20262027'!B$100:B$118,$A33)>0,"X","") | CG33: =IF(COUNTIF('Trainingsschema 20262027'!C$100:C$118,$A33)>0,"X","") | CH33: =IF(COUNTIF('Trainingsschema 20262027'!D$100:D$118,$A33)>0,"X","") | CI33: =IF(COUNTIF('Trainingsschema 20262027'!E$100:E$118,$A33)>0,"X","") | CJ33: =IF(COUNTIF('Trainingsschema 20262027'!F$100:F$118,$A33)>0,"X","") | CK33: =IF(COUNTIF('Trainingsschema 20262027'!G$100:G$118,$A33)>0,"X","") | CL33: =IF(COUNTIF('Trainingsschema 20262027'!H$100:H$118,$A33)>0,"X","") | CM33: =IF(COUNTIF('Trainingsschema 20262027'!I$100:I$118,$A33)>0,"X","") | ... CX33: =IF(COUNTIF('Trainingsschema 20262027'!T$100:T$118,$A33)>0,"X","") | CZ33: =COUNTIF(D33:CX33,"X") -> 4 | DA33: =COUNTIF(X33:AF33,"X")+COUNTIF(AR33:AZ33,"X")+COUNTIF(BL33:BT33,"X")+COUNTIF(CF33:CN33,"X")+COUNTIF(D33:L33,"X") -> 2 | DB33: dinsdag - donderdag 18.30 u.
